{"text_format":"1","workbook":"xlsx","n_sheets":26,"sheets":["1632-2021-2.1.2,2.1.7-АР1","1632-2021-2.2.1-АР","1632-2021-2.2.6-АР","1632-2021-2.2.2-АР","свод","1632-2021-2.2.7-АР","1632-2021-2.1.1-АР","1632-2021-1.1,1.2,2.1.0-АР","1632-2021-2.2.4,2.1.6-АР","1632-2021-2.2.5,2.1.13 -АР","2-1632-2021-1.1,1.2,2.1.0-АР","1632-2021-2.2.3-АР","1-1632-2021-2.1.2,2.1.7-АР1","1632-2021-2.1.11-АР","1632-2021-2.1.2,2.1.7-АР3","1632-2021-2.1.2,2.1.7-АР2","1632-2021-3.1-АС","1632-2021-3.3-АР.СУБ","3-1632-2021-2.1.2,2.1.7-АР2","1632-2021-3.1-АР","1632-2021-2.1.4-АР","1-1632-2021-2.1.2,2.1.7-АР3","1632-2021-2.1.5-АР","1632-2021-2.1.12-АР","1632-2021-2.1.3","1632-2021-3.3.9-АР"],"not_rendered":{"charts":0,"images":0,"macros":1,"external_links":0,"defined_names":50,"comments":0,"pivot_tables":0},"unopened":[],"bounds":{"document_bytes":16777216,"sheet_cells":100000,"rows_first":2000,"rows_last":500,"rows_between":2000,"halvings":0,"cell_chars":16384,"cell_head_chars":4096},"cells_cut":0,"cells_raw":0,"read":"whole","date_system":"1900"}

{"sheet":"1632-2021-2.1.2,2.1.7-АР1","index":0,"n_rows":165,"n_cols":10,"rows_kept":165,"cut":false,"hidden":false,"merged":[[3,0,3,4]]}
[]
["Терминал по перевалке минеральных удобрений в морском торговом порту Усть-Луга. Береговые объекты терминала"]
["(наименование стройки)"]
["1632-2021-2.1.2, 2.1.7-АР1-07.04.046-П-00-00"]
["(локальная смета)"]
["на Архитектурные решения, Конвейерная галерея №7"]
["(наименование работ и затрат, наименование объекта)"]
[null,"Основание:","1632-2021-2.1.2, 2.1.7-АР1_0_0_RU_IFС"]
[]
["№ п/п","Обоснование","Наименование работ и затрат","Ед. изм.","Кол-во","Цена за ед.измерения работ, руб. с НДС","Всего, стоимость работ,руб. с НДС","Цена за ед.измерения материалов, руб. с НДС","Всего, стоимость материалов, руб. с НДС","Итого, руб. с НДС"]
[1,2,3,4,5,6,7,8,9,10]
["Раздел 2. Кровля",null,null,null,null,null,null,null,null,{"$f":"G12+I12","v":0}]
["Монтаж кровельного покрытия  из профнастила учтен в разделе КМ",null,null,null,null,null,null,null,null,0]
["1632-2021-2.1.2, 2.1.7-АР1.  ( в осях 1-7 )",null,null,null,null,null,null,null,null,0]
["Кровля плоская",null,null,null,null,null,null,null,null,0]
["1","ТЕР11-01-009-02","Устройство тепло- и звукоизоляции сплошной из плит: древесноволокнистых // прим. ЦСП","100 м2 изолируемой поверхности",1.9630000000000001,{"$f":"G16/E16","v":36149.69},70961.850000000006,{"$f":"I16/E16","v":0},0,70961.850000000006]
["2","ТЦ_01.6.01.10_78_7810994931_08.02.2024_02","ЦСП 13200х1200х8","м2",404.38,{"$f":"G17/E17","v":0},0,{"$f":"I17/E17","v":496.75},200877.47,200877.47]
["3","ТЕР12-01-002-09","Устройство кровель плоских из наплавляемых материалов: в два слоя","100 м2 кровли",1.9630000000000001,{"$f":"G18/E18","v":34049.75},66839.649999999994,{"$f":"I18/E18","v":1974.08},3875.11,70714.759999999995]
[null,"101-2278","Пропан-бутан, смесь техническая","кг",null,null,null,null,null,0]
["4","ТЦ_12.0.00.00_78_7826181040_08.02.2024_02","Техноэласт Пламя Стоп","м2",223.78,{"$f":"G20/E20","v":0},0,{"$f":"I20/E20","v":527.11},117956.53,117956.53]
["5","ТЦ_12.0.00.00_78_7826181040_08.02.2024_02","Техноэласт ЭПП","м2",227.71,{"$f":"G21/E21","v":0},0,{"$f":"I21/E21","v":417.88},95155.6,95155.6]
["6","ТЕР12-01-009-02","Устройство желобов: подвесных","100 м желобов",0.74350000000000005,{"$f":"G22/E22","v":65794.880000000005},48918.49,{"$f":"I22/E22","v":21888.53},16274.12,65192.61]
[null,"101-0173","Гвозди проволочные оцинкованные для асбестоцементной кровли: 4,5х120 мм","т",null,null,null,null,null,0]
[null,"101-0788","Поковки оцинкованные, масса: 2,825 кг","т",null,null,null,null,null,0]
["7","ТЦ_12.1.01.00_78_7804606806_25.01.2024_02","Желоб водосточный D185х3000","шт",25,{"$f":"G25/E25","v":0},0,{"$f":"I25/E25","v":1709.47},42736.67,42736.67]
["8","ТЦ_12.1.01.00_78_7804606806_25.01.2024_02","Держатель желоба","шт",130,{"$f":"G26/E26","v":0},0,{"$f":"I26/E26","v":754.15},98039.6,98039.6]
["9","ТЕР12-01-008-01","Устройство обделок на фасадах (наружные подоконники, пояски, балконы и др.): включая водосточные трубы, с изготовлением элементов труб// прим.","100 м2фасада (без вычета проемов)",6.8906000000000001,{"$f":"G27/E27","v":27777.360000000001},191402.66,{"$f":"I27/E27","v":2212.69},15246.76,206649.42]
[null,"101-0195","Гвозди толевые круглые: 3,0х40 мм","т",null,null,null,null,null,0]
[null,"101-0788","Поковки оцинкованные, масса: 2,825 кг","т",null,null,null,null,null,0]
[null,"101-0795","Проволока канатная оцинкованная, диаметром: 3 мм","т",null,null,null,null,null,0]
["10","ТЦ_12.1.01.00_78_7804606806_25.01.2024_02","Труба водосточная D150х2000мм","шт",93,{"$f":"G31/E31","v":0},0,{"$f":"I31/E31","v":2084.1799999999998},193828.56,193828.56]
["11","ТЦ_12.1.01.00_78_7804606806_25.01.2024_02","Крепление трубы","шт",195,{"$f":"G32/E32","v":0},0,{"$f":"I32/E32","v":314.87},61400.09,61400.09]
["12","ТЦ_12.1.01.00_78_7804606806_25.01.2024_02","Колено гофрированное","шт",30,{"$f":"G33/E33","v":0},0,{"$f":"I33/E33","v":478.84},14365.19,14365.19]
["13","ТЦ_12.1.01.00_78_7804606806_25.01.2024_02","Заглушка","шт",10,{"$f":"G34/E34","v":0},0,{"$f":"I34/E34","v":373.47},3734.67,3734.67]
["14","ТЦ_12.1.01.00_78_7804606806_25.01.2024_02","Колено сливное  D150","шт",12,{"$f":"G35/E35","v":0},0,{"$f":"I35/E35","v":478.84},5746.08,5746.08]
["15","ТЦ_12.1.01.00_78_7804606806_25.01.2024_02","Воронки выпускные D185/150","шт",12,{"$f":"G36/E36","v":0},0,{"$f":"I36/E36","v":808.02},9696.2199999999993,9696.2199999999993]
["16","ТЕР12-01-012-01","Ограждение кровель перилами // прим.","100 м ограждения",0.74,{"$f":"G37/E37","v":16110.61},11921.85,{"$f":"I37/E37","v":402.08},297.54000000000002,12219.39]
[null,"101-1529","Электроды диаметром: 6 мм Э42","т",null,null,null,null,null,0]
[null,"101-1851","Резина прессованная","кг",null,null,null,null,null,0]
["17","ТЦ_12.1.01.00_78_7804606806_25.01.2024_02","Снегозадержатель трубчатый (L=3 м. в комплекте с креплением)","шт",25,{"$f":"G40/E40","v":0},0,{"$f":"I40/E40","v":2407.39},60184.65,60184.65]
["18",null,"Ограждение кровли h=600 мм. учтено в разделе КМ","м",194.9,{"$f":"G41/E41","v":0},0,{"$f":"I41/E41","v":0},0,0]
["Раздел 3. Окна",null,null,null,null,null,null,null,null,0]
["1632-2021-2.1.2, 2.1.7-АР1.  ( в осях 1-7 )",null,null,null,null,null,null,null,null,0]
["19","ТЕР10-01-034-05","Установка в жилых и общественных зданиях оконных блоков из ПВХ профилей: поворотных (откидных, поворотно-откидных) с площадью проема до 2 м2 двухстворчатых","100 м2 проемов",1.8064,{"$f":"G44/E44","v":408218.66},737406.18,{"$f":"I44/E44","v":128138.08},231468.62,968874.8]
[null,"101-2052","Лента бутиловая","м",null,null,null,null,null,0]
[null,"101-2054","Лента бутиловая диффузионная","м",null,null,null,null,null,0]
[null,"101-2388","Герметик пенополиуретановый (пена монтажная) типа Makrofleks, Soudal в баллонах по 750 мл","шт.",null,null,null,null,null,0]
[null,"101-2789","Лента ПСУЛ","10 м",null,null,null,null,null,0]
[null,"101-4173","Дюбели монтажные 10х130 (10х132, 10х150) мм","10 шт.",null,null,null,null,null,0]
[null,"102-0303","Клинья пластиковые монтажные","100 шт.",null,null,null,null,null,0]
["20","ТЦ_07.1.02.00_78_7840318754_30.01.2024_02","ОК-1.,ОК-1* 1200х1400","шт",10,{"$f":"G51/E51","v":0},0,{"$f":"I51/E51","v":15738.26},157382.62,157382.62]
["21","ТЦ_07.1.02.00_78_7840318754_30.01.2024_02","ОК-2.  1000х1400","шт",8,{"$f":"G52/E52","v":0},0,{"$f":"I52/E52","v":13609.67},108877.37,108877.37]
["22","ТЦ_07.1.02.00_78_7840318754_30.01.2024_02","ОК-3.  1200х1200","шт",1,{"$f":"G53/E53","v":0},0,{"$f":"I53/E53","v":14317.16},14317.16,14317.16]
["23","ТЕР15-01-070-01","Облицовка: оконных проемов в наружных стенах откосной планкой из оцинкованной стали с полимерным покрытием с устройством водоотлива оконного из оцинкованной стали с полимерным покрытием","1 м2 проемов",180.64,{"$f":"G54/E54","v":3276.74},591909.48,{"$f":"I54/E54","v":1423.83},257200.59,849110.07]
[null,"101-1691","Шурупы-саморезы 4,2х16 мм","100 шт.",null,null,null,null,null,0]
[null,"101-2409","Аквилон из оцинкованной стали с полимерным покрытием","п.м",null,null,null,null,null,0]
[null,"101-2410","Откосная планка шириной 250 мм из оцинкованной стали с полимерным покрытием","п.м",null,null,null,null,null,0]
[null,"101-2411","Водоотлив оконный шириной планки 250 мм из оцинкованной стали с полимерным покрытием","п.м",null,null,null,null,null,0]
["Раздел 4. Дверные проемы",null,null,null,null,null,null,null,null,0]
["1632-2021-2.1.2, 2.1.7-АР1.  ( в осях 1-7 )",null,null,null,null,null,null,null,null,0]
["24","ТЕР09-04-012-01","Установка металлических дверных блоков в готовые проемы","1 м2 проема",4.2,{"$f":"G61/E61","v":6003.1},25213.040000000001,{"$f":"I61/E61","v":327.69},1376.28,26589.32]
[null,"101-1513","Электроды диаметром: 4 мм Э42","т",null,null,null,null,null,0]
[null,"101-1921","Пена монтажная: для герметизации стыков в баллончике емкостью 0,85 л","шт.",null,null,null,null,null,0]
[null,"204-0062","Детали закладные и накладные изготовленные: без применения сварки, гнутья, сверления (пробивки) отверстий поставляемые отдельно","т",null,null,null,null,null,0]
["25","ТЦ_07.1.01.03_78_7841375755_25.01.2024_02","Дверь стальная внутренняя 1000х2100","шт",2,{"$f":"G65/E65","v":0},0,{"$f":"I65/E65","v":25965.83},51931.65,51931.65]
["26","ТЕР09-04-013-01","Установка противопожарных дверей: однопольных глухих","1 м2 проема",12.6,{"$f":"G66/E66","v":5120.13},64513.65,{"$f":"I66/E66","v":675.03},8505.35,73019]
[null,"101-1513","Электроды диаметром: 4 мм Э42","т",null,null,null,null,null,0]
[null,"101-1929","Болты анкерные","т",null,null,null,null,null,0]
[null,"101-3661","Пена монтажная: противопожарная полиуретановая NULLIFIRE (0,88 л)","шт.",null,null,null,null,null,0]
["27","ТЦ_07.1.01.03_78_7841375755_25.01.2024_02","Дверь противопожарная металлическая: однопольная ДПС-01/30, размером 1000х2100 мм","шт",2,{"$f":"G70/E70","v":0},0,{"$f":"I70/E70","v":25965.83},51931.65,51931.65]
["28","ТЦ_07.1.01.03_78_7841375755_25.01.2024_02","Дверь противопожарная металлическая: однопольная ДПС-01/60, размером 1000х2100 мм","шт",4,{"$f":"G71/E71","v":0},0,{"$f":"I71/E71","v":25965.83},103863.31,103863.31]
["29","ТЕР15-01-070-02","Облицовка: дверных проемов в наружных стенах откосной планкой из оцинкованной стали с полимерным покрытием с установкой наличников из оцинкованной стали с полимерным покрытием","1 м2 проемов",16.8,{"$f":"G72/E72","v":3593.87},60376.99,{"$f":"I72/E72","v":1660.7},27899.74,88276.73]
[null,"101-1691","Шурупы-саморезы 4,2х16 мм","100 шт.",null,null,null,null,null,0]
[null,"101-2409","Аквилон из оцинкованной стали с полимерным покрытием","п.м",null,null,null,null,null,{"$f":"G74+I74","v":0}]
[null,"101-2410","Откосная планка шириной 250 мм из оцинкованной стали с полимерным покрытием","п.м",null,null,null,null,null,0]
[null,"101-2412","Наличники из оцинкованной стали с полимерным покрытием","п.м",null,null,null,null,null,0]
["Раздел 5. Полы",null,null,null,null,null,null,null,null,0]
["1632-2021-2.1.2, 2.1.7-АР1.  ( в осях 1-7 )",null,null,null,null,null,null,null,null,0]
["Тип 1.  S=4,67 м2.,  Тип 2.  S=1678,94 м2",null,null,null,null,null,null,null,null,0]
["30","ТЕР11-01-011-03","Устройство стяжек: бетонных толщиной 20 мм","100 м2 стяжки",16.836099999999998,{"$f":"G80/E80","v":83767.95},1410325.6,{"$f":"I80/E80","v":94.05},1583.45,1411909.05]
[null,"411-0001","Вода","м3",null,null,null,null,null,0]
["31","ТЕР11-01-011-04","Устройство стяжек: на каждые 5 мм изменения толщины стяжки добавлять или исключать к расценке 11-01-011-03 // до толщ. 30 мм","100 м2 стяжки",16.836099999999998,{"$f":"G82/E82","v":3226.61},54323.59,{"$f":"I82/E82","v":0},0,54323.59]
["32","ТЦ_59.1.04.01_47_4705078395_08.02.2024_02","Бетон  В22,5","м3",51.518000000000001,{"$f":"G83/E83","v":0},0,{"$f":"I83/E83","v":5087.84},262115.48,262115.48]
["33","ТЕР11-01-020-03","Устройство покрытий поливинилацетатных: толщиной 3 мм // прим. покрытие полимерное","100 м2 покрытия",16.836099999999998,{"$f":"G84/E84","v":180031.65},3031030.9,{"$f":"I84/E84","v":147312.06},2480160.64,5511191.54]
[null,"101-0430","Краски масляные и алкидные земляные, готовые к применению: сурик железный МА-15, ПФ-14","т",null,null,null,null,null,0]
[null,"101-0433","Краски масляные и алкидные земляные, готовые к применению: охра МА-15","т",null,null,null,null,null,0]
[null,"101-1305","Портландцемент общестроительного назначения бездобавочный, марки: 400","т",null,null,null,null,null,0]
[null,"101-1591","Смола каменноугольная для дорожного строительства","т",null,null,null,null,null,0]
[null,"101-2293","Кислота ортофосфорная: техническая, сорт I","т",null,null,null,null,null,0]
[null,"101-2358","Дисперсия поливинилацетатная непластифицированная марки Д50Н","кг",null,null,null,null,null,0]
[null,"113-0306","Маршалит","т",null,null,null,null,null,0]
[null,"408-0122","Песок природный для строительных: работ средний","м3",null,null,null,null,null,0]
[null,"411-0001","Вода","м3",null,null,null,null,null,0]
["Тип 3.  S=346,0 м2",null,null,null,null,null,null,null,null,0]
["34","ТЕР11-01-011-03","Устройство стяжек: бетонных толщиной 20 мм","100 м2 стяжки",3.46,{"$f":"G95/E95","v":83767.95},289837.11,{"$f":"I95/E95","v":94.05},325.41000000000003,290162.52]
[null,"411-0001","Вода","м3",null,null,null,null,null,0]
["35","ТЕР11-01-011-04","Устройство стяжек: на каждые 5 мм изменения толщины стяжки добавлять или исключать к расценке 11-01-011-03","100 м2 стяжки",3.46,{"$f":"G97/E97","v":17746.52},61402.96,{"$f":"I97/E97","v":0},0,61402.96]
["36","ТЦ_59.1.04.01_47_4705078395_08.02.2024_02","Бетон  В22,5","м3",26.469000000000001,{"$f":"G98/E98","v":0},0,{"$f":"I98/E98","v":5087.84},134670.10999999999,134670.10999999999]
["37","ТЕР06-01-015-10","Армирование подстилающих слоев и набетонок","1 т",0.95150000000000001,{"$f":"G99/E99","v":27716.03},26371.8,{"$f":"I99/E99","v":3009.64},2863.67,29235.47]
[null,"101-0816","Проволока светлая диаметром: 1,1 мм","т",null,null,null,null,null,0]
["38","ТЦ_08.4.02.05_78_7816587756_08.02.2024_02","Сетка арм. 100х100 5Вр1","м2",346,{"$f":"G101/E101","v":0},0,{"$f":"I101/E101","v":209.5},72487.05,72487.05]
["39","ТЕР11-01-020-03","Устройство покрытий поливинилацетатных: толщиной 3 мм // прим. покрытие полимерное","100 м2 покрытия",3.46,{"$f":"G102/E102","v":166529.04},576190.49,{"$f":"I102/E102","v":147312.06},509699.74,1085890.23]
[null,"101-0430","Краски масляные и алкидные земляные, готовые к применению: сурик железный МА-15, ПФ-14","т",null,null,null,null,null,0]
[null,"101-0433","Краски масляные и алкидные земляные, готовые к применению: охра МА-15","т",null,null,null,null,null,0]
[null,"101-1305","Портландцемент общестроительного назначения бездобавочный, марки: 400","т",null,null,null,null,null,0]
[null,"101-1591","Смола каменноугольная для дорожного строительства","т",null,null,null,null,null,0]
[null,"101-2293","Кислота ортофосфорная: техническая, сорт I","т",null,null,null,null,null,0]
[null,"101-2358","Дисперсия поливинилацетатная непластифицированная марки Д50Н","кг",null,null,null,null,null,0]
[null,"113-0306","Маршалит","т",null,null,null,null,null,0]
[null,"408-0122","Песок природный для строительных: работ средний","м3",null,null,null,null,null,0]
[null,"411-0001","Вода","м3",null,null,null,null,null,0]
["Тип 5.  S=11,60 м2",null,null,null,null,null,null,null,null,0]
["40","ТЕР11-01-011-03","Устройство стяжек: бетонных толщиной 20 мм","100 м2 стяжки",0.11600000000000001,{"$f":"G113/E113","v":83759.14},9716.06,{"$f":"I113/E113","v":93.97},10.9,9726.9599999999991]
[null,"411-0001","Вода","м3",null,null,null,null,null,0]
["41","ТЕР11-01-011-04","Устройство стяжек: на каждые 5 мм изменения толщины стяжки добавлять или исключать к расценке 11-01-011-03","100 м2 стяжки",0.11600000000000001,{"$f":"G115/E115","v":25808.53},2993.79,{"$f":"I115/E115","v":0},0,2993.79]
["42","ТЦ_59.1.04.01_47_4705078395_08.02.2024_02","Бетон  В22,5","м3",1.1830000000000001,{"$f":"G116/E116","v":0},0,{"$f":"I116/E116","v":5087.84},6018.92,6018.92]
["43","ТЕР11-01-020-03","Устройство покрытий поливинилацетатных: толщиной 3 мм // прим. покрытие полимерное","100 м2 покрытия",0.11600000000000001,{"$f":"G117/E117","v":180025.86},20883,{"$f":"I117/E117","v":147312.16},17088.21,37971.21]
[null,"101-0430","Краски масляные и алкидные земляные, готовые к применению: сурик железный МА-15, ПФ-14","т",null,null,null,null,null,0]
[null,"101-0433","Краски масляные и алкидные земляные, готовые к применению: охра МА-15","т",null,null,null,null,null,0]
[null,"101-1305","Портландцемент общестроительного назначения бездобавочный, марки: 400","т",null,null,null,null,null,0]
[null,"101-1591","Смола каменноугольная для дорожного строительства","т",null,null,null,null,null,0]
[null,"101-2293","Кислота ортофосфорная: техническая, сорт I","т",null,null,null,null,null,0]
[null,"101-2358","Дисперсия поливинилацетатная непластифицированная марки Д50Н","кг",null,null,null,null,null,0]
[null,"113-0306","Маршалит","т",null,null,null,null,null,0]
[null,"408-0122","Песок природный для строительных: работ средний","м3",null,null,null,null,null,0]
[null,"411-0001","Вода","м3",null,null,null,null,null,0]
["Тип 7.  S=72,27 м2",null,null,null,null,null,null,null,null,0]
["44","ТЕР11-01-009-01","Устройство тепло- и звукоизоляции сплошной из плит: или матов минераловатных или стекловолокнистых","100 м2 изолируемой поверхности",0.72270000000000001,{"$f":"G128/E128","v":67009.7},48427.91,{"$f":"I128/E128","v":25129.43},18161.04,66588.95]
[null,"104-0013","Маты прошивные из минеральной ваты: без обкладок М-125 (ГОСТ 21880-86), толщина 40 мм","м3",null,null,null,null,null,0]
["45","ТЕР11-01-050-01","Устройство пароизоляции из полиэтиленовой пленки в один слой насухо","100 м2 поверхности",0.72270000000000001,{"$f":"G130/E130","v":7473.42},5401.04,{"$f":"I130/E130","v":19003.68},13733.96,19135]
[null,"113-0324","Пленка полиэтиленовая толщиной: 0,2-0,5 мм","м2",null,null,null,null,null,0]
["46","ТЕР11-01-011-03","Устройство стяжек: бетонных толщиной 20 мм","100 м2 стяжки",0.72270000000000001,{"$f":"G132/E132","v":83766.03},60537.71,{"$f":"I132/E132","v":94.04},67.959999999999994,60605.67]
[null,"411-0001","Вода","м3",null,null,null,null,null,0]
["47","ТЕР11-01-011-04","Устройство стяжек: на каждые 5 мм изменения толщины стяжки добавлять или исключать к расценке 11-01-011-03","100 м2 стяжки",0.72270000000000001,{"$f":"G134/E134","v":14518.68},10492.65,{"$f":"I134/E134","v":0},0,10492.65]
["48","ТЦ_59.1.04.01_47_4705078395_08.02.2024_02","Бетон  В22,5","м3",4.7919999999999998,{"$f":"G135/E135","v":0},0,{"$f":"I135/E135","v":5087.84},24380.94,24380.94]
["49","ТЕР06-01-015-10","Армирование подстилающих слоев и набетонок","1 т",0.126473,{"$f":"G136/E136","v":27715.56},3505.27,{"$f":"I136/E136","v":3009.58},380.63,3885.9]
[null,"101-0816","Проволока светлая диаметром: 1,1 мм","т",null,null,null,null,null,0]
["50","ТЦ_08.4.02.05_66_6686134976_08.02.2024_02","Сетка арм. 100х100 4Вр1","м2",72.27,{"$f":"G138/E138","v":0},0,{"$f":"I138/E138","v":116.07},8388.4599999999991,{"$f":"G138+I138","v":8388.4599999999991}]
["51","ТЕР11-01-020-03","Устройство покрытий поливинилацетатных: толщиной 3 мм // прим. покрытие полимерное","100 м2 покрытия",0.72270000000000001,{"$f":"G139/E139","v":180030.04},130107.71,{"$f":"I139/E139","v":147312.04999999999},106462.42,236570.13]
[null,"101-0430","Краски масляные и алкидные земляные, готовые к применению: сурик железный МА-15, ПФ-14","т",null,null,null,null,null,0]
[null,"101-0433","Краски масляные и алкидные земляные, готовые к применению: охра МА-15","т",null,null,null,null,null,0]
[null,"101-1305","Портландцемент общестроительного назначения бездобавочный, марки: 400","т",null,null,null,null,null,0]
[null,"101-1591","Смола каменноугольная для дорожного строительства","т",null,null,null,null,null,0]
[null,"101-2293","Кислота ортофосфорная: техническая, сорт I","т",null,null,null,null,null,0]
[null,"101-2358","Дисперсия поливинилацетатная непластифицированная марки Д50Н","кг",null,null,null,null,null,0]
[null,"113-0306","Маршалит","т",null,null,null,null,null,0]
[null,"408-0122","Песок природный для строительных: работ средний","м3",null,null,null,null,null,0]
[null,"411-0001","Вода","м3",null,null,null,null,null,0]
["Раздел 6. Отделка",null,null,null,null,null,null,null,null,0]
["Цоколь",null,null,null,null,null,null,null,null,0]
["1632-2021-2.1.2, 2.1.7-АР1.  ( в осях 1-7 )",null,null,null,null,null,null,null,null,0]
["52","ТЕР11-01-015-07","Шлифовка бетонных или металлоцементных покрытий // прим.","100 м2 покрытия",0.54,{"$f":"G152/E152","v":191486.48},103402.7,{"$f":"I152/E152","v":180.13},97.27,103499.97]
[null,"101-2109","Карборунд","кг",null,null,null,null,null,0]
[null,"411-0001","Вода","м3",null,null,null,null,null,0]
["53","ТЕР15-04-015-02","Окраска фасадов с люлек с подготовкой поверхности: силикатная // прим.","100 м2 фасада",0.54,{"$f":"G155/E155","v":71762.759999999995},38751.89,{"$f":"I155/E155","v":8107.43},4378.01,43129.9]
[null,"101-1757","Ветошь","кг",null,null,null,null,null,0]
[null,"101-1841","Краски силикатные зеленая и красная","т",null,null,null,null,null,0]
[null,"113-0043","Жидкость: гидрофобизирующая ГКЖ-10","т",null,null,null,null,null,0]
[null,"113-0368","Стекло жидкое калийное","т",null,null,null,null,null,0]
[null,"402-0083","Раствор готовый отделочный тяжелый,: цементно-известковый 1:1:6","м3",null,null,null,null,null,0]
[null,"409-0639","Пемза шлаковая (щебень пористый из металлургического шлака), марка 600, фракция 5-10 мм","м3",null,null,null,null,null,0]
[null,"411-0001","Вода","м3",null,null,null,null,null,0]
["Окраска конструкций стен и потолков из профлиста, учтена в сметах к разделу КМ",null,null,null,null,null,null,null,null,0]
[null,null,"Всего, руб. с НДС",null,null,null,{"$f":"SUM(G12:G163)","v":7753166.0199999996},null,{"$f":"SUM(I12:I163)","v":5617243.4699999997},{"$f":"SUM(J12:J163)","v":13370409.49}]
[null,null,"Всего, руб. без НДС",null,null,null,{"$f":"G164/1.2","v":6460971.6799999997},null,{"$f":"I164/1.2","v":4681036.2300000004},{"$f":"J164/1.2","v":11142007.91}]

{"sheet":"1632-2021-2.2.1-АР","index":1,"n_rows":367,"n_cols":22,"rows_kept":367,"cut":false,"hidden":false,"merged":[[3,0,3,4]]}
[]
["Терминал по перевалке минеральных удобрений в морском торговом порту Усть-Луга. Береговые объекты терминала"]
["(наименование стройки)"]
["1632-2021-2.2.1-АР_07.04.020-П-00-00"]
["(локальная смета)"]
["на Архитектурные решения, Пересыпная станция № 1"]
["(наименование работ и затрат, наименование объекта)"]
[null,"Основание:","1632-2021-2.2.1-АР   Арх.№ 15689"]
[]
["№ п/п","Обоснование","Наименование работ и затрат","Ед. изм.","Кол-во","Цена за ед.измерения работ, руб. с НДС","Всего, стоимость работ,руб. с НДС","Цена за ед.измерения материалов, руб. с НДС","Всего, стоимость материалов, руб. с НДС","Итого, руб. с НДС"]
[1,2,3,4,5,6,7,8,9,10]
["Раздел 1. Фасадные работы",null,null,null,null,null,null,null,null,{"$f":"G12+I12","v":0}]
["Раздел 2. Перегородки",null,null,null,null,null,null,null,null,0]
["1","ТЕР10-04-011-04","Устройство перегородок высотой до 3 м в общественных зданиях с двусторонней обшивкой гипсокартонными листами или гипсоволокнистыми плитами: в два слоя с изоляцией","100 м2 перегородок (за вычетом проемов)",0.71,{"$f":"G14/E14","v":655636.73},465502.08,{"$f":"I14/E14","v":63210.75},44879.63,510381.71]
[null,"101-0137","Дюбели с калиброванной головкой (в обоймах): 3х58,5 мм","т",null,null,null,null,null,0]
[null,"101-0622","Миткаль «Т-2» суровый (суровье)","10 м",null,null,null,null,null,0]
[null,"101-0848","Пластина губчатая из резины АФ-1","кг",null,null,null,null,null,0]
[null,"101-1680","Патроны для строительно-монтажного пистолета","1000 шт.",null,null,null,null,null,0]
[null,"101-1735","Винты самонарезающие: СМ1-35","т",null,null,null,null,null,0]
[null,"101-1736","Профили холодногнутые из оцинкованной стали толщиной: 0,5-0,55 мм, сумма размеров равная ширине исходной заготовки 101-150 мм","т",null,null,null,null,null,0]
[null,"101-1737","Профили холодногнутые из оцинкованной стали толщиной: 0,5-0,55 мм, сумма размеров равная ширине исходной заготовки 151-200 мм","т",null,null,null,null,null,0]
[null,"101-1840","Клей малярный жидкий","кг",null,null,null,null,null,0]
[null,"101-2358","Дисперсия поливинилацетатная непластифицированная марки Д50Н","кг",null,null,null,null,null,0]
[null,"101-2505","Мастика клеящая кумаронокаучуковая КН-3","т",null,null,null,null,null,0]
[null,"113-0304","Клей резиновый: № 88-Н","кг",null,null,null,null,null,0]
[null,"405-0219","Гипсовые вяжущие, марка: Г3","т",null,null,null,null,null,0]
["2","ТЦ_01.6.01.02_97_9706006145_22.02.2024_02","Листы гипсокартонные ГКЛВО","м2",298.2,{"$f":"G27/E27","v":0},0,{"$f":"I27/E27","v":296.45999999999998},88404.58,88404.58]
["3","ТССЦ-104-0150","Плиты из минеральной ваты: на синтетическом связующем М-75 // прим.","м3",7.3129999999999997,{"$f":"G28/E28","v":0},0,{"$f":"I28/E28","v":5850.36},42783.69,42783.69]
["Раздел 3. Кровля",null,null,null,null,null,null,null,null,0]
["Монтаж кровельного покрытия  из профнастила учтен в разделе КМ",null,null,null,null,null,null,null,null,0]
["Мягкая кровля S=470 м2",null,null,null,null,null,null,null,null,0]
["4","ТЕР12-01-015-01","Устройство пароизоляции: оклеечной в один слой","100 м2 изолируемой поверхности",4.7,{"$f":"G32/E32","v":41937.519999999997},197106.35,{"$f":"I32/E32","v":20987.25},98640.09,295746.44]
[null,"101-0078","Битумы нефтяные строительные кровельные марки: БНК-45/190, БНК-45/180","т",null,null,null,null,null,0]
[null,"101-0322","Керосин для технических целей марок КТ-1, КТ-2","т",null,null,null,null,null,0]
[null,"101-0594","Мастика битумная кровельная горячая","т",null,null,null,null,null,0]
[null,"101-0856","Рубероид кровельный с пылевидной посыпкой марки РКП-350б","м2",null,null,null,null,null,0]
["5","ТЕР12-01-013-01","Утепление покрытий плитами: из пенопласта  полистирольного на битумной мастике в один слой  ( толщ. 100 мм.)","100 м2 утепляемого покрытия",4.7,{"$f":"G37/E37","v":47540.11},223438.53,{"$f":"I37/E37","v":13352.39},62756.21,286194.74]
[null,"101-0078","Битумы нефтяные строительные кровельные марки: БНК-45/190, БНК-45/180","т",null,null,null,null,null,0]
[null,"101-0322","Керосин для технических целей марок КТ-1, КТ-2","т",null,null,null,null,null,0]
[null,"101-0594","Мастика битумная кровельная горячая","т",null,null,null,null,null,0]
["6","ТЕР12-01-013-02","Утепление покрытий плитами: на каждый последующий слой добавлять к расценке 12-01-013-01","100 м2 утепляемого покрытия",4.7,{"$f":"G41/E41","v":35044.47},164709,{"$f":"I41/E41","v":9757.31},45859.37,210568.37]
[null,"101-0594","Мастика битумная кровельная горячая","т",null,null,null,null,null,0]
["7","ТССЦ-104-1223","Пенополистирол экструдированный ТЕХНОНИКОЛЬ XPS CARBON 30-280 Стандарт","м3",48.41,{"$f":"G43/E43","v":0},0,{"$f":"I43/E43","v":16155.28},782077.22,782077.22]
["8","ТЕР12-01-014-02","Утепление покрытий: керамзитом // толщ. слоя 20-80 мм","1 м3 утеплителя",23.5,{"$f":"G44/E44","v":6968.55},163760.87,{"$f":"I44/E44","v":3323.29},78097.25,241858.12]
[null,"406-0014","Гравий керамзитовый, фракция: 10-20 мм, марка 400","м3",null,null,null,null,null,0]
["9","ТЕР12-01-017-01","Устройство выравнивающих стяжек: цементно-песчаных толщиной  15 мм","100 м2 стяжки",4.7,{"$f":"G46/E46","v":64292.56},302175.05,{"$f":"I46/E46","v":9586.76},45057.760000000002,347232.81]
[null,"101-0856","Рубероид кровельный с пылевидной посыпкой марки РКП-350б","м2",null,null,null,null,null,0]
[null,"402-0004","Раствор готовый кладочный цементный марки: 100","м3",null,null,null,null,null,0]
[null,"411-0001","Вода","м3",null,null,null,null,null,0]
["10","ТЕР12-01-017-02","Устройство выравнивающих стяжек: на каждый 1 мм изменения толщины добавлять или исключать к расценке 12-01-017-01","100 м2 стяжки",4.7,{"$f":"G50/E50","v":55015.74},258573.96,{"$f":"I50/E50","v":15286.55},71846.77,330420.73]
[null,"402-0004","Раствор готовый кладочный цементный марки: 100","м3",null,null,null,null,null,0]
["11","ТЕР06-01-015-10","Армирование подстилающих слоев и набетонок","1 т",0.82250000000000001,{"$f":"G52/E52","v":27718.22},22798.240000000002,{"$f":"I52/E52","v":3009.36},2475.1999999999998,25273.439999999999]
[null,"101-0816","Проволока светлая диаметром: 1,1 мм","т",null,null,null,null,null,0]
["12","ТЦ_08.4.02.05_66_6686134976_08.02.2024_02","Сетка арм. 100х100 4Вр1","м2",470,{"$f":"G54/E54","v":0},0,{"$f":"I54/E54","v":116.07},54553.440000000002,54553.440000000002]
["13","ТЕР12-01-016-02","Огрунтовка оснований из бетона или раствора под водоизоляционный кровельный ковер: готовой эмульсией битумной // праймер","100 м2 кровли",4.7,{"$f":"G55/E55","v":6025.31},28318.94,{"$f":"I55/E55","v":2878.01},13526.67,41845.61]
[null,"101-1780","Эмульсия битумная для гидроизоляционных работ","т",null,null,null,null,null,0]
["14","ТЕР12-01-007-10","Комплекс работ по устройству кровель из наплавляемых рулонных материалов для зданий шириной от 12 до 24 метров: в два слоя","100 м2 кровли",4.7,{"$f":"G57/E57","v":162682.69},764608.63,{"$f":"I57/E57","v":163542.79},768651.11,1533259.74]
[null,"101-0142","Дюбели с калиброванной головкой (в обоймах) с цинковым хроматированным покрытием: 3х58,5 мм","т",null,null,null,null,null,0]
[null,"101-0195","Гвозди толевые круглые: 3,0х40 мм","т",null,null,null,null,null,0]
[null,"101-0618","Мастика тиоколовая строительного назначения, марки: АМ-0,5","кг",null,null,null,null,null,0]
[null,"101-1371","Шнуры резиновые прямоугольного сечения с площадью сечения: от 30 до 50 мм2","кг",null,null,null,null,null,0]
[null,"101-1680","Патроны для строительно-монтажного пистолета","1000 шт.",null,null,null,null,null,0]
[null,"101-1755","Сталь полосовая, марка стали: Ст3сп шириной 50-200 мм толщиной 4-5 мм","т",null,null,null,null,null,0]
[null,"101-1780","Эмульсия битумная для гидроизоляционных работ","т",null,null,null,null,null,0]
[null,"101-1875","Сталь листовая оцинкованная толщиной листа: 0,7 мм","т",null,null,null,null,null,0]
[null,"101-1961","Изопласт: К ЭКП-4,5","м2",null,null,null,null,null,0]
[null,"101-1962","Изопласт: П ЭПП-4,0","м2",null,null,null,null,null,0]
[null,"101-2278","Пропан-бутан, смесь техническая","кг",null,null,null,null,null,0]
[null,"402-0004","Раствор готовый кладочный цементный марки: 100","м3",null,null,null,null,null,0]
["Асфальтовое покрытие кровли  S=62 м2",null,null,null,null,null,null,null,null,0]
["15","ТЕР12-01-015-04","Устройство пароизоляции: обмазочной в один слой","100 м2 изолируемой поверхности",0.62,{"$f":"G71/E71","v":23100.84},14322.52,{"$f":"I71/E71","v":15690.97},9728.4,24050.92]
[null,"101-0078","Битумы нефтяные строительные кровельные марки: БНК-45/190, БНК-45/180","т",null,null,null,null,null,0]
[null,"101-0322","Керосин для технических целей марок КТ-1, КТ-2","т",null,null,null,null,null,0]
[null,"101-0594","Мастика битумная кровельная горячая","т",null,null,null,null,null,0]
["16","ТЕР12-01-015-05","Устройство пароизоляции: на каждый последующий слой добавлять к расценке 12-01-015-04","100 м2 изолируемой поверхности",0.62,{"$f":"G75/E75","v":10454.469999999999},6481.77,{"$f":"I75/E75","v":11992.97},7435.64,13917.41]
[null,"101-0594","Мастика битумная кровельная горячая","т",null,null,null,null,null,{"$f":"G76+I76","v":0}]
["17","ТЕР12-01-013-01","Утепление покрытий плитами: из пенопласта  полистирольного на битумной мастике в один слой  ( толщ. 100 мм.)","100 м2 утепляемого покрытия",0.62,{"$f":"G77/E77","v":47538.61},29473.94,{"$f":"I77/E77","v":13353.08},8278.91,37752.85]
[null,"101-0078","Битумы нефтяные строительные кровельные марки: БНК-45/190, БНК-45/180","т",null,null,null,null,null,0]
[null,"101-0322","Керосин для технических целей марок КТ-1, КТ-2","т",null,null,null,null,null,0]
[null,"101-0594","Мастика битумная кровельная горячая","т",null,null,null,null,null,0]
["18","ТЕР12-01-013-02","Утепление покрытий плитами: на каждый последующий слой добавлять к расценке 12-01-013-01","100 м2 утепляемого покрытия",0.62,{"$f":"G81/E81","v":35045.160000000003},21728,{"$f":"I81/E81","v":9757.0300000000007},6049.36,27777.360000000001]
[null,"101-0594","Мастика битумная кровельная горячая","т",null,null,null,null,null,0]
["19","ТССЦ-104-1223","Пенополистирол экструдированный ТЕХНОНИКОЛЬ XPS CARBON 30-280 Стандарт","м3",6.3860000000000001,{"$f":"G83/E83","v":0},0,{"$f":"I83/E83","v":16155.36},103168.13,103168.13]
["20","ТЕР12-01-017-01","Устройство выравнивающих стяжек: цементно-песчаных толщиной  15 мм","100 м2 стяжки",0.62,{"$f":"G84/E84","v":64290.77},39860.28,{"$f":"I84/E84","v":9587.89},5944.49,45804.77]
[null,"101-0856","Рубероид кровельный с пылевидной посыпкой марки РКП-350б","м2",null,null,null,null,null,0]
[null,"402-0004","Раствор готовый кладочный цементный марки: 100","м3",null,null,null,null,null,0]
[null,"411-0001","Вода","м3",null,null,null,null,null,0]
["21","ТЕР12-01-017-02","Устройство выравнивающих стяжек: на каждый 1 мм изменения толщины добавлять или исключать к расценке 12-01-017-01","100 м2 стяжки",0.62,{"$f":"G88/E88","v":55013.37},34108.29,{"$f":"I88/E88","v":15287.81},9478.44,43586.73]
[null,"402-0004","Раствор готовый кладочный цементный марки: 100","м3",null,null,null,null,null,0]
["22","ТЕР06-01-015-10","Армирование подстилающих слоев и набетонок","1 т",0.1085,{"$f":"G90/E90","v":27724.98},3008.16,{"$f":"I90/E90","v":3005.53},326.10000000000002,3334.26]
[null,"101-0816","Проволока светлая диаметром: 1,1 мм","т",null,null,null,null,null,0]
["23","ТЦ_08.4.02.05_66_6686134976_08.02.2024_02","Сетка арм. 100х100 4Вр1","м2",62,{"$f":"G92/E92","v":0},0,{"$f":"I92/E92","v":116.06},7195.74,7195.74]
["24","ТЕР12-01-016-02","Огрунтовка оснований из бетона или раствора под водоизоляционный кровельный ковер: готовой эмульсией битумной // праймер","100 м2 кровли",0.62,{"$f":"G93/E93","v":6028.92},3737.93,{"$f":"I93/E93","v":2875.44},1782.77,5520.7]
[null,"101-1780","Эмульсия битумная для гидроизоляционных работ","т",null,null,null,null,null,0]
["25","ТЕР12-01-017-03","Устройство выравнивающих стяжек: асфальтобетонных толщиной  15 мм","100 м2 стяжки",0.62,{"$f":"G95/E95","v":39822.89},24690.19,{"$f":"I95/E95","v":28279.42},17533.240000000002,42223.43]
[null,"101-0856","Рубероид кровельный с пылевидной посыпкой марки РКП-350б","м2",null,null,null,null,null,0]
[null,"410-0021","Смеси асфальтобетонные дорожные, аэродромные и асфальтобетон (горячие для пористого асфальтобетона щебеночные и гравийные), марка: I","т",null,null,null,null,null,0]
["26","ТЕР12-01-017-04","Устройство выравнивающих стяжек: на каждый 1 мм изменения толщины добавлять или  исключать к расценке 12-01-017-03","100 м2 стяжки",0.62,{"$f":"G98/E98","v":98367.42},60987.8,{"$f":"I98/E98","v":65222.23},40437.78,101425.58]
[null,"410-0021","Смеси асфальтобетонные дорожные, аэродромные и асфальтобетон (горячие для пористого асфальтобетона щебеночные и гравийные), марка: I","т",null,null,null,null,null,0]
["27","ТЕР12-01-004-04","Устройство примыканий кровель из наплавляемых материалов к стенам и парапетам высотой: до 600 мм без фартуков","100 м примыканий",0.375,{"$f":"G100/E100","v":82512.289999999994},30942.11,{"$f":"I100/E100","v":131481.81},49305.68,80247.789999999994]
[null,"101-1961","Изопласт: К ЭКП-4,5","м2",null,null,null,null,null,0]
[null,"101-2278","Пропан-бутан, смесь техническая","кг",null,null,null,null,null,0]
[null,"402-0004","Раствор готовый кладочный цементный марки: 100","м3",null,null,null,null,null,0]
["28","ТЕР12-01-009-02","Устройство желобов: подвесных","100 м желобов",0.78,{"$f":"G104/E104","v":65796.37},51321.17,{"$f":"I104/E104","v":21887.31},17072.099999999999,68393.27]
[null,"101-0173","Гвозди проволочные оцинкованные для асбестоцементной кровли: 4,5х120 мм","т",null,null,null,null,null,0]
[null,"101-0788","Поковки оцинкованные, масса: 2,825 кг","т",null,null,null,null,null,0]
["29","ТЦ_12.1.01.00_78_7804606806_25.01.2024_02","Желоб водосточный D185х3000","шт",26,{"$f":"G107/E107","v":0},0,{"$f":"I107/E107","v":1709.45},44445.79,44445.79]
["30","ТЦ_12.1.01.00_78_7804606806_25.01.2024_02","Держатель желоба","шт",130,{"$f":"G108/E108","v":0},0,{"$f":"I108/E108","v":754.15},98039.6,98039.6]
["31","ТЕР12-01-012-01","Ограждение кровель перилами // прим. Устройство труб водосточных","100 м ограждения",0.79500000000000004,{"$f":"G109/E109","v":16109.37},12806.95,{"$f":"I109/E109","v":402.96},320.35000000000002,13127.3]
[null,"101-1529","Электроды диаметром: 6 мм Э42","т",null,null,null,null,null,0]
[null,"101-1851","Резина прессованная","кг",null,null,null,null,null,0]
["32","ТЦ_12.1.01.00_78_7804606806_25.01.2024_02","Труба водосточная D150х2000мм","шт",40,{"$f":"G112/E112","v":0},0,{"$f":"I112/E112","v":2084.16},83366.559999999998,83366.559999999998]
["33","ТЦ_12.1.01.00_78_7804606806_25.01.2024_02","Крепление трубы","шт",133,{"$f":"G113/E113","v":0},0,{"$f":"I113/E113","v":314.88},41878.65,41878.65]
["34","ТЦ_12.1.01.00_78_7804606806_25.01.2024_02","Воронки выпускные D185/150","шт",10,{"$f":"G114/E114","v":0},0,{"$f":"I114/E114","v":808.07},8080.66,8080.66]
["35","ТССЦ-301-3305","Воронка сливная диаметром: 150 мм","шт.",4,{"$f":"G115/E115","v":0},0,{"$f":"I115/E115","v":846.85},3387.41,3387.41]
["36","ТЕР12-01-012-01","Ограждение кровель перилами // прим.","100 м ограждения",0.76,{"$f":"G116/E116","v":16112.17},12245.25,{"$f":"I116/E116","v":402.62},305.99,12551.24]
[null,"101-1529","Электроды диаметром: 6 мм Э42","т",null,null,null,null,null,0]
[null,"101-1851","Резина прессованная","кг",null,null,null,null,null,0]
["37","ТЦ_12.1.01.00_78_7804606806_25.01.2024_02","Снегозадержатель трубчатый (L=3 м. в комплекте с креплением)","шт",25,{"$f":"G119/E119","v":0},0,{"$f":"I119/E119","v":2407.39},60184.76,60184.76]
["38","ТЕР12-01-012-01","Ограждение кровель перилами","100 м ограждения",1.05,{"$f":"G120/E120","v":16111.38},16916.95,{"$f":"I120/E120","v":402.24},422.35,17339.3]
[null,"101-1529","Электроды диаметром: 6 мм Э42","т",null,null,null,null,null,0]
[null,"101-1851","Резина прессованная","кг",null,null,null,null,null,0]
["39","ТЦ_08.1.06.00_50_5047239058_14.02.2024_02","Ограждение кровли h=600 мм. ( 1,86 м/шт)","шт",57,{"$f":"G123/E123","v":0},0,{"$f":"I123/E123","v":4217.24},240382.77,240382.77]
["Раздел 4. Окна",null,null,null,null,null,null,null,null,0]
["40","ТЕР10-01-034-03","Установка в жилых и общественных зданиях оконных блоков из ПВХ профилей: поворотных (откидных, поворотно-откидных) с площадью проема до 2 м2 одностворчатых","100 м2 проемов",0.152,{"$f":"G125/E125","v":468404.21},71197.440000000002,{"$f":"I125/E125","v":156169.41},23737.75,94935.19]
[null,"101-2052","Лента бутиловая","м",null,null,null,null,null,0]
[null,"101-2054","Лента бутиловая диффузионная","м",null,null,null,null,null,0]
[null,"101-2388","Герметик пенополиуретановый (пена монтажная) типа Makrofleks, Soudal в баллонах по 750 мл","шт.",null,null,null,null,null,0]
[null,"101-2789","Лента ПСУЛ","10 м",null,null,null,null,null,0]
[null,"101-4173","Дюбели монтажные 10х130 (10х132, 10х150) мм","10 шт.",null,null,null,null,null,0]
[null,"102-0303","Клинья пластиковые монтажные","100 шт.",null,null,null,null,null,0]
["41","ТЦ_07.1.02.00_78_7840318754_30.01.2024_02","ОК-1.  1000х1000","шт",9,{"$f":"G132/E132","v":0},0,{"$f":"I132/E132","v":12242.38},110181.42,110181.42]
["42","ТЦ_07.1.02.00_78_7840318754_30.01.2024_02","ОК-2.  1000х1000","шт",3,{"$f":"G133/E133","v":0},0,{"$f":"I133/E133","v":11560.01},34680.04,34680.04]
["43","ТЦ_07.1.02.00_78_7840318754_30.01.2024_02","ОК-3.  1600х1000","шт",1,{"$f":"G134/E134","v":0},0,{"$f":"I134/E134","v":16060.76},16060.76,16060.76]
["44","ТЦ_07.1.02.00_78_7840318754_30.01.2024_02","ОК-4.  1600х1000","шт",1,{"$f":"G135/E135","v":0},0,{"$f":"I135/E135","v":14753.49},14753.49,14753.49]
["45","ТЕР15-01-070-01","Облицовка: оконных проемов в наружных стенах откосной планкой из оцинкованной стали с полимерным покрытием с устройством водоотлива оконного из оцинкованной стали с полимерным покрытием","1 м2 проемов",15.2,{"$f":"G136/E136","v":3276.87},49808.47,{"$f":"I136/E136","v":1423.8},21641.8,71450.27]
[null,"101-1691","Шурупы-саморезы 4,2х16 мм","100 шт.",null,null,null,null,null,0]
[null,"101-2409","Аквилон из оцинкованной стали с полимерным покрытием","п.м",null,null,null,null,null,0]
[null,"101-2410","Откосная планка шириной 250 мм из оцинкованной стали с полимерным покрытием","п.м",null,null,null,null,null,0]
[null,"101-2411","Водоотлив оконный шириной планки 250 мм из оцинкованной стали с полимерным покрытием","п.м",null,null,null,null,null,{"$f":"G140+I140","v":0}]
["Раздел 5. Дверные проемы и ворота",null,null,null,null,null,null,null,null,0]
["46","ТЕР09-04-012-01","Установка металлических дверных блоков в готовые проемы","1 м2 проема",40.74,{"$f":"G142/E142","v":6003.13},244567.48,{"$f":"I142/E142","v":327.69},13349.97,257917.45]
[null,"101-1513","Электроды диаметром: 4 мм Э42","т",null,null,null,null,null,0]
[null,"101-1921","Пена монтажная: для герметизации стыков в баллончике емкостью 0,85 л","шт.",null,null,null,null,null,0]
[null,"204-0062","Детали закладные и накладные изготовленные: без применения сварки, гнутья, сверления (пробивки) отверстий поставляемые отдельно","т",null,null,null,null,null,0]
["47","ТЦ_07.1.01.03_78_7841375755_25.01.2024_02","Дверной блок однопольный металлический, остекленный, правая навеска 1000х2100","шт",6,{"$f":"G146/E146","v":0},0,{"$f":"I146/E146","v":31352.959999999999},188117.78,188117.78]
["48","ТЦ_07.1.01.03_78_7841375755_25.01.2024_02","Дверной блок однопольный металлический, остекленный,утепленный, правая навеска 1000х2100","шт",12,{"$f":"G147/E147","v":0},0,{"$f":"I147/E147","v":33088.81},397065.71,397065.71]
["49","ТЦ_07.1.01.03_78_7841375755_25.01.2024_02","Дверной блок двупольный металлический, остекленный,утепленный 1400х2100","шт",1,{"$f":"G148/E148","v":0},0,{"$f":"I148/E148","v":45060.639999999999},45060.639999999999,45060.639999999999]
["50","ТЕР15-01-070-02","Облицовка: дверных проемов в наружных стенах откосной планкой из оцинкованной стали с полимерным покрытием с установкой наличников из оцинкованной стали с полимерным покрытием","1 м2 проемов",40.74,{"$f":"G149/E149","v":3593.87},146414.39000000001,{"$f":"I149/E149","v":1660.72},67657.759999999995,214072.15]
[null,"101-1691","Шурупы-саморезы 4,2х16 мм","100 шт.",null,null,null,null,null,0]
[null,"101-2409","Аквилон из оцинкованной стали с полимерным покрытием","п.м",null,null,null,null,null,0]
[null,"101-2410","Откосная планка шириной 250 мм из оцинкованной стали с полимерным покрытием","п.м",null,null,null,null,null,0]
[null,"101-2412","Наличники из оцинкованной стали с полимерным покрытием","п.м",null,null,null,null,null,0]
["Ворота",null,null,null,null,null,null,null,null,0]
["51","ТЕР09-04-011-01","Монтаж каркасов ворот большепролетных зданий, ангаров и др. без механизмов открывания","1 т конструкций",2.44,{"$f":"G155/E155","v":174277.92},425238.12,{"$f":"I155/E155","v":8950.25},21838.61,447076.73]
[null,"101-0309","Канаты пеньковые пропитанные","т",null,null,null,null,null,0]
[null,"101-0324","Кислород технический: газообразный","м3",null,null,null,null,null,0]
[null,"101-0797","Проволока горячекатаная в мотках, диаметром 6,3-6,5 мм","т",null,null,null,null,null,0]
[null,"101-1019","Швеллеры № 40 из стали марки: Ст0","т",null,null,null,null,null,0]
[null,"101-1515","Электроды диаметром: 4 мм Э46","т",null,null,null,null,null,0]
[null,"101-1805","Гвозди строительные","т",null,null,null,null,null,0]
[null,"101-2278","Пропан-бутан, смесь техническая","кг",null,null,null,null,null,0]
[null,"101-2467","Растворитель марки: Р-4","т",null,null,null,null,null,0]
[null,"102-0023","Бруски обрезные хвойных пород длиной: 4-6,5 м, шириной 75-150 мм, толщиной 40-75 мм, I сорта","м3",null,null,null,null,null,0]
[null,"113-0021","Грунтовка: ГФ-021 красно-коричневая","т",null,null,null,null,null,0]
[null,"201-0756","Отдельные конструктивные элементы зданий и сооружений с преобладанием: горячекатаных профилей, средняя масса сборочной единицы от 0,1 до 0,5 т","т",null,null,null,null,null,0]
[null,"508-0097","Канат двойной свивки типа ТК, конструкции 6х19(1+6+12)+1 о.с., оцинкованный из проволок марки В, маркировочная группа: 1770 н/мм2, диаметром 5,5 мм","10 м",null,null,null,null,null,0]
["52","ТЕРм38-01-002-03","Монорельсы, балки и другие аналогичные конструкции промышленных зданий, сборка с помощью: лебедок электрических (с установкой и снятием их в процессе работы)","1 т конструкций",2.367,{"$f":"G168/E168","v":66109.759999999995},156481.81,{"$f":"I168/E168","v":55520.959999999999},131418.12,287899.93]
[null,"101-0324","Кислород технический: газообразный","м3",null,null,null,null,null,0]
[null,"101-1015","Балки двутавровые № 60 из стали марки: Ст3сп","т",null,null,null,null,null,0]
[null,"101-1521","Электроды диаметром: 5 мм Э42","т",null,null,null,null,null,0]
[null,"101-2278","Пропан-бутан, смесь техническая","кг",null,null,null,null,null,0]
[null,"999-9950","Вспомогательные ненормируемые ресурсы (2% от Оплаты труда рабочих)","руб",null,null,null,null,null,0]
["53","ТЕРм11-05-001-01","Механизм исполнительный, масса: до 20 кг","1 шт.",3,{"$f":"G174/E174","v":2196.5},6589.51,{"$f":"I174/E174","v":108.22},324.66000000000003,6914.17]
[null,"101-2039","Болты с гайками и шайбами оцинкованные, диаметр: 12 мм","кг",null,null,null,null,null,0]
[null,"999-9950","Вспомогательные ненормируемые ресурсы (2% от Оплаты труда рабочих)","руб",null,null,null,null,null,0]
["54","ТЦ_08.1.06.01_78_7814075047_27.02.2024_02","Ворота складчатые, металлические остекленные с калиткой   4500х4000мм  (57*18)/1000","шт",1,{"$f":"G177/E177","v":0},0,{"$f":"I177/E177","v":593001.25},593001.25,593001.25]
["55","ТЦ_08.1.06.01_78_7804564218_19.02.2024_02","Ворота складчатые, металлические остекленные с калиткой   4000х4000мм  (57*16)/1000","шт",1,{"$f":"G178/E178","v":0},0,{"$f":"I178/E178","v":414538.61},414538.61,414538.61]
["56","ТЦ_07.1.01.03_78_7810347194_06.02.2024_02","Ворота распашные, металлические остекленные утепленные    3000х2200мм ( 76*6,6)/1000","шт",1,{"$f":"G179/E179","v":0},0,{"$f":"I179/E179","v":135515.19},135515.19,135515.19]
["Раздел 6. Полы",null,null,null,null,null,null,null,null,0]
["Тип 1.  S=230,0 м2",null,null,null,null,null,null,null,null,0]
["57","ТЕР11-01-011-03","Устройство стяжек: бетонных толщиной 20 мм","100 м2 стяжки",2.2999999999999998,{"$f":"G182/E182","v":83768.42},192667.37,{"$f":"I182/E182","v":94.31},216.92,192884.29]
[null,"411-0001","Вода","м3",null,null,null,null,null,0]
["58","ТЕР11-01-011-04","Устройство стяжек: на каждые 5 мм изменения толщины стяжки добавлять или исключать к расценке 11-01-011-03","100 м2 стяжки",2.2999999999999998,{"$f":"G184/E184","v":20972.55},48236.87,{"$f":"I184/E184","v":0},0,48236.87]
["59","Прайс","Бетон  В15","м3",19.940999999999999,{"$f":"G185/E185","v":0},0,{"$f":"I185/E185","v":8793.1299999999992},175343.87,175343.87]
["60","ТЕР11-01-020-03","Устройство покрытий поливинилацетатных: толщиной 3 мм // прим. гидроизоляция полимерная","100 м2 покрытия",3.3180000000000001,{"$f":"G186/E186","v":180033.07},597349.73,{"$f":"I186/E186","v":147311.67000000001},488780.13,1086129.8600000001]
[null,"101-0430","Краски масляные и алкидные земляные, готовые к применению: сурик железный МА-15, ПФ-14","т",null,null,null,null,null,0]
[null,"101-0433","Краски масляные и алкидные земляные, готовые к применению: охра МА-15","т",null,null,null,null,null,0]
[null,"101-1305","Портландцемент общестроительного назначения бездобавочный, марки: 400","т",null,null,null,null,null,0]
[null,"101-1591","Смола каменноугольная для дорожного строительства","т",null,null,null,null,null,0]
[null,"101-2293","Кислота ортофосфорная: техническая, сорт I","т",null,null,null,null,null,0]
[null,"101-2358","Дисперсия поливинилацетатная непластифицированная марки Д50Н","кг",null,null,null,null,null,0]
[null,"113-0306","Маршалит","т",null,null,null,null,null,0]
[null,"408-0122","Песок природный для строительных: работ средний","м3",null,null,null,null,null,0]
[null,"411-0001","Вода","м3",null,null,null,null,null,0]
["61","ТЕР11-01-011-03","Устройство стяжек: бетонных толщиной 20 мм // прим. покрытие полимерцементный бетон В25  толщ.15 мм","100 м2 стяжки",2.2999999999999998,{"$f":"G196/E196","v":62825.22},144498.01,{"$f":"I196/E196","v":70.58},162.33000000000001,144660.34]
[null,"411-0001","Вода","м3",null,null,null,null,null,0]
["62","Прайс","Ветон В25","м3",3.5190000000000001,{"$f":"G198/E198","v":0},0,{"$f":"I198/E198","v":9649.34},33956.01,33956.01]
["63","ТССЦ-113-0378","Состав полимерцементный  ( 20% от массы бетона)","м3",0.70379999999999998,{"$f":"G199/E199","v":0},0,{"$f":"I199/E199","v":3761.84},2647.58,2647.58]
["Тип 1а.  S=930,0 м2",null,null,null,null,null,null,null,null,0]
["64","ТЕР11-01-011-03","Устройство стяжек: бетонных толщиной 20 мм","100 м2 стяжки",9.3000000000000007,{"$f":"G201/E201","v":83767.929999999993},779041.76,{"$f":"I201/E201","v":94.23},876.3,779918.06]
[null,"411-0001","Вода","м3",null,null,null,null,null,0]
["65","ТЕР11-01-011-04","Устройство стяжек: на каждые 5 мм изменения толщины стяжки добавлять или исключать к расценке 11-01-011-03","100 м2 стяжки",9.3000000000000007,{"$f":"G203/E203","v":6453.56},60018.12,{"$f":"I203/E203","v":0},0,60018.12]
["66","Прайс","Бетон  В15","м3",37.944000000000003,{"$f":"G204/E204","v":0},0,{"$f":"I204/E204","v":8793.15},333647.24,{"$f":"G204+I204","v":333647.24}]
["67","ТЕР11-01-020-03","Устройство покрытий поливинилацетатных: толщиной 3 мм // прим. гидроизоляция полимерная","100 м2 покрытия",9.3000000000000007,{"$f":"G205/E205","v":180031.79},1674295.64,{"$f":"I205/E205","v":147312.01},1370001.66,3044297.3]
[null,"101-0430","Краски масляные и алкидные земляные, готовые к применению: сурик железный МА-15, ПФ-14","т",null,null,null,null,null,0]
[null,"101-0433","Краски масляные и алкидные земляные, готовые к применению: охра МА-15","т",null,null,null,null,null,0]
[null,"101-1305","Портландцемент общестроительного назначения бездобавочный, марки: 400","т",null,null,null,null,null,0]
[null,"101-1591","Смола каменноугольная для дорожного строительства","т",null,null,null,null,null,0]
[null,"101-2293","Кислота ортофосфорная: техническая, сорт I","т",null,null,null,null,null,0]
[null,"101-2358","Дисперсия поливинилацетатная непластифицированная марки Д50Н","кг",2036.7,null,null,null,null,0]
[null,"113-0306","Маршалит","т",2.52,null,null,null,null,0]
[null,"408-0122","Песок природный для строительных: работ средний","м3",0.16,null,null,null,null,0]
[null,"411-0001","Вода","м3",1.25,null,null,null,null,0]
["68","ТЕР11-01-011-03","Устройство стяжек: бетонных толщиной 20 мм // прим. покрытие полимерцементный бетон В25  толщ.15 мм","100 м2 стяжки",9.3000000000000007,{"$f":"G215/E215","v":62825.79},584279.89,{"$f":"I215/E215","v":70.59},656.51,584936.4]
[null,"411-0001","Вода","м3",null,null,null,null,null,0]
["69","Прайс","Ветон В25","м3",14.228999999999999,{"$f":"G217/E217","v":0},0,{"$f":"I217/E217","v":9649.4699999999993},137302.28,137302.28]
["70","ТССЦ-113-0378","Состав полимерцементный  ( 20% от массы бетона)","м3",2.8458000000000001,{"$f":"G218/E218","v":0},0,{"$f":"I218/E218","v":3761.78},10705.26,10705.26]
["Тип 2.  S=410,0 м2",null,null,null,null,null,null,null,null,0]
["71","ТЕР11-01-011-03","Устройство стяжек: бетонных толщиной 20 мм","100 м2 стяжки",4.0999999999999996,{"$f":"G220/E220","v":83768.38},343450.34,{"$f":"I220/E220","v":93.9},385,343835.34]
[null,"411-0001","Вода","м3",null,null,null,null,null,0]
["72","ТЕР11-01-011-04","Устройство стяжек: на каждые 5 мм изменения толщины стяжки добавлять или исключать к расценке 11-01-011-03","100 м2 стяжки",4.0999999999999996,{"$f":"G222/E222","v":20972.75},85988.28,{"$f":"I222/E222","v":0},0,85988.28]
["73","Прайс","Бетон  В15","м3",35.546999999999997,{"$f":"G223/E223","v":0},0,{"$f":"I223/E223","v":8793.15},312570.01,312570.01]
["74","ТЕР11-01-011-03","Устройство стяжек: бетонных толщиной 20 мм // прим. покрытие полимерцементный бетон В25  толщ.15 мм","100 м2 стяжки",4.0999999999999996,{"$f":"G224/E224","v":62825.41},257584.17,{"$f":"I224/E224","v":70.78},290.19,257874.36]
[null,"411-0001","Вода","м3",null,null,null,null,null,0]
["75","Прайс","Ветон В25","м3",6.2729999999999997,{"$f":"G226/E226","v":0},0,{"$f":"I226/E226","v":9649.4500000000007},60530.97,60530.97]
["76","ТССЦ-113-0378","Состав полимерцементный  ( 20% от массы бетона)","м3",1.2545999999999999,{"$f":"G227/E227","v":0},0,{"$f":"I227/E227","v":3761.45},4719.1099999999997,4719.1099999999997]
["Тип 3.  S=140,0 м2",null,null,null,null,null,null,null,null,0]
["77","ТЕР11-01-015-07","Шлифовка бетонных или металлоцементных покрытий","100 м2 покрытия",1.4,{"$f":"G229/E229","v":191486.51},268081.12,{"$f":"I229/E229","v":180.59},252.83,268333.95]
[null,"101-2109","Карборунд","кг",null,null,null,null,null,0]
[null,"411-0001","Вода","м3",null,null,null,null,null,0]
["78","ТЕР11-01-015-08","Железнение цементных покрытий // прим.","100 м2 покрытия",1.4,{"$f":"G232/E232","v":26257.27},36760.18,{"$f":"I232/E232","v":537.69000000000005},752.76,37512.94]
[null,"101-1305","Портландцемент общестроительного назначения бездобавочный, марки: 400","т",null,null,null,null,null,0]
[null,"411-0001","Вода","м3",null,null,null,null,null,0]
["Тип 4.  S=540,0 м2",null,null,null,null,null,null,null,null,0]
["79","ТЕР11-01-011-03","Устройство стяжек: бетонных толщиной 20 мм","100 м2 стяжки",5.4,{"$f":"G236/E236","v":83767.789999999994},452346.04,{"$f":"I236/E236","v":94.17},508.54,452854.58]
[null,"411-0001","Вода","м3",null,null,null,null,null,0]
["80","ТЕР11-01-011-04","Устройство стяжек: на каждые 5 мм изменения толщины стяжки добавлять или исключать к расценке 11-01-011-03","100 м2 стяжки",5.4,{"$f":"G238/E238","v":4840.1499999999996},26136.81,{"$f":"I238/E238","v":0},0,26136.81]
["81","Прайс","Бетон  В15","м3",19.277999999999999,{"$f":"G239/E239","v":0},0,{"$f":"I239/E239","v":8793.15},169514.3,169514.3]
["82","ТЕР11-01-011-03","Устройство стяжек: бетонных толщиной 20 мм // прим. покрытие полимерцементный бетон В25  толщ.15 мм","100 м2 стяжки",5.4,{"$f":"G240/E240","v":62826.17},339261.33,{"$f":"I240/E240","v":70.5},380.69,339642.02]
[null,"411-0001","Вода","м3",null,null,null,null,null,0]
["83","Прайс","Ветон В25","м3",8.2620000000000005,{"$f":"G242/E242","v":0},0,{"$f":"I242/E242","v":9649.41},79723.44,79723.44]
["84","ТССЦ-113-0378","Состав полимерцементный  ( 20% от массы бетона)","м3",1.6524000000000001,{"$f":"G243/E243","v":0},0,{"$f":"I243/E243","v":3761.8},6216,6216]
["Раздел 7. Внутренняя отделка  (1632-2021-2.2.1-АР.  Ведомость отделки помещений, лист 1)",null,null,null,null,null,null,null,null,0]
["Потолок",null,null,null,null,null,null,null,null,0]
["85","ТЕР15-04-007-02","Окраска водно-дисперсионными акриловыми составами улучшенная: по штукатурке потолков","100 м2 окрашиваемой поверхности",17.98,{"$f":"G246/E246","v":125372.54},2254198.3199999998,{"$f":"I246/E246","v":12801.62},230173.13,2484371.4500000002]
[null,"101-1596","Шкурка шлифовальная двухслойная с зернистостью 40-25","м2",null,null,null,null,null,0]
[null,"101-1757","Ветошь","кг",null,null,null,null,null,0]
[null,"101-3512","Краска акриловая: ВД-АК 2180, ВГТ","т",null,null,null,null,null,0]
[null,"101-3585","Шпатлевка водно-дисперсионная","т",null,null,null,null,null,0]
[null,"101-4163","Грунтовка акриловая: НОРТЕКС-ГРУНТ","кг",null,null,null,null,null,0]
["Стены и перегородки",null,null,null,null,null,null,null,null,0]
["86","ТЕР15-04-007-01","Окраска водно-дисперсионными акриловыми составами улучшенная: по штукатурке стен","100 м2 окрашиваемой поверхности",18.809999999999999,{"$f":"G253/E253","v":86790.18},1632523.29,{"$f":"I253/E253","v":11810.51},222155.68,1854678.97]
[null,"101-1596","Шкурка шлифовальная двухслойная с зернистостью 40-25","м2",null,null,null,null,null,0]
[null,"101-1757","Ветошь","кг",null,null,null,null,null,0]
[null,"101-3512","Краска акриловая: ВД-АК 2180, ВГТ","т",null,null,null,null,null,0]
[null,"101-3585","Шпатлевка водно-дисперсионная","т",null,null,null,null,null,0]
[null,"101-4163","Грунтовка акриловая: НОРТЕКС-ГРУНТ","кг",null,null,null,null,null,0]
["87","ТЕР26-01-037-01","Изоляция изделиями из волокнистых и зернистых материалов на битуме холодных поверхностей: стен и колонн прямоугольных (план в осях А-А2, лист2)","1 м3 изоляции",4.51,{"$f":"G259/E259","v":46362.41},209094.46,{"$f":"I259/E259","v":17607.599999999999},79410.27,288504.73]
[null,"101-0079","Битумы нефтяные строительные для кровельных мастик марки: БНМ-55/60","т",null,null,null,null,null,0]
[null,"101-1805","Гвозди строительные","т",null,null,null,null,null,0]
[null,"101-2066","Болты анкерные оцинкованные","кг",null,null,null,null,null,0]
[null,"102-0025","Бруски обрезные хвойных пород длиной: 4-6,5 м, шириной 75-150 мм, толщиной 40-75 мм, III сорта","м3",null,null,null,null,null,0]
[null,"104-0007","Плиты из минеральной ваты: повышенной жесткости на синтетическом связующем М-200","м3",null,null,null,null,null,0]
["88","ТЕР15-02-001-01","Улучшенная штукатурка фасадов цементно-известковым раствором по камню: стен // прим.","100 м2 оштукатуриваемой поверхности",0.45100000000000001,{"$f":"G265/E265","v":159786.45000000001},72063.69,{"$f":"I265/E265","v":6.36},2.87,72066.559999999998]
[null,"411-0001","Вода","м3",null,null,null,null,null,0]
["89","ТССЦ-402-0381","Штукатурка минеральная декоративная CERESIT CT 35 \"короед\", зерно 2,5 мм (цветная) // прим.","кг",117.26,{"$f":"G267/E267","v":0},0,{"$f":"I267/E267","v":282.02999999999997},33071.089999999997,33071.089999999997]
["Разрез 4-4., 3-3",null,null,null,null,null,null,null,null,{"$f":"G268+I268","v":0}]
["90","ТЕР26-01-037-01","Изоляция изделиями из волокнистых и зернистых материалов на битуме холодных поверхностей: стен и колонн прямоугольных","1 м3 изоляции",34.366,{"$f":"G269/E269","v":46362.879999999997},1593306.59,{"$f":"I269/E269","v":17607.349999999999},605094.23,2198400.8199999998]
[null,"101-0079","Битумы нефтяные строительные для кровельных мастик марки: БНМ-55/60","т",null,null,null,null,null,0]
[null,"101-1805","Гвозди строительные","т",null,null,null,null,null,0]
[null,"101-2066","Болты анкерные оцинкованные","кг",null,null,null,null,null,0]
[null,"102-0025","Бруски обрезные хвойных пород длиной: 4-6,5 м, шириной 75-150 мм, толщиной 40-75 мм, III сорта","м3",null,null,null,null,null,0]
[null,"104-0007","Плиты из минеральной ваты: повышенной жесткости на синтетическом связующем М-200","м3",null,null,null,null,null,0]
["91","ТЕР15-02-036-01","Штукатурка по сетке без устройства каркаса: улучшенная стен // толщ. 25 мм","100 м2 оштукатуриваемой поверхности",3.4365999999999999,{"$f":"G275/E275","v":274605.46000000002},943709.11,{"$f":"I275/E275","v":22476.85},77243.929999999993,1020953.04]
[null,"101-0179","Гвозди строительные с плоской головкой: 1,6х50 мм","т",null,null,null,null,null,0]
[null,"101-0874","Сетка тканая с квадратными ячейками № 05: без покрытия","м2",null,null,null,null,null,0]
[null,"101-1305","Портландцемент общестроительного назначения бездобавочный, марки: 400","т",null,null,null,null,null,0]
[null,"101-1705","Пакля пропитанная","кг",null,null,null,null,null,0]
[null,"411-0001","Вода","м3",null,null,null,null,null,0]
["92","ТССЦ-402-0444","Смесь штукатурная цементно-песчаная \"БИРСС 55\" (марка М100) // 1600 кг/м3","т",13.7464,{"$f":"G281/E281","v":0},0,{"$f":"I281/E281","v":15663.04},215310.46,215310.46]
["93","ТЕР26-01-037-01","Изоляция изделиями из волокнистых и зернистых материалов на битуме холодных поверхностей: стен и колонн прямоугольных","1 м3 изоляции",22.768000000000001,{"$f":"G282/E282","v":46362.879999999997},1055589.98,{"$f":"I282/E282","v":17607.349999999999},400884.09,1456474.07]
[null,"101-0079","Битумы нефтяные строительные для кровельных мастик марки: БНМ-55/60","т",null,null,null,null,null,0]
[null,"101-1805","Гвозди строительные","т",null,null,null,null,null,0]
[null,"101-2066","Болты анкерные оцинкованные","кг",null,null,null,null,null,0]
[null,"102-0025","Бруски обрезные хвойных пород длиной: 4-6,5 м, шириной 75-150 мм, толщиной 40-75 мм, III сорта","м3",null,null,null,null,null,0]
[null,"104-0007","Плиты из минеральной ваты: повышенной жесткости на синтетическом связующем М-200","м3",null,null,null,null,null,0]
["94","ТЕР15-02-036-01","Штукатурка по сетке без устройства каркаса: улучшенная стен // толщ. 25 мм","100 м2 оштукатуриваемой поверхности",2.2768000000000002,{"$f":"G288/E288","v":274605.53999999998},625221.9,{"$f":"I288/E288","v":22477.200000000001},51176.08,676397.98]
[null,"101-0179","Гвозди строительные с плоской головкой: 1,6х50 мм","т",null,null,null,null,null,0]
[null,"101-0874","Сетка тканая с квадратными ячейками № 05: без покрытия","м2",null,null,null,null,null,0]
[null,"101-1305","Портландцемент общестроительного назначения бездобавочный, марки: 400","т",null,null,null,null,null,0]
[null,"101-1705","Пакля пропитанная","кг",null,null,null,null,null,0]
[null,"411-0001","Вода","м3",null,null,null,null,null,0]
["95","ТССЦ-402-0444","Смесь штукатурная цементно-песчаная \"БИРСС 55\" (марка М100) // 1600 кг/м3","т",9.11,{"$f":"G294/E294","v":0},0,{"$f":"I294/E294","v":15662.94},142689.38,142689.38]
["Разрез 1а-1а",null,null,null,null,null,null,null,null,0]
["96","ТЕР26-01-037-01","Изоляция изделиями из волокнистых и зернистых материалов на битуме холодных поверхностей: стен и колонн прямоугольных","1 м3 изоляции",13.83,{"$f":"G296/E296","v":46362.83},641197.91,{"$f":"I296/E296","v":17607.39},243510.17,884708.08]
[null,"101-0079","Битумы нефтяные строительные для кровельных мастик марки: БНМ-55/60","т",null,null,null,null,null,0]
[null,"101-1805","Гвозди строительные","т",null,null,null,null,null,0]
[null,"101-2066","Болты анкерные оцинкованные","кг",null,null,null,null,null,0]
[null,"102-0025","Бруски обрезные хвойных пород длиной: 4-6,5 м, шириной 75-150 мм, толщиной 40-75 мм, III сорта","м3",null,null,null,null,null,0]
[null,"104-0007","Плиты из минеральной ваты: повышенной жесткости на синтетическом связующем М-200","м3",13.41,null,null,null,null,0]
["97","ТЕР15-02-036-01","Штукатурка по сетке без устройства каркаса: улучшенная стен // толщ. 25 мм","100 м2 оштукатуриваемой поверхности",1.383,{"$f":"G302/E302","v":274605.61},379779.56,{"$f":"I302/E302","v":22477.05},31085.759999999998,410865.32]
[null,"101-0179","Гвозди строительные с плоской головкой: 1,6х50 мм","т",null,null,null,null,null,0]
[null,"101-0874","Сетка тканая с квадратными ячейками № 05: без покрытия","м2",null,null,null,null,null,0]
[null,"101-1305","Портландцемент общестроительного назначения бездобавочный, марки: 400","т",null,null,null,null,null,0]
[null,"101-1705","Пакля пропитанная","кг",null,null,null,null,null,0]
[null,"411-0001","Вода","м3",null,null,null,null,null,0]
["98","ТССЦ-402-0444","Смесь штукатурная цементно-песчаная \"БИРСС 55\" (марка М100) // 1600 кг/м3","т",5.53,{"$f":"G308/E308","v":0},0,{"$f":"I308/E308","v":15662.94},86616.06,86616.06]
["Цоколь",null,null,null,null,null,null,null,null,0]
["99","ТЕР26-01-037-01","Изоляция изделиями из волокнистых и зернистых материалов на битуме холодных поверхностей: стен и колонн прямоугольных","1 м3 изоляции",14.625,{"$f":"G310/E310","v":46362.89},678057.21,{"$f":"I310/E310","v":17607.29},257506.59,935563.8]
[null,"101-0079","Битумы нефтяные строительные для кровельных мастик марки: БНМ-55/60","т",null,null,null,null,null,0]
[null,"101-1805","Гвозди строительные","т",null,null,null,null,null,0]
[null,"101-2066","Болты анкерные оцинкованные","кг",null,null,null,null,null,0]
[null,"102-0025","Бруски обрезные хвойных пород длиной: 4-6,5 м, шириной 75-150 мм, толщиной 40-75 мм, III сорта","м3",null,null,null,null,null,0]
[null,"104-0007","Плиты из минеральной ваты: повышенной жесткости на синтетическом связующем М-200","м3",14.18,null,null,null,null,0]
["100","ТЕР15-02-036-01","Штукатурка по сетке без устройства каркаса: улучшенная стен // толщ. 25 мм","100 м2 оштукатуриваемой поверхности",1.6379999999999999,{"$f":"G316/E316","v":264171.05},432712.18,{"$f":"I316/E316","v":22476.32},36816.21,469528.39]
[null,"101-0179","Гвозди строительные с плоской головкой: 1,6х50 мм","т",null,null,null,null,null,0]
[null,"101-0874","Сетка тканая с квадратными ячейками № 05: без покрытия","м2",null,null,null,null,null,0]
[null,"101-1305","Портландцемент общестроительного назначения бездобавочный, марки: 400","т",null,null,null,null,null,0]
[null,"101-1705","Пакля пропитанная","кг",null,null,null,null,null,0]
[null,"411-0001","Вода","м3",null,null,null,null,null,0]
["101","ТССЦ-402-0444","Смесь штукатурная цементно-песчаная \"БИРСС 55\" (марка М100) // 1600 кг/м3","т",6.55,{"$f":"G322/E322","v":0},0,{"$f":"I322/E322","v":15662.91},102592.07,102592.07]
["Раздел 9. Отмостка  (Узел 12, лист6 )",null,null,null,null,null,null,null,null,0]
["102","ТЕР27-04-001-04","Устройство подстилающих и выравнивающих слоев оснований: из щебня","100 м3 материала основания (в плотном теле)",0.19939999999999999,{"$f":"G324/E324","v":206255.42},41127.33,{"$f":"I324/E324","v":187.31},37.35,41164.68]
[null,"411-0001","Вода","м3",null,null,null,null,null,0]
["103","ТССЦ-408-0015","Щебень из природного камня для строительных работ марка: 800, фракция 20-40 мм","м3",25.13,{"$f":"G326/E326","v":0},0,{"$f":"I326/E326","v":3394.18},85295.86,85295.86]
["104","ТЕР27-04-001-01","Устройство подстилающих и выравнивающих слоев оснований: из песка","100 м3 материала основания (в плотном теле)",0.33239999999999997,{"$f":"G327/E327","v":132376.32000000001},44001.89,{"$f":"I327/E327","v":133.97},44.53,44046.42]
[null,"411-0001","Вода","м3",null,null,null,null,null,0]
["105","ТЦ_02.3.01.00_77_7734465669_15.02.2024_02","Песок средний для строительных работ",null,36.564,{"$f":"G329/E329","v":0},0,{"$f":"I329/E329","v":646.41999999999996},23635.75,23635.75]
["106","ТЕР06-01-013-01","Устройство подливки толщиной  20 мм // прим. бетонное основание","100 м2 подливки под оборудование",2.2160000000000002,{"$f":"G330/E330","v":78207.05},173306.83,{"$f":"I330/E330","v":2742.82},6078.09,179384.92]
[null,"101-1805","Гвозди строительные","т",null,null,null,null,null,0]
[null,"102-0053","Доски обрезные хвойных пород длиной: 4-6,5 м, шириной 75-150 мм, толщиной 25 мм, III сорта","м3",null,null,null,null,null,{"$f":"G332+I332","v":0}]
[null,"102-0061","Доски обрезные хвойных пород длиной: 4-6,5 м, шириной 75-150 мм, толщиной 44 мм и более, III сорта","м3",null,null,null,null,null,0]
["107","ТЕР06-01-013-02","На каждые 10 мм изменения толщины добавлять или исключать к расценке 06-01-013-01 // до 100 мм","100 м2 подливки под оборудование",2.2160000000000002,{"$f":"G334/E334","v":224140.6},496695.58,{"$f":"I334/E334","v":5362.47},11883.24,508578.82]
[null,"101-1805","Гвозди строительные","т",null,null,null,null,null,0]
[null,"102-0053","Доски обрезные хвойных пород длиной: 4-6,5 м, шириной 75-150 мм, толщиной 25 мм, III сорта","м3",null,null,null,null,null,0]
[null,"102-0061","Доски обрезные хвойных пород длиной: 4-6,5 м, шириной 75-150 мм, толщиной 44 мм и более, III сорта","м3",null,null,null,null,null,0]
["108","Прайс","Бетон  В15","м3",22.603000000000002,{"$f":"G338/E338","v":0},0,{"$f":"I338/E338","v":8793.1299999999992},198751.21,198751.21]
["109","ТЕР06-01-015-10","Армирование подстилающих слоев и набетонок","1 т",0.60940000000000005,{"$f":"G339/E339","v":27715.23},16889.66,{"$f":"I339/E339","v":3010.32},1834.49,18724.150000000001]
[null,"101-0816","Проволока светлая диаметром: 1,1 мм","т",null,null,null,null,null,0]
["110","ТЦ_08.4.02.05_78_7816587756_08.02.2024_02","Сетка арм. 100х100 5Вр1","м2",221.6,{"$f":"G341/E341","v":0},0,{"$f":"I341/E341","v":209.5},46425.37,46425.37]
["111","ТЕР06-01-013-01","Устройство подливки толщиной  20 мм // прим. бетонное покрытие отмостки","100 м2 подливки под оборудование",2.2160000000000002,{"$f":"G342/E342","v":78207.05},173306.83,{"$f":"I342/E342","v":2742.82},6078.09,179384.92]
[null,"101-1805","Гвозди строительные","т",null,null,null,null,null,0]
[null,"102-0053","Доски обрезные хвойных пород длиной: 4-6,5 м, шириной 75-150 мм, толщиной 25 мм, III сорта","м3",null,null,null,null,null,0]
[null,"102-0061","Доски обрезные хвойных пород длиной: 4-6,5 м, шириной 75-150 мм, толщиной 44 мм и более, III сорта","м3",null,null,null,null,null,0]
["112","ТЕР06-01-013-02","На каждые 10 мм изменения толщины добавлять или исключать к расценке 06-01-013-01 // до 30-130 мм","100 м2 подливки под оборудование",2.2160000000000002,{"$f":"G346/E346","v":134485.01},298018.78999999998,{"$f":"I346/E346","v":4021.85},8912.43,306931.21999999997]
[null,"101-1805","Гвозди строительные","т",null,null,null,null,null,0]
[null,"102-0053","Доски обрезные хвойных пород длиной: 4-6,5 м, шириной 75-150 мм, толщиной 25 мм, III сорта","м3",null,null,null,null,null,0]
[null,"102-0061","Доски обрезные хвойных пород длиной: 4-6,5 м, шириной 75-150 мм, толщиной 44 мм и более, III сорта","м3",null,null,null,null,null,0]
["113","Прайс","Бетон  В15","м3",18.082999999999998,{"$f":"G350/E350","v":0},0,{"$f":"I350/E350","v":8793.19},159007.29,159007.29]
["114","ТЕР11-01-015-07","Шлифовка бетонных или металлоцементных покрытий","100 м2 покрытия",2.2160000000000002,{"$f":"G351/E351","v":153189.35999999999},339467.62,{"$f":"I351/E351","v":180.22},399.36,339866.98]
[null,"101-2109","Карборунд","кг",null,null,null,null,null,0]
[null,"411-0001","Вода","м3",null,null,null,null,null,0]
["115","ТЕР11-01-015-08","Железнение цементных покрытий","100 м2 покрытия",2.2160000000000002,{"$f":"G354/E354","v":26257.45},58186.5,{"$f":"I354/E354","v":538.05999999999995},1192.3499999999999,59378.85]
[null,"101-1305","Портландцемент общестроительного назначения бездобавочный, марки: 400","т",null,null,null,null,null,0]
[null,"411-0001","Вода","м3",null,null,null,null,null,0]
["116","ТЕР27-06-007-02","Устройство швов в бетоне: свежеуложенном","100 м шва",0.73870000000000002,{"$f":"G357/E357","v":51132.42},37771.519999999997,{"$f":"I357/E357","v":486.18},359.14,38130.660000000003]
[null,"101-1682","Шнур полиамидный крученый, диаметром 2 мм","т",null,null,null,null,null,0]
[null,"113-1952","Пленка полиэтиленовая толщиной: 0,2-0,5 мм, изоловая","м2",null,null,null,null,null,0]
["117","ТЕР27-02-010-02","Установка бортовых камней бетонных: при других видах покрытий","100 м бортового камня",221.6,{"$f":"G360/E360","v":227355.63},50382008.090000004,{"$f":"I360/E360","v":50612.480000000003},11215724.5,61597732.590000004]
[null,"101-1805","Гвозди строительные","т",null,null,null,null,null,0]
[null,"102-0038","Брусья необрезные хвойных пород длиной: 4-6,5 м, все ширины, толщиной 100, 125 мм, IV сорта","м3",37.671999999999997,null,null,null,null,0]
[null,"401-0006","Бетон тяжелый, класс: В15 (М200)","м3",1307.44,null,null,null,null,0]
[null,"402-0004","Раствор готовый кладочный цементный марки: 100","м3",13.295999999999999,null,null,null,null,0]
["118","ТЦ_04.13.00.00_78_7842083836_15.02.2024_02","Камни бортовые БР100.20.8","шт",222,{"$f":"G365/E365","v":0},0,{"$f":"I365/E365","v":308.89999999999998},68575.72,68575.72]
[null,null,"Всего, руб. с НДС",null,null,null,{"$f":"SUM(G11:G365)","v":72522157.680000007},null,{"$f":"SUM(I11:I365)","v":23132825.989999998},{"$f":"SUM(J11:J365)","v":95654977.670000002},null,null,null,null,null,null,null,null,{"$f":"SUM(S361:S365)","v":0},null,{"$f":"SUM(U361:U365)","v":0},{"$f":"SUM(V361:V365)","v":0}]
[null,null,"Всего, руб. без НДС",null,null,null,{"$f":"G366/1.2","v":60435131.399999999},null,{"$f":"I366/1.2","v":19277354.989999998},{"$f":"J366/1.2","v":79712481.390000001},null,null,null,null,null,null,null,null,{"$f":"S366/1.2","v":0},null,{"$f":"U366/1.2","v":0},{"$f":"V366/1.2","v":0}]

{"sheet":"1632-2021-2.2.6-АР","index":2,"n_rows":192,"n_cols":22,"rows_kept":192,"cut":false,"hidden":false,"merged":[[3,0,3,4]]}
[]
["Терминал по перевалке минеральных удобрений в морском торговом порту Усть-Луга. Береговые объекты терминала"]
["(наименование стройки)"]
["1632-2021-2.2.6-АР_07.04.025-П-00-00"]
["(локальная смета)"]
["на Архитектурные решения, 07.04.025 Пересыпная станция №6 (код SAP 01.02.020) код ГП 2.2.6"]
["(наименование работ и затрат, наименование объекта)"]
[null,"Основание:","1632-2021-2.2.6-АР_0_0_RU_IFR"]
[]
["№ п/п","Обоснование","Наименование работ и затрат","Ед. изм.","Кол-во","Цена за ед.измерения работ, руб. с НДС","Всего, стоимость работ,руб. с НДС","Цена за ед.измерения материалов, руб. с НДС","Всего, стоимость материалов, руб. с НДС","Итого, руб. с НДС"]
[1,2,3,4,5,6,7,8,9,10]
["Раздел 1. Фасады, (1632-2021-2.2.6-АР, л. 4, Спецификация элементов ограждающих конструкций)",null,null,null,null,null,null,null,null,{"$f":"G12+I12","v":0}]
["Раздел 2. Кровля, (1632-2021-2.2.6-АР, л. 4, Спецификация элементов водосточной системы)",null,null,null,null,null,null,null,null,0]
["Монтаж кровельного покрытия  из профнастила учтен в разделе КМ",null,null,null,null,null,null,null,null,0]
["1","ТЕР12-01-009-02","Устройство желобов: подвесных","100 м желобов",0.161,{"$f":"G15/E15","v":65805.22},10594.64,{"$f":"I15/E15","v":21878.57},3522.45,14117.09]
[null,"101-0173","Гвозди проволочные оцинкованные для асбестоцементной кровли: 4,5х120 мм","т"]
[null,"101-0788","Поковки оцинкованные, масса: 2,825 кг","т"]
["2","ТЦ_12.1.01.00_78_7804606806_25.01.2024_02\nАналог ТССЦ-203-0960 5219,18/5114,28=2%","Водосточный желоб D185х3000","шт",5.37,{"$f":"G18/E18","v":0},0,{"$f":"I18/E18","v":1743.67},9363.51,{"$f":"G18+I18","v":9363.51}]
["3","ТЦ_12.1.01.00_78_7804606806_25.01.2024_02\nАналог ТССЦ-203-0960 5219,18/5114,28=2%","Держатель желоба","шт",27,{"$f":"G19/E19","v":0},0,{"$f":"I19/E19","v":769.31},20771.25,20771.25]
["4","ТЦ_12.1.01.00_78_7804606806_25.01.2024_02\nАналог ТССЦ-203-0960 5219,18/5114,28=2%","Заглушка","шт",3,{"$f":"G20/E20","v":0},0,{"$f":"I20/E20","v":381.17},1143.5,1143.5]
["5","ТЕР12-01-008-01","Устройство обделок на фасадах (наружные подоконники, пояски, балконы и др.): включая водосточные трубы, с изготовлением элементов труб","100 м2фасада (без вычета проемов)",5.6775000000000002,{"$f":"G21/E21","v":27777.32},157705.76,{"$f":"I21/E21","v":164.97},936.64,158642.4]
[null,"101-0195","Гвозди толевые круглые: 3,0х40 мм","т"]
["6","ТЦ_12.1.01.00_78_7804606806_25.01.2024_02\nАналог ТССЦ-203-0960 5219,18/5114,28=2%","Труба водосточная D150х3000мм","шт",12.33,{"$f":"G23/E23","v":0},0,{"$f":"I23/E23","v":2125.83},26211.51,26211.51]
["7","ТЦ_12.1.01.00_78_7804606806_25.01.2024_02\nАналог ТССЦ-203-0960 5219,18/5114,28=2%","Крепление трубы","шт",37,{"$f":"G24/E24","v":0},0,{"$f":"I24/E24","v":321.08999999999997},11880.37,11880.37]
["8","ТЦ_12.1.01.00_78_7804606806_25.01.2024_02\nАналог ТССЦ-203-0960 5219,18/5114,28=2%","Колено гофрированное","шт",6,{"$f":"G25/E25","v":0},0,{"$f":"I25/E25","v":488.43},2930.59,2930.59]
["9","ТЕР16-07-002-01","Установка воронок водосточных","1 воронка",2,{"$f":"G26/E26","v":7982.98},15965.95,{"$f":"I26/E26","v":54.59},109.18,16075.13]
[null,"101-0311","Каболка","т"]
[null,"101-1355","Цемент гипсоглиноземистый расширяющийся","т"]
[null,"101-1522","Электроды диаметром: 5 мм Э42А","т"]
["10","ТЦ_12.1.01.05_78_7804550906_25.01.2024_02\nАналог ТССЦ-203-0960 5219,18/5114,28=2%","Воронка выпускная D185/150","шт",2,{"$f":"G30/E30","v":0},0,{"$f":"I30/E30","v":823.87},1647.74,1647.74]
["11","ТЕР12-01-012-01","Ограждение кровель перилами, (установка снегозадержателя, прим.)","100 м ограждения",0.15,{"$f":"G31/E31","v":16118.2},2417.73,{"$f":"I31/E31","v":402.27},60.34,2478.0700000000002]
[null,"101-1529","Электроды диаметром: 6 мм Э42","т"]
[null,"101-1851","Резина прессованная","кг"]
["12","ТЦ_12.1.01.00_78_7804606806_25.01.2024_02\nАналог ТССЦ-203-0960 5219,18/5114,28=2%","Снегозадержатель трубчатый, (L=3 м. в комплекте с креплением)","шт",5,{"$f":"G34/E34","v":0},0,{"$f":"I34/E34","v":2455.66},12278.29,12278.29]
["Заполнение гофры профлиста негорючим утеплителем на 250 мм, (1632-2021-2.2.6-АР, л. 5)",null,null,null,null,null,null,null,null,0]
["13","ТЕР26-01-037-02","Изоляция изделиями из волокнистых и зернистых материалов на битуме холодных поверхностей: покрытий и перекрытий сверху // прим. расход 0,0072 м3 /м.п. примыкания","1 м3 изоляции",0.108,{"$f":"G36/E36","v":25232.959999999999},2725.16,{"$f":"I36/E36","v":15097.22},1630.5,4355.66]
[null,"101-0079","Битумы нефтяные строительные для кровельных мастик марки: БНМ-55/60","т"]
[null,"104-0007","Плиты из минеральной ваты: повышенной жесткости на синтетическом связующем М-200","м3"]
["Раздел 3. Окна, (1632-2021-2.2.6-АР, л. 4, Спецификация элементов заполнения оконных проемов)",null,null,null,null,null,null,null,null,0]
["14","ТЕР10-01-034-03","Установка в жилых и общественных зданиях оконных блоков из ПВХ профилей: поворотных (откидных, поворотно-откидных) с площадью проема до 2 м2 одностворчатых","100 м2 проемов",8.4000000000000005E-2,{"$f":"G40/E40","v":468370.48},39343.120000000003,{"$f":"I40/E40","v":156174.76},13118.68,52461.8]
[null,"101-2052","Лента бутиловая","м"]
[null,"101-2054","Лента бутиловая диффузионная","м"]
[null,"101-2388","Герметик пенополиуретановый (пена монтажная) типа Makrofleks, Soudal в баллонах по 750 мл","шт."]
[null,"101-2789","Лента ПСУЛ","10 м"]
[null,"101-4173","Дюбели монтажные 10х130 (10х132, 10х150) мм","10 шт."]
[null,"102-0303","Клинья пластиковые монтажные","100 шт."]
["15","ТЦ_11.3.02.02_78_7804550906_25.01.2024_02","Ок1. Оконный блок из ПВХ профилей с одинарным\nостеклением, с открывающейся створкой, ОП 1100-1400 (6M1) ГОСТ 30674-99","шт",6,{"$f":"G47/E47","v":0},0,{"$f":"I47/E47","v":9768.86},58613.16,58613.16]
["Раздел 4. Дверные проемы и ворота, (1632-2021-2.2.6-АР, л. 4, Спецификация элементов заполнения дверных проемов)",null,null,null,null,null,null,null,null,0]
["Установка дверей",null,null,null,null,null,null,null,null,0]
["16","ТЕР09-04-012-01","Установка металлических дверных блоков в готовые проемы","1 м2 проема",8.4,{"$f":"G50/E50","v":6003.29},50427.63,{"$f":"I50/E50","v":327.67},2752.45,53180.08]
[null,"101-1513","Электроды диаметром: 4 мм Э42","т"]
[null,"101-1921","Пена монтажная: для герметизации стыков в баллончике емкостью 0,85 л","шт."]
[null,"204-0062","Детали закладные и накладные изготовленные: без применения сварки, гнутья, сверления (пробивки) отверстий поставляемые отдельно","т"]
["17","ТЕР09-04-012-02","Установка дверного доводчика к металлическим дверям","1 шт.",4,{"$f":"G54/E54","v":2614.54},10458.17,{"$f":"I54/E54","v":10.78},43.1,10501.27]
[null,"101-1513","Электроды диаметром: 4 мм Э42","т"]
[null,"101-1845","Винты самонарезающие: с уплотнительной прокладкой 4,8х35 мм","100 шт."]
["18","ТЦ_07.1.01.03_78_7810347194_06.02.2024_02","ДСН, Оп, Л, Прг, Н, М3 1000Х2100(h)","шт",2,{"$f":"G57/E57","v":0},0,{"$f":"I57/E57","v":35195.050000000003},70390.100000000006,70390.100000000006]
["19","ТЦ_07.1.01.03_78_7810347194_06.02.2024_02","ДСН, Оп, Л, Прг, Н, М3 1000Х2100(h) утепленная","шт",2,{"$f":"G58/E58","v":0},0,{"$f":"I58/E58","v":35195.050000000003},70390.100000000006,70390.100000000006]
["20","ТЕР09-04-013-01","Установка противопожарных дверей: однопольных глухих","1 м2 проема",8.4,{"$f":"G59/E59","v":5120.1499999999996},43009.23,{"$f":"I59/E59","v":675.01},5670.11,48679.34]
[null,"101-1513","Электроды диаметром: 4 мм Э42","т"]
[null,"101-1929","Болты анкерные","т"]
[null,"101-3661","Пена монтажная: противопожарная полиуретановая NULLIFIRE (0,88 л)","шт."]
["21","ТЦ_07.1.01.03_78_7841375755_25.01.2024_02","ДПС 01 2100-1000 правая EI30 ГОСТ Р 57327-2016","шт",1,{"$f":"G63/E63","v":0},0,{"$f":"I63/E63","v":26485.89},26485.89,26485.89]
["22","ТЦ_07.1.01.03_78_7841375755_25.01.2024_02","ДПС 01 2100-1000 левая EI30 ГОСТ Р 57327-2016","шт",1,{"$f":"G64/E64","v":0},0,{"$f":"I64/E64","v":26485.89},26485.89,26485.89]
["23","ТЦ_07.1.01.03_78_7841375755_25.01.2024_02","ДПС 01 2100-1000 правая EI60 ГОСТ Р 57327-2016","шт",1,{"$f":"G65/E65","v":0},0,{"$f":"I65/E65","v":26485.89},26485.89,26485.89]
["24","ТЦ_07.1.01.03_78_7841375755_25.01.2024_02","ДПС 01 2100-1000 левая EI60 ГОСТ Р 57327-2016","шт",1,{"$f":"G66/E66","v":0},0,{"$f":"I66/E66","v":26485.89},26485.89,26485.89]
["Установка ворот",null,null,null,null,null,null,null,null,0]
["25","ТЕР09-04-011-01","Монтаж каркасов ворот большепролетных зданий, ангаров и др. без механизмов открывания","1 т конструкций",0.73036000000000001,{"$f":"G68/E68","v":174275.28},127283.69,{"$f":"I68/E68","v":8951.4599999999991},6537.79,133821.48000000001]
[null,"101-0309","Канаты пеньковые пропитанные","т"]
[null,"101-0324","Кислород технический: газообразный","м3"]
[null,"101-0797","Проволока горячекатаная в мотках, диаметром 6,3-6,5 мм","т"]
[null,"101-1019","Швеллеры № 40 из стали марки: Ст0","т"]
[null,"101-1515","Электроды диаметром: 4 мм Э46","т"]
[null,"101-1805","Гвозди строительные","т"]
[null,"101-2278","Пропан-бутан, смесь техническая","кг"]
[null,"101-2467","Растворитель марки: Р-4","т"]
[null,"102-0023","Бруски обрезные хвойных пород длиной: 4-6,5 м, шириной 75-150 мм, толщиной 40-75 мм, I сорта","м3"]
[null,"113-0021","Грунтовка: ГФ-021 красно-коричневая","т"]
[null,"201-0756","Отдельные конструктивные элементы зданий и сооружений с преобладанием: горячекатаных профилей, средняя масса сборочной единицы от 0,1 до 0,5 т","т"]
[null,"508-0097","Канат двойной свивки типа ТК, конструкции 6х19(1+6+12)+1 о.с., оцинкованный из проволок марки В, маркировочная группа: 1770 н/мм2, диаметром 5,5 мм","10 м"]
["26","ТЦ_01.16.00.00_78_7841375755_25.01.2024_02","Ворота металлические распашные, открывание наружу, с калиткой 3100х3100(h) мм, (вес=76,0 кг/м²)","шт",1,{"$f":"G81/E81","v":0},0,{"$f":"I81/E81","v":201276.69},201276.69,{"$f":"G81+I81","v":201276.69}]
["Раздел 5. Помещения, (1632-2021-2.2.6-АР, л. 4, Ведомость отделки)",null,null,null,null,null,null,null,null,0]
["Стены",null,null,null,null,null,null,null,null,0]
["Потолок",null,null,null,null,null,null,null,null,0]
["Раздел 6. Полы, (1632-2021-2.2.6-АР, л. 4, Экспликация полов)",null,null,null,null,null,null,null,null,0]
["Тип 1.  S=144 м2",null,null,null,null,null,null,null,null,0]
["27","ТЕР11-01-011-03","Устройство стяжек: бетонных толщиной 20 мм, (h=100 мм)","100 м2 стяжки",1.44,{"$f":"G87/E87","v":83767.520000000004},120625.23,{"$f":"I87/E87","v":93.78},135.04,120760.27]
[null,"411-0001","Вода","м3"]
["28","ТЕР11-01-011-04","Устройство стяжек: на каждые 5 мм изменения толщины стяжки добавлять или исключать к расценке 11-01-011-03, (добавить 80 мм)","100 м2 стяжки",1.44,{"$f":"G89/E89","v":25814.22},37172.480000000003,{"$f":"I89/E89","v":0},0,37172.480000000003]
["29","ТЦ_59.1.04.01_47_4707009037_08.02.2024_02","Бетон  В22,5","м3",14.688000000000001,{"$f":"G90/E90","v":0},0,{"$f":"I90/E90","v":9325.7199999999993},136976.18,136976.18]
["30","ТЕР06-01-015-10","Армирование подстилающих слоев и набетонок","1 т",0.252,{"$f":"G91/E91","v":27716.51},6984.56,{"$f":"I91/E91","v":3004.25},757.07,7741.63]
[null,"101-0816","Проволока светлая диаметром: 1,1 мм","т"]
["31","ТЦ_08.4.02.05_66_6686134976_08.02.2024_02\nАналог ТССЦ-101-3891 21,17/20,58=2%","Сетка арматурная 4Вр1 яч. 100х100, (вес=1,75 кг/м²)","м2",144,{"$f":"G93/E93","v":0},0,{"$f":"I93/E93","v":118.44},17054.86,17054.86]
["32","ТЕР11-01-020-03","Устройство покрытий поливинилацетатных: толщиной 3 мм, (полимерное защитное покрытие, h=3 мм, прим.)","100 м2 покрытия",1.44,{"$f":"G94/E94","v":180031.13},259244.83,{"$f":"I94/E94","v":147312.44},212129.91,471374.74]
[null,"101-0430","Краски масляные и алкидные земляные, готовые к применению: сурик железный МА-15, ПФ-14","т"]
[null,"101-0433","Краски масляные и алкидные земляные, готовые к применению: охра МА-15","т"]
[null,"101-1305","Портландцемент общестроительного назначения бездобавочный, марки: 400","т"]
[null,"101-1591","Смола каменноугольная для дорожного строительства","т"]
[null,"101-2293","Кислота ортофосфорная: техническая, сорт I","т"]
[null,"101-2358","Дисперсия поливинилацетатная непластифицированная марки Д50Н","кг"]
[null,"113-0306","Маршалит","т"]
[null,"408-0122","Песок природный для строительных: работ средний","м3"]
[null,"411-0001","Вода","м3"]
["Тип 2.  S=18 м2",null,null,null,null,null,null,null,null,0]
["33","ТЕР26-01-039-01","Изоляция покрытий и перекрытий изделиями из волокнистых и зернистых материалов насухо","1 м3 изоляции",0.9,{"$f":"G105/E105","v":24043.26},21638.93,{"$f":"I105/E105","v":0},0,21638.93]
["34","ТЦ_12.2.05.06_78_7805028121_08.02.2024_02\nАналог ТССЦ-104-0119 650,75/632,35=2%","Пенополистирол экструдированный ТЕХНОНИКОЛЬ t=50 мм","м3",0.91800000000000004,{"$f":"G106/E106","v":0},0,{"$f":"I106/E106","v":12141.92},11146.28,11146.28]
["35","ТЕР11-01-050-01","Устройство пароизоляции из полиэтиленовой пленки в один слой насухо","100 м2 поверхности",0.18,{"$f":"G107/E107","v":7470.11},1344.62,{"$f":"I107/E107","v":19002.5},3420.45,4765.07]
[null,"113-0324","Пленка полиэтиленовая толщиной: 0,2-0,5 мм","м2"]
["36","ТЕР11-01-011-03","Устройство стяжек: бетонных толщиной 20 мм, (h=50 мм)","100 м2 стяжки",0.18,{"$f":"G109/E109","v":83783.5},15081.03,{"$f":"I109/E109","v":95.78},17.239999999999998,15098.27]
[null,"411-0001","Вода","м3"]
["37","ТЕР11-01-011-04","Устройство стяжек: на каждые 5 мм изменения толщины стяжки добавлять или исключать к расценке 11-01-011-03, (добавить 30 мм)","100 м2 стяжки",0.18,{"$f":"G111/E111","v":9664.89},1739.68,{"$f":"I111/E111","v":0},0,1739.68]
["38","ТЦ_59.1.04.01_47_4707009037_08.02.2024_02","Бетон  В22,5","м3",0.91800000000000004,{"$f":"G112/E112","v":0},0,{"$f":"I112/E112","v":9325.1299999999992},8560.4699999999993,8560.4699999999993]
["39","ТЕР06-01-015-10","Армирование подстилающих слоев и набетонок","1 т",3.2000000000000001E-2,{"$f":"G113/E113","v":27698.75},886.36,{"$f":"I113/E113","v":3007.81},96.25,982.61]
[null,"101-0816","Проволока светлая диаметром: 1,1 мм","т"]
["40","ТЦ_08.4.02.05_66_6686134976_08.02.2024_02\nАналог ТССЦ-101-3891 21,17/20,58=2%","Сетка арматурная 4Вр1 яч. 100х100, (вес=1,75 кг/м²)","м2",18,{"$f":"G115/E115","v":0},0,{"$f":"I115/E115","v":118.44},2131.86,2131.86]
["41","ТЕР11-01-020-03","Устройство покрытий поливинилацетатных: толщиной 3 мм, (полимерное защитное покрытие, h=3 мм, прим.)","100 м2 покрытия",0.18,{"$f":"G116/E116","v":180017.17},32403.09,{"$f":"I116/E116","v":147311.44},26516.06,58919.15]
[null,"101-0430","Краски масляные и алкидные земляные, готовые к применению: сурик железный МА-15, ПФ-14","т"]
[null,"101-0433","Краски масляные и алкидные земляные, готовые к применению: охра МА-15","т"]
[null,"101-1305","Портландцемент общестроительного назначения бездобавочный, марки: 400","т"]
[null,"101-1591","Смола каменноугольная для дорожного строительства","т"]
[null,"101-2293","Кислота ортофосфорная: техническая, сорт I","т"]
[null,"101-2358","Дисперсия поливинилацетатная непластифицированная марки Д50Н","кг"]
[null,"113-0306","Маршалит","т"]
[null,"408-0122","Песок природный для строительных: работ средний","м3"]
[null,"411-0001","Вода","м3"]
["Тип 3.  S=136,9 м2",null,null,null,null,null,null,null,null,0]
["42","ТЕР11-01-011-03","Устройство стяжек: бетонных толщиной 20 мм, (h=27 мм)","100 м2 стяжки",1.369,{"$f":"G127/E127","v":83769.72},114680.74,{"$f":"I127/E127","v":93.39},127.85,114808.59]
[null,"411-0001","Вода","м3"]
["43","ТЕР11-01-011-04","Устройство стяжек: на каждые 5 мм изменения толщины стяжки добавлять или исключать к расценке 11-01-011-03, (добавить 7 мм)","100 м2 стяжки",1.369,{"$f":"G129/E129","v":2259.25},3092.92,{"$f":"I129/E129","v":0},0,3092.92]
["44","ТЦ_59.1.04.01_47_4707009037_08.02.2024_02","Бетон  В22,5","м3",3.77,{"$f":"G130/E130","v":0},0,{"$f":"I130/E130","v":9325.84},35158.42,35158.42]
["45","ТЕР11-01-020-03","Устройство покрытий поливинилацетатных: толщиной 3 мм, (полимерное защитное покрытие, h=3 мм, прим.)","100 м2 покрытия",1.369,{"$f":"G131/E131","v":180034.05},246466.61,{"$f":"I131/E131","v":147311.07999999999},201668.87,448135.48]
[null,"101-0430","Краски масляные и алкидные земляные, готовые к применению: сурик железный МА-15, ПФ-14","т"]
[null,"101-0433","Краски масляные и алкидные земляные, готовые к применению: охра МА-15","т"]
[null,"101-1305","Портландцемент общестроительного назначения бездобавочный, марки: 400","т"]
[null,"101-1591","Смола каменноугольная для дорожного строительства","т"]
[null,"101-2293","Кислота ортофосфорная: техническая, сорт I","т"]
[null,"101-2358","Дисперсия поливинилацетатная непластифицированная марки Д50Н","кг"]
[null,"113-0306","Маршалит","т"]
[null,"408-0122","Песок природный для строительных: работ средний","м3"]
[null,"411-0001","Вода","м3"]
["Тип 4.  S=4,2 м2",null,null,null,null,null,null,null,null,0]
["46","ТЕР11-01-011-03","Устройство стяжек: бетонных толщиной 20 мм, (по уклону h=(50+100)/2=75 мм)","100 м2 стяжки",4.2000000000000003E-2,{"$f":"G142/E142","v":83799.520000000004},3519.58,{"$f":"I142/E142","v":102.62},4.3099999999999996,3523.89]
[null,"411-0001","Вода","м3"]
["47","ТЕР11-01-011-04","Устройство стяжек: на каждые 5 мм изменения толщины стяжки добавлять или исключать к расценке 11-01-011-03, (добавить 55 мм)","100 м2 стяжки",4.2000000000000003E-2,{"$f":"G144/E144","v":17717.62},744.14,{"$f":"I144/E144","v":0},0,{"$f":"G144+I144","v":744.14}]
["48","ТЦ_59.1.04.01_47_4707009037_08.02.2024_02","Бетон  В22,5","м3",0.32100000000000001,{"$f":"G145/E145","v":0},0,{"$f":"I145/E145","v":9326.4500000000007},2993.79,2993.79]
["49","ТЕР11-01-020-03","Устройство покрытий поливинилацетатных: толщиной 3 мм, (полимерное защитное покрытие, h=3 мм, прим.)","100 м2 покрытия",4.2000000000000003E-2,{"$f":"G146/E146","v":180049.05},7562.06,{"$f":"I146/E146","v":147315.95000000001},6187.27,13749.33]
[null,"101-0430","Краски масляные и алкидные земляные, готовые к применению: сурик железный МА-15, ПФ-14","т"]
[null,"101-0433","Краски масляные и алкидные земляные, готовые к применению: охра МА-15","т"]
[null,"101-1305","Портландцемент общестроительного назначения бездобавочный, марки: 400","т"]
[null,"101-1591","Смола каменноугольная для дорожного строительства","т"]
[null,"101-2293","Кислота ортофосфорная: техническая, сорт I","т"]
[null,"101-2358","Дисперсия поливинилацетатная непластифицированная марки Д50Н","кг"]
[null,"113-0306","Маршалит","т"]
[null,"408-0122","Песок природный для строительных: работ средний","м3"]
[null,"411-0001","Вода","м3"]
["Раздел 7. Отделка, (1632-2021-2.2.6-АР, л. 4, Ведомость отделки)",null,null,null,null,null,null,null,null,0]
["Цоколь",null,null,null,null,null,null,null,null,0]
["50","ТЕР11-01-015-07","Шлифовка бетонных или металлоцементных покрытий, (затирка поверхности цоколя, прим.)","100 м2 покрытия",1.137,{"$f":"G158/E158","v":191488.52},217722.45,{"$f":"I158/E158","v":179.41},203.99,217926.44]
[null,"101-2109","Карборунд","кг"]
[null,"411-0001","Вода","м3"]
["51","ТЕР15-04-015-02","Окраска фасадов с люлек с подготовкой поверхности: силикатная, (прим.)","100 м2 фасада",1.137,{"$f":"G161/E161","v":71764.929999999993},81596.72,{"$f":"I161/E161","v":8107.67},9218.42,90815.14]
[null,"101-1757","Ветошь","кг"]
[null,"101-1841","Краски силикатные зеленая и красная","т"]
[null,"113-0043","Жидкость: гидрофобизирующая ГКЖ-10","т"]
[null,"113-0368","Стекло жидкое калийное","т"]
[null,"402-0083","Раствор готовый отделочный тяжелый,: цементно-известковый 1:1:6","м3"]
[null,"409-0639","Пемза шлаковая (щебень пористый из металлургического шлака), марка 600, фракция 5-10 мм","м3"]
[null,"411-0001","Вода","м3"]
["Окраска конструкций стен и потолков из профлиста, учтена в сметах к разделу КМ",null,null,null,null,null,null,null,null,0]
["Раздел 8. Отмостка, (1632-2021-2.2.6-АР, л. 5-6, Узлы)",null,null,null,null,null,null,null,null,0]
["52","ТЕР27-04-001-04","Устройство подстилающих и выравнивающих слоев оснований: из щебня","100 м3 материала основания (в плотном теле)",0.1603,{"$f":"G171/E171","v":206235.81},33059.599999999999,{"$f":"I171/E171","v":188.21},30.17,33089.769999999997]
[null,"411-0001","Вода","м3"]
["53","ТССЦ-408-0015","Щебень из природного камня для строительных работ марка: 800, фракция 20-40 мм","м3",20.2,{"$f":"G173/E173","v":0},0,{"$f":"I173/E173","v":3394.2},68562.789999999994,68562.789999999994]
["54","ТЕР06-01-013-01","Устройство подливки толщиной  20 мм, (бетонное основание, h=60 мм, прим.)","100 м2 подливки под оборудование",0.53439999999999999,{"$f":"G174/E174","v":87982.43},47017.81,{"$f":"I174/E174","v":2741.93},1465.29,48483.1]
[null,"101-1805","Гвозди строительные","т"]
[null,"102-0053","Доски обрезные хвойных пород длиной: 4-6,5 м, шириной 75-150 мм, толщиной 25 мм, III сорта","м3"]
[null,"102-0061","Доски обрезные хвойных пород длиной: 4-6,5 м, шириной 75-150 мм, толщиной 44 мм и более, III сорта","м3"]
["55","ТЕР06-01-013-02","На каждые 10 мм изменения толщины добавлять или исключать к расценке 06-01-013-01, (добавить 40 мм)","100 м2 подливки под оборудование",0.53439999999999999,{"$f":"G178/E178","v":100860.68},53899.95,{"$f":"I178/E178","v":2682.8},1433.69,55333.64]
[null,"101-1805","Гвозди строительные","т"]
[null,"102-0053","Доски обрезные хвойных пород длиной: 4-6,5 м, шириной 75-150 мм, толщиной 25 мм, III сорта","м3"]
[null,"102-0061","Доски обрезные хвойных пород длиной: 4-6,5 м, шириной 75-150 мм, толщиной 44 мм и более, III сорта","м3"]
["56","ТЦ_59.1.04.01_47_4707009037_08.02.2024_02","Бетон  В15","м3",3.27,{"$f":"G182/E182","v":0},0,{"$f":"I182/E182","v":8792.9},28752.79,28752.79]
["57","ТЕР06-01-015-10","Армирование подстилающих слоев и набетонок","1 т",0.23669999999999999,{"$f":"G183/E183","v":27711.62},6559.34,{"$f":"I183/E183","v":3010.27},712.53,7271.87]
[null,"101-0816","Проволока светлая диаметром: 1,1 мм","т"]
["58","ТЦ_08.4.02.05_66_6686134976_08.02.2024_02\nАналог ТССЦ-101-3891 21,17/20,58=2%","Сетка арматурная 6Вр1 яч. 100х100, (вес=4,43 кг/м²)","м2",53.44,{"$f":"G185/E185","v":0},0,{"$f":"I185/E185","v":274.68},14678.79,14678.79]
["59","ТЕР11-01-019-01","Устройство покрытий асфальтобетонных: литых толщиной 25 мм","100 м2 покрытия",0.53439999999999999,{"$f":"G186/E186","v":60524.31},32344.19,{"$f":"I186/E186","v":18806.490000000002},10050.19,42394.38]
[null,"101-0073","Битумы нефтяные строительные марки: БН-90/10","т"]
[null,"101-0322","Керосин для технических целей марок КТ-1, КТ-2","т"]
[null,"102-0085","Бруски обрезные хвойных пород длиной: 2-3,75 м, шириной 75-150 мм, толщиной 40-75 мм, III сорта","м3"]
[null,"410-1020","Асфальт литой: для покрытий тротуаров","м3"]
[null,null,"Всего, руб. с НДС",null,null,null,{"$f":"SUM(G12:G190)","v":1805318},null,{"$f":"SUM(I12:I190)","v":1427412.44},{"$f":"SUM(J12:J190)","v":3232730.44},null,null,null,null,null,null,null,null,{"$f":"SUM(S186:S190)","v":0},null,{"$f":"SUM(U186:U190)","v":0},{"$f":"SUM(V186:V190)","v":0}]
[null,null,"Всего, руб. без НДС",null,null,null,{"$f":"G191/1.2","v":1504431.67},null,{"$f":"I191/1.2","v":1189510.3700000001},{"$f":"J191/1.2","v":2693942.03},null,null,null,null,null,null,null,null,{"$f":"S191/1.2","v":0},null,{"$f":"U191/1.2","v":0},{"$f":"V191/1.2","v":0}]

{"sheet":"1632-2021-2.2.2-АР","index":3,"n_rows":230,"n_cols":10,"rows_kept":230,"cut":false,"hidden":false,"merged":[]}
[]
["Терминал по перевалке минеральных удобрений в морском торговом порту Усть-Луга. Береговые объекты терминала"]
["(наименование стройки)"]
["1632-2021-2.2.2 -АР_07.04.021-П-00-01"]
["(локальная смета)"]
["на Архитектурные решения, Пересыпная станция № 2"]
["(наименование работ и затрат, наименование объекта)"]
[null,"Основание:","1632-2021-2.2.2 -АР_1_0_RU_IFC"]
[]
["№ п/п","Обоснование","Наименование работ и затрат","Ед. изм.","Кол-во","Цена за ед.измерения работ, руб. с НДС","Всего, стоимость работ,руб. с НДС","Цена за ед.измерения материалов, руб. с НДС","Всего, стоимость материалов, руб. с НДС","Итого, руб. с НДС"]
["1","2","3","4","5",6,7,8,9,10]
["Раздел 1. Фасадные работы"]
["Раздел 2. Кровля"]
["Монтаж кровельного покрытия  из профнастила учтен в разделе КМ"]
["1","ТЕР12-01-009-02","Устройство желобов: подвесных","100 м желобов",1.5640000000000001,{"$f":"G15/E15","v":65795.009999999995},102903.4,{"$f":"I15/E15","v":21888.54},34233.67,{"$f":"G15+I15","v":137137.07}]
[null,"101-0173","Гвозди проволочные оцинкованные для асбестоцементной кровли: 4,5х120 мм","т",null,null,null,null,null,{"$f":"G16+I16","v":0}]
[null,"101-0788","Поковки оцинкованные, масса: 2,825 кг","т",null,null,null,null,null,0]
["2","ТЦ_12.1.01.00_78_7804606806_25.01.2024_02\nАналог  ТССЦ-301-5883    286,47/280,65=2%","Желоб водосточный D185х3000","шт",52,{"$f":"G18/E18","v":0},0,{"$f":"I18/E18","v":1709.47},88892.25,88892.25]
["3","ТЦ_12.1.01.00_78_7804606806_25.01.2024_02\nАналог  ТССЦ-301-5881    61,11/59,89=2%","Держатель желоба","шт",260,{"$f":"G19/E19","v":0},0,{"$f":"I19/E19","v":754.15},196079.19,196079.19]
["4","ТЕР12-01-008-01\nплощадь боковой поверхности трубопровода","Устройство обделок на фасадах (наружные подоконники, пояски, балконы и др.): включая водосточные трубы, с изготовлением элементов труб// прим.навеска водосточных труб","100 м2фасада (без вычета проемов)",0.89490000000000003,{"$f":"G20/E20","v":27777.08},24857.71,{"$f":"I20/E20","v":2212.69},1980.14,26837.85]
[null,"101-0195","Гвозди толевые круглые: 3,0х40 мм","т",null,null,null,null,null,0]
[null,"101-0788","Поковки оцинкованные, масса: 2,825 кг","т",null,null,null,null,null,0]
[null,"101-0795","Проволока канатная оцинкованная, диаметром: 3 мм","т",null,null,null,null,null,0]
["5","ТЕР12-01-008-02","Устройство обделок на фасадах (наружные подоконники, пояски, балконы и др.): без водосточных труб","100 м2фасада (без вычета проемов)",-0.89490000000000003,{"$f":"G24/E24","v":10153.870000000001},-9086.7000000000007,{"$f":"I24/E24","v":164.85},-147.52000000000001,-9234.2199999999993]
[null,"101-0195","Гвозди толевые круглые: 3,0х40 мм","т",null,null,null,null,null,0]
["6","ТЦ_12.1.01.00_78_7804606806_25.01.2024_02_5.1\nАналог  ТССЦ-301-5895    378,12/370,39=2%","Труба водосточная D150х2000мм","шт",161,{"$f":"G26/E26","v":0},0,{"$f":"I26/E26","v":1389.49},223708.46,223708.46]
["7","ТЦ_12.1.01.00_78_7804606806_25.01.2024_02_6.1\nАналог   ТССЦ-301-5891     68,75/67,38=2%","Крепление трубы","шт",323,{"$f":"G27/E27","v":0},0,{"$f":"I27/E27","v":314.87},101703.74,101703.74]
["8","ТЦ_12.1.01.00_78_7804606806_25.01.2024_02_7.1\nАналог  ТССЦ-301-5887   263,57/258,34=2%","Воронки выпускные D185/150","шт",11,{"$f":"G28/E28","v":0},0,{"$f":"I28/E28","v":808.02},8888.2099999999991,8888.2099999999991]
["9","ТЦ_12.1.01.00_78_7804606806_25.01.2024_02_8.1\nАналог ТССЦ-203-0960 5219,18/5114,28=2%","Колено гофрированное","шт",55,{"$f":"G29/E29","v":0},0,{"$f":"I29/E29","v":478.84},26336.19,26336.19]
["10","ТЦ_12.1.01.00_77_7704792852_03.07.2024_02_9.2\nАналог ТССЦ-301-5848   42,01/41,12=2%","Заглушка","шт",10,{"$f":"G30/E30","v":0},0,{"$f":"I30/E30","v":143.32},1433.16,1433.16]
["11","ТЕР12-01-012-01","Ограждение кровель перилами // прим.","100 м ограждения",1.498,{"$f":"G31/E31","v":16111.66},24135.27,{"$f":"I31/E31","v":402.08},602.32000000000005,24737.59]
[null,"101-1529","Электроды диаметром: 6 мм Э42","т",null,null,null,null,null,0]
[null,"101-1851","Резина прессованная","кг",null,null,null,null,null,0]
["12","ТЦ_12.1.01.00_78_7804606806_25.01.2024_02_10.1\nАналог  ТССЦ-101-7607   13906,14/13630,62=2%","Снегозадержатель трубчатый (L=3 м. в комплекте с креплением)","шт",50,{"$f":"G34/E34","v":0},0,{"$f":"I34/E34","v":2407.39},120369.28,120369.28]
["Раздел 3. Окна",null,null,null,null,null,null,null,null,0]
["13","ТЕР10-01-034-03","Установка в жилых и общественных зданиях оконных блоков из ПВХ профилей: поворотных (откидных, поворотно-откидных) с площадью проема до 2 м2 одностворчатых","100 м2 проемов",0.40600000000000003,{"$f":"G36/E36","v":468381.4},190162.85,{"$f":"I36/E36","v":156176.26},63407.56,253570.41]
[null,"101-2052","Лента бутиловая","м",null,null,null,null,null,0]
[null,"101-2054","Лента бутиловая диффузионная","м",null,null,null,null,null,0]
[null,"101-2388","Герметик пенополиуретановый (пена монтажная) типа Makrofleks, Soudal в баллонах по 750 мл","шт.",null,null,null,null,null,0]
[null,"101-2789","Лента ПСУЛ","10 м",null,null,null,null,null,0]
[null,"101-4173","Дюбели монтажные 10х130 (10х132, 10х150) мм","10 шт.",null,null,null,null,null,0]
[null,"102-0303","Клинья пластиковые монтажные","100 шт.",null,null,null,null,null,0]
["14","ТЦ_11.3.02.02_63_632412092352_11.07.2024_02_25.1\nАналог  ТССЦ-203-0948    4334,49/4247,63=2%","ОК-1.  1400х1000","шт",17,{"$f":"G43/E43","v":0},0,{"$f":"I43/E43","v":20178.939999999999},343042.04,343042.04]
["15","ТЦ_11.3.02.02_63_632412092352_11.07.2024_02_25.1\nАналог  ТССЦ-203-0948    4334,49/4247,63=2%","ОК-2.  1400х1200","шт",10,{"$f":"G44/E44","v":0},0,{"$f":"I44/E44","v":30016.99},300169.90999999997,300169.90999999997]
["16","ТЕР15-01-070-01","Облицовка: оконных проемов в наружных стенах откосной планкой из оцинкованной стали с полимерным покрытием с устройством водоотлива оконного из оцинкованной стали с полимерным покрытием","1 м2 проемов",40.6,{"$f":"G45/E45","v":3276.74},133035.46,{"$f":"I45/E45","v":1423.83},57807.48,190842.94]
[null,"101-1691","Шурупы-саморезы 4,2х16 мм","100 шт.",null,null,null,null,null,0]
[null,"101-2409","Аквилон из оцинкованной стали с полимерным покрытием","п.м",null,null,null,null,null,0]
[null,"101-2410","Откосная планка шириной 250 мм из оцинкованной стали с полимерным покрытием","п.м",null,null,null,null,null,0]
[null,"101-2411","Водоотлив оконный шириной планки 250 мм из оцинкованной стали с полимерным покрытием","п.м",null,null,null,null,null,0]
["Раздел 4. Дверные проемы и ворота",null,null,null,null,null,null,null,null,0]
["17","ТЕР09-04-013-02","Установка противопожарных дверей: двупольных глухих","1 м2 проема",3.25,{"$f":"G51/E51","v":6733.33},21883.33,{"$f":"I51/E51","v":578.99},1881.71,23765.040000000001]
[null,"101-1513","Электроды диаметром: 4 мм Э42","т",null,null,null,null,null,0]
[null,"101-1929","Болты анкерные","т",null,null,null,null,null,0]
[null,"101-3661","Пена монтажная: противопожарная полиуретановая NULLIFIRE (0,88 л)","шт.",null,null,null,null,null,0]
["18","ТЦ_07.1.01.01_47_4703144902_11.07.2024_02_17.1\nАналог  ТССЦ-203-8135  3132,85/3067,31=2%","Дверь противопожарная стальная  внутренняя ( утепленая) 1300х2500  с порогом","шт",1,{"$f":"G55/E55","v":0},0,{"$f":"I55/E55","v":37709.78},37709.78,37709.78]
["19","ТЕР09-04-013-01","Установка противопожарных дверей: однопольных глухих","1 м2 проема",39.9,{"$f":"G56/E56","v":5120.18},204295.38,{"$f":"I56/E56","v":675.03},26933.62,231229]
[null,"101-1513","Электроды диаметром: 4 мм Э42","т",null,null,null,null,null,0]
[null,"101-1929","Болты анкерные","т",null,null,null,null,null,0]
[null,"101-3661","Пена монтажная: противопожарная полиуретановая NULLIFIRE (0,88 л)","шт.",null,null,null,null,null,0]
["20","ТЦ_07.1.01.01_47_4703144902_11.07.2024_02_17.1\nАналог  ТССЦ-203-8135  3132,85/3067,31=2%","Дверь противопожарная стальная  внутренняя однопольная  с порогом  1000х2100","шт",17,{"$f":"G60/E60","v":0},0,{"$f":"I60/E60","v":22745.57},386674.68,386674.68]
["21","ТЦ_07.1.01.01_47_4703144902_11.07.2024_02_17.1\nАналог  ТССЦ-203-8135  3132,85/3067,31=2%","Дверь противопожарная стальная  наружная однопольная  с порогом  1000х2100","шт",2,{"$f":"G61/E61","v":0},0,{"$f":"I61/E61","v":22745.58},45491.15,45491.15]
["22","ТССЦ-101-6978","Доводчик дверной DS 73 BC \"Серия Premium\", усилие закрывания EN2-5","шт.",20,{"$f":"G62/E62","v":0},0,{"$f":"I62/E62","v":3945.17},78903.42,78903.42]
["23","ТЕР09-04-012-01","Установка металлических дверных блоков в готовые проемы","1 м2 проема",30.16,{"$f":"G63/E63","v":6003.09},181053.3,{"$f":"I63/E63","v":327.69},9883.01,190936.31]
[null,"101-1513","Электроды диаметром: 4 мм Э42","т",null,null,null,null,null,0]
[null,"101-1921","Пена монтажная: для герметизации стыков в баллончике емкостью 0,85 л","шт.",null,null,null,null,null,0]
[null,"204-0062","Детали закладные и накладные изготовленные: без применения сварки, гнутья, сверления (пробивки) отверстий поставляемые отдельно","т",null,null,null,null,null,0]
["24","ТЦ_07.1.01.01_47_4703144902_11.07.2024_02_17.1\nАналог  ТССЦ-203-8135  3132,85/3067,31=2%","Дверь  стальная  наружная  однопольная с порогом 1000х2100 (утепленная)","шт",4,{"$f":"G67/E67","v":0},0,{"$f":"I67/E67","v":22745.57},90982.28,90982.28]
["25","ТЦ_07.1.01.01_47_4703144902_11.07.2024_02_17.1\nАналог  ТССЦ-203-8135  3132,85/3067,31=2%","Дверь  стальная  наружная  однопольная с порогом 1000х2100","шт",8,{"$f":"G68/E68","v":0},0,{"$f":"I68/E68","v":22745.57},181964.55,181964.55]
["26","ТЦ_07.1.01.01_47_4703144902_11.07.2024_02_17.1\nАналог  ТССЦ-203-8135  3132,85/3067,31=2%","Дверь  стальная  наружная  однопольная с порогом 900х1900","шт",1,{"$f":"G69/E69","v":0},0,{"$f":"I69/E69","v":22745.57},22745.57,22745.57]
["27","ТССЦ-203-8147\nПрименительно","Блок дверной стальной наружный двупольный ДСН ДКН, площадь 2,73 м2 (ГОСТ 31173-2003)","м2",3.25,{"$f":"G70/E70","v":0},0,{"$f":"I70/E70","v":14478.9},47056.42,47056.42]
["28","ТЕР15-01-070-02","Облицовка: дверных проемов в наружных стенах откосной планкой из оцинкованной стали с полимерным покрытием с установкой наличников из оцинкованной стали с полимерным покрытием","1 м2 проемов",34.36,{"$f":"G71/E71","v":3593.87},123485.48,{"$f":"I71/E71","v":1660.7},57061.62,180547.1]
[null,"101-1691","Шурупы-саморезы 4,2х16 мм","100 шт.",null,null,null,null,null,0]
[null,"101-2409","Аквилон из оцинкованной стали с полимерным покрытием","п.м",null,null,null,null,null,0]
[null,"101-2410","Откосная планка шириной 250 мм из оцинкованной стали с полимерным покрытием","п.м",null,null,null,null,null,0]
[null,"101-2412","Наличники из оцинкованной стали с полимерным покрытием","п.м",null,null,null,null,null,0]
["Ворота",null,null,null,null,null,null,null,null,0]
["29","ТЕР09-04-011-01","Монтаж каркасов ворот большепролетных зданий, ангаров и др. без механизмов открывания","1 т конструкций",2.02,{"$f":"G77/E77","v":174276.88},352039.29,{"$f":"I77/E77","v":8950.91},18080.830000000002,370120.12]
[null,"101-0309","Канаты пеньковые пропитанные","т",null,null,null,null,null,0]
[null,"101-0324","Кислород технический: газообразный","м3",null,null,null,null,null,0]
[null,"101-0797","Проволока горячекатаная в мотках, диаметром 6,3-6,5 мм","т",null,null,null,null,null,{"$f":"G80+I80","v":0}]
[null,"101-1019","Швеллеры № 40 из стали марки: Ст0","т",null,null,null,null,null,0]
[null,"101-1515","Электроды диаметром: 4 мм Э46","т",null,null,null,null,null,0]
[null,"101-1805","Гвозди строительные","т",null,null,null,null,null,0]
[null,"101-2278","Пропан-бутан, смесь техническая","кг",null,null,null,null,null,0]
[null,"101-2467","Растворитель марки: Р-4","т",null,null,null,null,null,0]
[null,"102-0023","Бруски обрезные хвойных пород длиной: 4-6,5 м, шириной 75-150 мм, толщиной 40-75 мм, I сорта","м3",null,null,null,null,null,0]
[null,"113-0021","Грунтовка: ГФ-021 красно-коричневая","т",null,null,null,null,null,0]
[null,"201-0756","Отдельные конструктивные элементы зданий и сооружений с преобладанием: горячекатаных профилей, средняя масса сборочной единицы от 0,1 до 0,5 т","т",null,null,null,null,null,0]
[null,"508-0097","Канат двойной свивки типа ТК, конструкции 6х19(1+6+12)+1 о.с., оцинкованный из проволок марки В, маркировочная группа: 1770 н/мм2, диаметром 5,5 мм","10 м",null,null,null,null,null,0]
["30","ТЦ_08.1.06.01_47_4703144902_11.07.2024_02_23.1\nАналог  ТССЦ-201-0253   5403,70/5341,14=2%","Ворота распашные, металлические открывание наружу,  с калиткой 5000х4500  (вес 55,6 кг/м2)","шт",1,{"$f":"G90/E90","v":0},0,{"$f":"I90/E90","v":484839.67999999999},484839.67999999999,484839.67999999999]
["31","ТЦ_08.1.06.01_47_4703144902_11.07.2024_02_23.1\nАналог  ТССЦ-201-0253   5403,70/5341,14=2%","Ворота распашные, металлические открывание наружу,  с калиткой 3300х4200    (вес 55,6 кг/м2)","шт",1,{"$f":"G91/E91","v":0},0,{"$f":"I91/E91","v":305269.44},305269.44,305269.44]
["Раздел 5. Полы",null,null,null,null,null,null,null,null,0]
["Тип 1.  S=1944,8 м2., Тип 2. S=20,2 м2.",null,null,null,null,null,null,null,null,0]
["32","ТЕР11-01-011-03","Устройство стяжек: бетонных толщиной 20 мм","100 м2 стяжки",19.649999999999999,{"$f":"G94/E94","v":83767.899999999994},1646039.21,{"$f":"I94/E94","v":94.05},1848.11,1647887.32]
[null,"411-0001","Вода","м3",null,null,null,null,null,0]
["33","ТЕР11-01-011-04","Устройство стяжек: на каждые 5 мм изменения толщины стяжки добавлять или исключать к расценке 11-01-011-03 // толщ.130 мм","100 м2 стяжки",19.649999999999999,{"$f":"G96/E96","v":35493.019999999997},697437.87,{"$f":"I96/E96","v":0},0,697437.87]
["34","ТЦ_59.1.04.01_47_4705078395_08.02.2024_02_13.1\nАналог  ТССЦ-401-0008    699,49/623,42=2%","Бетон  В22,5","м3",260.55900000000003,{"$f":"G97/E97","v":0},0,{"$f":"I97/E97","v":5087.84},1325683.23,1325683.23]
["35","ТЕР06-01-015-10","Армирование подстилающих слоев и набетонок","1 т",3.4390000000000001,{"$f":"G98/E98","v":27716.25},95316.17,{"$f":"I98/E98","v":3009.64},10350.14,105666.31]
[null,"101-0816","Проволока светлая диаметром: 1,1 мм","т",null,null,null,null,null,0]
["36","ТЦ_08.4.02.05_66_6686134976_08.02.2024_02\nАналог ТССЦ-101-3891 21,17/20,58=2%","Сетка арм. 100х100 4Вр1","м2",1965,{"$f":"G100/E100","v":0},0,{"$f":"I100/E100","v":116.07},228079.6,228079.6]
["37","ТЕР11-01-020-03","Устройство покрытий поливинилацетатных: толщиной 3 мм // прим.  покрытие полимерное","100 м2 покрытия",19.649999999999999,{"$f":"G101/E101","v":180031.63},3537621.47,{"$f":"I101/E101","v":147312.06},2894682.05,6432303.5199999996]
[null,"101-0430","Краски масляные и алкидные земляные, готовые к применению: сурик железный МА-15, ПФ-14","т",null,null,null,null,null,0]
[null,"101-0433","Краски масляные и алкидные земляные, готовые к применению: охра МА-15","т",null,null,null,null,null,0]
[null,"101-1305","Портландцемент общестроительного назначения бездобавочный, марки: 400","т",null,null,null,null,null,0]
[null,"101-1591","Смола каменноугольная для дорожного строительства","т",null,null,null,null,null,0]
[null,"101-2293","Кислота ортофосфорная: техническая, сорт I","т",null,null,null,null,null,0]
[null,"101-2358","Дисперсия поливинилацетатная непластифицированная марки Д50Н","кг",null,null,null,null,null,0]
[null,"113-0306","Маршалит","т",null,null,null,null,null,0]
[null,"408-0122","Песок природный для строительных: работ средний","м3",null,null,null,null,null,0]
[null,"411-0001","Вода","м3",null,null,null,null,null,0]
["Тип 3    S=2155,0 м2",null,null,null,null,null,null,null,null,0]
["38","ТЕР11-01-011-03","Устройство стяжек: бетонных толщиной 20 мм","100 м2 стяжки",21.55,{"$f":"G112/E112","v":83767.97},1805199.65,{"$f":"I112/E112","v":94.05},2026.8,1807226.45]
[null,"411-0001","Вода","м3",null,null,null,null,null,0]
["39","ТЕР11-01-011-04","Устройство стяжек: на каждые 5 мм изменения толщины стяжки добавлять или исключать к расценке 11-01-011-03  // 30 мм","100 м2 стяжки",21.55,{"$f":"G114/E114","v":3226.63},69533.899999999994,{"$f":"I114/E114","v":0},0,69533.899999999994]
["40","ТЦ_59.1.04.01_47_4705078395_08.02.2024_02_13.1\nАналог  ТССЦ-401-0008    699,49/623,42=2%","Бетон  В22,5","м3",65.942999999999998,{"$f":"G115/E115","v":0},0,{"$f":"I115/E115","v":5087.84},335507.62,335507.62]
["41","ТЕР11-01-020-03","Устройство покрытий поливинилацетатных: толщиной 3 мм // прим.  покрытие полимерное","100 м2 покрытия",21.55,{"$f":"G116/E116","v":180031.66},3879682.27,{"$f":"I116/E116","v":147312.06},3174574.98,7054257.25]
[null,"101-0430","Краски масляные и алкидные земляные, готовые к применению: сурик железный МА-15, ПФ-14","т",null,null,null,null,null,0]
[null,"101-0433","Краски масляные и алкидные земляные, готовые к применению: охра МА-15","т",null,null,null,null,null,0]
[null,"101-1305","Портландцемент общестроительного назначения бездобавочный, марки: 400","т",null,null,null,null,null,0]
[null,"101-1591","Смола каменноугольная для дорожного строительства","т",null,null,null,null,null,0]
[null,"101-2293","Кислота ортофосфорная: техническая, сорт I","т",null,null,null,null,null,0]
[null,"101-2358","Дисперсия поливинилацетатная непластифицированная марки Д50Н","кг",null,null,null,null,null,0]
[null,"113-0306","Маршалит","т",null,null,null,null,null,0]
[null,"408-0122","Песок природный для строительных: работ средний","м3",null,null,null,null,null,0]
[null,"411-0001","Вода","м3",null,null,null,null,null,0]
["Тип 4.  S=116,2 м2.,   Тип 5   S=76,3 м2",null,null,null,null,null,null,null,null,0]
["42","ТЕР11-01-009-01","Устройство тепло- и звукоизоляции сплошной из плит: или матов минераловатных или стекловолокнистых","100 м2 изолируемой поверхности",1.925,{"$f":"G127/E127","v":67009.45},128993.2,{"$f":"I127/E127","v":0},0,128993.2]
["43","ТССЦ-104-0496","Плиты минераловатные \"Руф Баттс\" ROCKWOOL","м3",19.829999999999998,{"$f":"G128/E128","v":0},0,{"$f":"I128/E128","v":15021.68},297879.96999999997,297879.96999999997]
["44","ТЕР11-01-050-01","Устройство пароизоляции из полиэтиленовой пленки в один слой насухо","100 м2 поверхности",1.925,{"$f":"G129/E129","v":7474.59},14388.58,{"$f":"I129/E129","v":19003.68},36582.080000000002,50970.66]
[null,"113-0324","Пленка полиэтиленовая толщиной: 0,2-0,5 мм","м2",null,null,null,null,null,0]
["45","ТЕР11-01-011-03","Устройство стяжек: бетонных толщиной 20 мм","100 м2 стяжки",1.925,{"$f":"G131/E131","v":83767.58},161252.59,{"$f":"I131/E131","v":94.05},181.05,161433.64000000001]
[null,"411-0001","Вода","м3",null,null,null,null,null,0]
["46","ТЕР11-01-011-04","Устройство стяжек: на каждые 5 мм изменения толщины стяжки добавлять или исключать к расценке 11-01-011-03  // 30 мм","100 м2 стяжки",1.925,{"$f":"G133/E133","v":3226.11},6210.26,{"$f":"I133/E133","v":0},0,6210.26]
["47","ТЦ_59.1.04.01_47_4705078395_08.02.2024_02_13.1\nАналог  ТССЦ-401-0008    699,49/623,42=2%","Бетон  В22,5","м3",5.891,{"$f":"G134/E134","v":0},0,{"$f":"I134/E134","v":5087.84},29972.48,29972.48]
["48","ТЕР11-01-020-03","Устройство покрытий поливинилацетатных: толщиной 3 мм // прим.  покрытие полимерное","100 м2 покрытия",1.925,{"$f":"G135/E135","v":180031.51},346560.66,{"$f":"I135/E135","v":147312.06},283575.71999999997,630136.38]
[null,"101-0430","Краски масляные и алкидные земляные, готовые к применению: сурик железный МА-15, ПФ-14","т",null,null,null,null,null,0]
[null,"101-0433","Краски масляные и алкидные земляные, готовые к применению: охра МА-15","т",null,null,null,null,null,0]
[null,"101-1305","Портландцемент общестроительного назначения бездобавочный, марки: 400","т",null,null,null,null,null,0]
[null,"101-1591","Смола каменноугольная для дорожного строительства","т",null,null,null,null,null,0]
[null,"101-2293","Кислота ортофосфорная: техническая, сорт I","т",null,null,null,null,null,0]
[null,"101-2358","Дисперсия поливинилацетатная непластифицированная марки Д50Н","кг",null,null,null,null,null,0]
[null,"113-0306","Маршалит","т",null,null,null,null,null,0]
[null,"408-0122","Песок природный для строительных: работ средний","м3",null,null,null,null,null,0]
[null,"411-0001","Вода","м3",null,null,null,null,null,{"$f":"G144+I144","v":0}]
["Тип 6.  S=1336,3 м2",null,null,null,null,null,null,null,null,0]
["49","ТЕР11-01-015-07","Шлифовка бетонных или металлоцементных покрытий","100 м2 покрытия",13.363,{"$f":"G146/E146","v":191486.76},2558837.5299999998,{"$f":"I146/E146","v":180.14},2407.2199999999998,2561244.75]
[null,"101-2109","Карборунд","кг",null,null,null,null,null,0]
[null,"411-0001","Вода","м3",null,null,null,null,null,0]
["50","ТЕР11-01-015-08","Железнение цементных покрытий // прим.покрытие упрочняющ.","100 м2 покрытия",13.363,{"$f":"G149/E149","v":26258.27},350889.2,{"$f":"I149/E149","v":5.35},71.48,350960.68]
[null,"411-0001","Вода","м3",null,null,null,null,null,0]
["51","ТССЦ-402-0430","Смесь сухая на основе высокоактивного портландцемента и металлических заполнителей MASTERTOP 200 для упрочнения поверхности бетонных полов, цвет натуральный /  расход 6-8 кг/м2","кг",10690.4,{"$f":"G151/E151","v":0},0,{"$f":"I151/E151","v":351.45},3757116.31,3757116.31]
["Раздел 6. Внутренняя отделка   (лист 7, разрез 3-3)",null,null,null,null,null,null,null,null,0]
["Потолок",null,null,null,null,null,null,null,null,0]
["52","ТЕР10-05-011-02\nВ проекте допущена ошибка, в ведомости отделки вмето гипсокартона указан утеплитель","Устройство подвесных потолков из гипсокартонных листов (ГКЛ) по системе «КНАУФ»: одноуровневых (П 113)","100 м2 потолка",1.0329999999999999,{"$f":"G154/E154","v":211329.19},218303.05,{"$f":"I154/E154","v":56456.800000000003},58319.87,276622.92]
[null,"101-2430","Грунтовка: «Тифенгрунд», КНАУФ","кг",null,null,null,null,null,0]
[null,"101-2437","Шпаклевка «Унифлот», КНАУФ","кг",null,null,null,null,null,0]
[null,"101-2438","Шпаклевка «Фугенфюллер», КНАУФ","кг",null,null,null,null,null,0]
[null,"101-2474","Лента бумажная для повышения трещиностойкости стыков ГКЛ и ГВЛ","м",null,null,null,null,null,0]
[null,"101-2480","Лента разделительная для сопряжения потолка из ЛГК со стеной","100 м",null,null,null,null,null,0]
[null,"101-2484","Лента эластичная самоклеящаяся для профилей направляющих «Дихтунгсбанд»: 30/30000 мм","м",null,null,null,null,null,0]
[null,"101-2509","Листы гипсокартонные: ГКЛ 12,5 мм","м2",null,null,null,null,null,0]
[null,"101-2582","Шуруп самонарезающий: (LN) 3,5/9,5 мм","100 шт.",null,null,null,null,null,0]
[null,"101-2583","Шуруп самонарезающий: (TN) 3,5/25 мм","100 шт.",null,null,null,null,null,0]
[null,"101-2589","Дюбель-гвоздь 6/39 мм","100 шт.",null,null,null,null,null,0]
[null,"101-2590","Дюбель с шурупом 6/35 мм","100 шт.",null,null,null,null,null,0]
[null,"201-0797","Профиль направляющий: ПН 28/27/0,6","м",null,null,null,null,null,0]
[null,"201-0802","Профиль потолочный: ПП 60/27/0,6","м",null,null,null,null,null,0]
[null,"201-0816","Подвес с зажимом для ПП-профиля 60*27 мм","100 шт.",null,null,null,null,null,0]
[null,"201-0823","Соединители профилей: одноуровневые ПП","100 шт.",null,null,null,null,null,0]
[null,"201-0831","ПП- удлинитель профилей 60*27","100 шт.",null,null,null,null,null,0]
["53","ТЕР15-04-007-04","Окраска водно-дисперсионными акриловыми составами улучшенная: по сборным конструкциям потолков, подготовленным под окраску","100 м2 окрашиваемой поверхности",1.0329999999999999,{"$f":"G171/E171","v":80604.38},83264.320000000007,{"$f":"I171/E171","v":4925.99},5088.55,88352.87]
[null,"101-1596","Шкурка шлифовальная двухслойная с зернистостью 40-25","м2",null,null,null,null,null,0]
[null,"101-1757","Ветошь","кг",null,null,null,null,null,0]
[null,"101-3585","Шпатлевка водно-дисперсионная","т",null,null,null,null,null,0]
[null,"101-4163","Грунтовка акриловая: НОРТЕКС-ГРУНТ","кг",null,null,null,null,null,0]
["54","ТССЦ-101-6521","Краска акриловая водно-дисперсионная \"БИРСС Фасад-Колор\", тон средний // прим.","т",3.4099999999999998E-2,{"$f":"G176/E176","v":0},0,{"$f":"I176/E176","v":397172.73},13543.59,13543.59]
["Раздел 7. Цоколь   ( Узлы 1-15  Лист 10)",null,null,null,null,null,null,null,null,0]
["55","ТЕР11-01-015-07","Шлифовка бетонных или металлоцементных покрытий // прим. затирка поверхности цоколя","100 м2 покрытия",5.1820000000000004,{"$f":"G178/E178","v":177891.1},921831.69,{"$f":"I178/E178","v":180.14},933.49,922765.18]
[null,"101-2109","Карборунд","кг",null,null,null,null,null,0]
[null,"411-0001","Вода","м3",null,null,null,null,null,0]
["56","ТЕР15-04-015-02","Окраска фасадов с люлек с подготовкой поверхности: силикатная // прим.","100 м2 фасада",5.1820000000000004,{"$f":"G181/E181","v":71764.960000000006},371886.02,{"$f":"I181/E181","v":4033.5},20901.599999999999,392787.62]
[null,"101-1757","Ветошь","кг",null,null,null,null,null,0]
[null,"113-0043","Жидкость: гидрофобизирующая ГКЖ-10","т",null,null,null,null,null,0]
[null,"113-0368","Стекло жидкое калийное","т",null,null,null,null,null,0]
[null,"402-0083","Раствор готовый отделочный тяжелый,: цементно-известковый 1:1:6","м3",null,null,null,null,null,0]
[null,"409-0639","Пемза шлаковая (щебень пористый из металлургического шлака), марка 600, фракция 5-10 мм","м3",null,null,null,null,null,0]
[null,"411-0001","Вода","м3",null,null,null,null,null,0]
["57","ТССЦ-101-6521","Краска акриловая водно-дисперсионная \"БИРСС Фасад-Колор\", тон средний // прим.","т",0.23319999999999999,{"$f":"G188/E188","v":0},0,{"$f":"I188/E188","v":397172.73},92620.68,92620.68]
["58","ТЕР26-01-041-05","Изоляция изделиями из пенопласта насухо холодных поверхностей покрытий и перекрытий","1 м3 изоляции",3.73,{"$f":"G189/E189","v":18039.25},67286.41,{"$f":"I189/E189","v":11555.23},43100.99,110387.4]
[null,"104-0103","Плиты из пенопласта полистирольного ПСБС-40","м3",null,null,null,null,null,0]
["59","ТЕР06-01-068-03","Устройство деформационных швов в емкостных сооружениях с применением: герметика // прим.","100 м шва",1.9,{"$f":"G191/E191","v":49429.83},93916.67,{"$f":"I191/E191","v":0},0,93916.67]
["60","ТССЦ-104-0996","Жгут уплотнительный \"Стенофлекс\" (в бухте), диаметром: 15 мм // прим. Жгут \"Вилотерм\" д.15мм","100 м",1.9,{"$f":"G192/E192","v":0},0,{"$f":"I192/E192","v":622.03},1181.8599999999999,1181.8599999999999]
["61","ТЕР15-02-001-01\nприм","Улучшенная штукатурка фасадов цементно-известковым раствором по камню: стен","100 м2 оштукатуриваемой поверхности",1.6339999999999999,{"$f":"G193/E193","v":159780.88},261081.96,{"$f":"I193/E193","v":12847.44},20992.71,282074.67]
[null,"402-0083","Раствор готовый отделочный тяжелый,: цементно-известковый 1:1:6","м3",null,null,null,null,null,0]
[null,"411-0001","Вода","м3",null,null,null,null,null,0]
["62","ТЕР15-04-015-02","Окраска фасадов с люлек с подготовкой поверхности: силикатная // прим.","100 м2 фасада",1.6339999999999999,{"$f":"G196/E196","v":61000.18},99674.29,{"$f":"I196/E196","v":4033.5},6590.74,106265.03]
[null,"101-1757","Ветошь","кг",null,null,null,null,null,0]
[null,"113-0043","Жидкость: гидрофобизирующая ГКЖ-10","т",null,null,null,null,null,0]
[null,"113-0368","Стекло жидкое калийное","т",null,null,null,null,null,0]
[null,"402-0083","Раствор готовый отделочный тяжелый,: цементно-известковый 1:1:6","м3",null,null,null,null,null,0]
[null,"409-0639","Пемза шлаковая (щебень пористый из металлургического шлака), марка 600, фракция 5-10 мм","м3",null,null,null,null,null,0]
[null,"411-0001","Вода","м3",null,null,null,null,null,0]
["63","ТССЦ-101-6521","Краска акриловая водно-дисперсионная \"БИРСС Фасад-Колор\", тон средний // прим.","т",7.3499999999999996E-2,{"$f":"G203/E203","v":0},0,{"$f":"I203/E203","v":397172.65},29192.19,29192.19]
["Раздел 8. Отмостка  (Узел 12, лист6 )",null,null,null,null,null,null,null,null,0]
["64","ТЕР27-04-001-04","Устройство подстилающих и выравнивающих слоев оснований: из щебня","100 м3 материала основания (в плотном теле)",0.56999999999999995,{"$f":"G205/E205","v":175313.25},99928.55,{"$f":"I205/E205","v":188.11},107.22,100035.77]
[null,"411-0001","Вода","м3",null,null,null,null,null,0]
["65","ТССЦ-408-0015","Щебень из природного камня для строительных работ марка: 800, фракция 20-40 мм","м3",71.819999999999993,{"$f":"G207/E207","v":0},0,{"$f":"I207/E207","v":3394.18},243769.71,243769.71]
["66","ТЕР06-01-013-01","Устройство подливки толщиной  20 мм // прим. бетонное основание","100 м2 подливки под оборудование",0.56999999999999995,{"$f":"G208/E208","v":87982.28},50149.9,{"$f":"I208/E208","v":2743.28},1563.67,{"$f":"G208+I208","v":51713.57}]
[null,"101-1805","Гвозди строительные","т",null,null,null,null,null,0]
[null,"102-0053","Доски обрезные хвойных пород длиной: 4-6,5 м, шириной 75-150 мм, толщиной 25 мм, III сорта","м3",null,null,null,null,null,0]
[null,"102-0061","Доски обрезные хвойных пород длиной: 4-6,5 м, шириной 75-150 мм, толщиной 44 мм и более, III сорта","м3",null,null,null,null,null,0]
["67","ТЕР06-01-013-02","На каждые 10 мм изменения толщины добавлять или исключать к расценке 06-01-013-01 // до 60 мм","100 м2 подливки под оборудование",0.56999999999999995,{"$f":"G212/E212","v":112069.84},63879.81,{"$f":"I212/E212","v":2681.21},1528.29,65408.1]
[null,"101-1805","Гвозди строительные","т",null,null,null,null,null,0]
[null,"102-0053","Доски обрезные хвойных пород длиной: 4-6,5 м, шириной 75-150 мм, толщиной 25 мм, III сорта","м3",null,null,null,null,null,0]
[null,"102-0061","Доски обрезные хвойных пород длиной: 4-6,5 м, шириной 75-150 мм, толщиной 44 мм и более, III сорта","м3",null,null,null,null,null,0]
["68","ТЦ_59.1.04.01_78_7806468968_26.06.2024_02_15.1\nАналог  ТССЦ-401-0006     661,66/586,34=2%","Бетон  В15","м3",3.488,{"$f":"G216/E216","v":0},0,{"$f":"I216/E216","v":3627.31},12652.07,12652.07]
["69","ТЕР06-01-015-10","Армирование подстилающих слоев и набетонок","1 т",0.2525,{"$f":"G217/E217","v":27712.91},6997.51,{"$f":"I217/E217","v":3009.62},759.93,7757.44]
[null,"101-0816","Проволока светлая диаметром: 1,1 мм","т",null,null,null,null,null,0]
["70","ТЦ_08.4.02.05_78_7816723705_16.02.2024_02_16.1\nАналог  ТССЦ-101-3891     21,17/20,58=2%","Сетка арм. 100х100 6Вр1","м2",190,{"$f":"G219/E219","v":0},0,{"$f":"I219/E219","v":583.59},110882.05,110882.05]
["71","ТЕР27-07-001-01","Устройство асфальтобетонных покрытий дорожек и тротуаров однослойных из литой мелкозернистой асфальтобетонной смеси толщиной 3 см","100 м2 покрытия",1.9,{"$f":"G220/E220","v":38377.32},72916.91,{"$f":"I220/E220","v":36898.519999999997},70107.19,143024.1]
[null,"101-1561","Битумы нефтяные дорожные жидкие, класс: МГ, СГ","т",null,null,null,null,null,0]
[null,"408-0122","Песок природный для строительных: работ средний","м3",null,null,null,null,null,0]
[null,"410-0054","Асфальт литой: для покрытий тротуаров тип II (жесткий)","т",null,null,null,null,null,0]
["72","ТЕР27-07-001-02","На каждые 0,5 см изменения толщины покрытия добавлять к  расценке 27-07-001-01  // до толщ. 2,5 см","100 м2 покрытия",-1.9,{"$f":"G224/E224","v":5862.55},-11138.84,{"$f":"I224/E224","v":5985.31},-11372.08,-22510.92]
[null,"410-0054","Асфальт литой: для покрытий тротуаров тип II (жесткий)","т",null,null,null,null,null,0]
["73","ТЕР27-06-007-02","Устройство швов в бетоне: свежеуложенном","100 м шва",1.9,{"$f":"G226/E226","v":51130.87},97148.65,{"$f":"I226/E226","v":485.56},922.56,98071.21]
[null,"101-1682","Шнур полиамидный крученый, диаметром 2 мм","т",null,null,null,null,null,0]
[null,"113-1952","Пленка полиэтиленовая толщиной: 0,2-0,5 мм, изоловая","м2",null,null,null,null,null,0]
[null,null,"Всего, руб. с НДС",null,null,null,{"$f":"SUM(G12:G228)","v":19143854.23},null,{"$f":"SUM(I12:I228)","v":16467909.560000001},{"$f":"SUM(J12:J228)","v":35611763.789999999}]
[null,null,"Всего, руб. без НДС",null,null,null,{"$f":"G229/1.2","v":15953211.859999999},null,{"$f":"I229/1.2","v":13723257.970000001},{"$f":"J229/1.2","v":29676469.829999998}]

{"sheet":"свод","index":4,"n_rows":37,"n_cols":5,"rows_kept":37,"cut":false,"hidden":false,"merged":[[34,3,34,4],[35,3,35,4],[36,3,36,4],[0,0,0,1],[0,2,0,4],[1,0,1,1],[3,0,3,1],[4,0,4,1],[6,3,6,4]]}
["Наименование закупки: ",null,"Выполнение комплекса архитектурно-строительных работ на объектах Транспортно-конвейерной системы, Купольного склада и Крытого слада №1 в рамках реализации проекта «Терминал по перевалке минеральных удобрений в МТП Усть-Луга. Береговые объекты терминала»\n"]
["Исх. № ______________ от __.__.2025г."]
[]
["Наименование Участника:"]
["ИНН Участника "]
[]
["№ п/п","Наименование","Требование ООО «ЕТУ»","Предложение Участника, руб без НДС"]
[null,null,null,"Материалы","Работы"]
[1,"1632-2021-2.1.2, 2.1.7-АР1-07.04.046-П-00-00","Архитектурные решения, Конвейерная галерея №7",{"$f":"'1632-2021-2.1.2,2.1.7-АР1'!I165","v":4681036.2300000004},{"$f":"'1632-2021-2.1.2,2.1.7-АР1'!G165","v":6460971.6799999997}]
[2,"1632-2021-2.2.1-АР_07.04.020-П-00-00","Архитектурные решения, Пересыпная станция № 1",{"$f":"'1632-2021-2.2.1-АР'!I367","v":19277354.989999998},{"$f":"'1632-2021-2.2.1-АР'!G367","v":60435131.399999999}]
[3,"1632-2021-2.2.6-АР_07.04.025-П-00-00","Архитектурные решения, 07.04.025 Пересыпная станция №6 (код SAP 01.02.020) код ГП 2.2.6",{"$f":"'1632-2021-2.2.6-АР'!I192","v":1189510.3700000001},{"$f":"'1632-2021-2.2.6-АР'!G192","v":1504431.67}]
[4,"1632-2021-2.2.2 -АР_07.04.021-П-00-01","Архитектурные решения, Пересыпная станция № 2",{"$f":"'1632-2021-2.2.2-АР'!I230","v":13723257.970000001},{"$f":"'1632-2021-2.2.2-АР'!G230","v":15953211.859999999}]
[5,"1632-2021-2.2.7- АР_07.04.026-П-00-02","Архитектурные решения, 07.04.026 Приводная станция  (код SAP 01.02.005) код ГП 2.2.7",{"$f":"'1632-2021-2.2.7-АР'!I233","v":1830239.65},{"$f":"'1632-2021-2.2.7-АР'!G233","v":1793742.3}]
[6,"1632-2021-2.1.1-АР_07.04.040-П-00-00","Архитектурные решения, 07.04.040 Конвейерная галерея №1 (код SAP 01.02.006) код ГП 2.1.1",{"$f":"'1632-2021-2.1.1-АР'!I59","v":878669.06},{"$f":"'1632-2021-2.1.1-АР'!G59","v":443427.81}]
[7,"1632-2021-1.1,1.2,2.1.0-АР_07.02.010_07.04.030-П-00-00","Архитектурные решения, 07.02.010 Станция разгрузки вагонов (код SAP 01.04.001) код ГП 1.1\n07.04.030 Тоннель код ГП 2.1.0",{"$f":"'1632-2021-1.1,1.2,2.1.0-АР'!I696","v":22378145.789999999},{"$f":"'1632-2021-1.1,1.2,2.1.0-АР'!G696","v":35876793.979999997}]
[8,"1632-2021-2.2.4,2.1.6-АР_07.04.023-П-01-02","Архитектурные решения, 07.04.023 Пересыпная станция №4 (код SAP 01.02.004) код ГП 2.2.4",{"$f":"'1632-2021-2.2.4,2.1.6-АР'!I161","v":2241472.31},{"$f":"'1632-2021-2.2.4,2.1.6-АР'!G161","v":2467305.4700000002}]
[9,"1632-2021-2.2.5,2.1.13-АР_07.04.024_07.04.052-П-00-01","Архитектурные решения, 07.04.024 Пересыпная станция №5 (код SAP 01.02.019) код ГП 2.2.5\n07.04.052 Конвейерная галерея №13 (код SAP 01.02.009) код ГП 2.1.13",{"$f":"'1632-2021-2.2.5,2.1.13 -АР'!I221","v":7540470.2400000002},{"$f":"'1632-2021-2.2.5,2.1.13 -АР'!G221","v":22948253.719999999}]
[10,"1632-2021-1.1,1.2,2.1.0-АР_07.02.011_П-00-01","Архитектурные решения, 07.02.011 Здание трансбордера код ГП 1.2",{"$f":"'2-1632-2021-1.1,1.2,2.1.0-АР'!I228","v":5964250.6200000001},{"$f":"'2-1632-2021-1.1,1.2,2.1.0-АР'!G228","v":5186266.49}]
[11,"1632-2021-2.2.3-АР_07.04.022-П-00-00","Архитектурные решения, Пересыпная станция № 3",{"$f":"'1632-2021-2.2.3-АР'!I227","v":4583457.93},{"$f":"'1632-2021-2.2.3-АР'!G227","v":4688023.32}]
[12,"1632-2021-2.1.2, 2.1.7-АР1_07.04.041-П-00-00","Архитектурные решения, 07.04.041 Конвейерная галерея №2 (код SAP 01.02.010) код ГП 2.1.2",{"$f":"'1-1632-2021-2.1.2,2.1.7-АР1'!I37","v":381307.15},{"$f":"'1-1632-2021-2.1.2,2.1.7-АР1'!G37","v":133967.57999999999}]
[13,"1632-2021-2.1.11-АР_07.04.050-П-00-00","Архитектурные решения, 07.04.050 Конвейерная галерея №11 (код SAP 01.02.008) код ГП 2.1.11",{"$f":"'1632-2021-2.1.11-АР'!I47","v":958155.47},{"$f":"'1632-2021-2.1.11-АР'!G47","v":320925.18}]
[14,"1632-2021-2.1.2, 2.1.7-АР3_07.04.041-П-00-00","Архитектурные решения, 07.04.041 Конвейерная галерея №2 (код SAP 01.02.010) код ГП 2.1.2",{"$f":"'1632-2021-2.1.2,2.1.7-АР3'!I41","v":367723.66},{"$f":"'1632-2021-2.1.2,2.1.7-АР3'!G41","v":127620.87}]
[15,"1632-2021-2.1.2, 2.1.7-АР2-07.04.041-П-00-00","Архитектурные решения, 07.04.041 Конвейерная галерея №2 (код SAP 01.02.010) код ГП 2.1.2",{"$f":"'1632-2021-2.1.2,2.1.7-АР2'!I41","v":362443.41},{"$f":"'1632-2021-2.1.2,2.1.7-АР2'!G41","v":124546.97}]
[16,"1632-2021-3.1-АС_07.03.010-П-00-00","Архитектурно-строительные решения, 07.03.010 Крытый склад № 1 (код SAP 01.01.001) код ГП 3.1",{"$f":"'1632-2021-3.1-АС'!I129","v":6115763.9400000004},{"$f":"'1632-2021-3.1-АС'!G129","v":8675926.9499999993}]
[17,"1632-2021-3.3-АР.СУБ_07.03.012-П-01-02","Архитектурные решения, 07.03.012 Купольный склад  (код SAP 01.01.005) код ГП 3.3.1",{"$f":"'1632-2021-3.3-АР.СУБ'!I211","v":26269199.030000001},{"$f":"'1632-2021-3.3-АР.СУБ'!G211","v":29178434.140000001}]
[18,"1632-2021-2.1.2, 2.1.7-АР2-07.04.046-П-00-02","Архитектурные решения, Конвейерная галерея №7 в осях 8-14",{"$f":"'3-1632-2021-2.1.2,2.1.7-АР2'!I107","v":5058864.4800000004},{"$f":"'3-1632-2021-2.1.2,2.1.7-АР2'!G107","v":4636882.7}]
[19,"1632-2021-3.1-АР_07.03.010-П-00-00","Архитектурно-строительные решения, 07.03.010 Крытый склад № 1 (код SAP 01.01.001) код ГП 3.1",{"$f":"'1632-2021-3.1-АР'!I281","v":20443651.170000002},{"$f":"'1632-2021-3.1-АР'!G281","v":13632251.130000001}]
[20,"1632-2021-2.1.4-АР_07.04.043-П-01-01","Архитектурные решения, 07.04.040 Конвейерная галерея №1 (код SAP 01.02.006) код ГП 2.1.1",{"$f":"'1632-2021-2.1.4-АР'!I47","v":569094.62},{"$f":"'1632-2021-2.1.4-АР'!G47","v":257817.83}]
[21,"1632-2021-2.1.2, 2.1.7-АР3_07.04.046-П-00-00","Архитектурные решения, Конвейерная галерея №7",{"$f":"'1-1632-2021-2.1.2,2.1.7-АР3'!I193","v":3727775.38},{"$f":"'1-1632-2021-2.1.2,2.1.7-АР3'!G193","v":4567659.13}]
[22,"1632-2021-2.1.5-АР_07.04.044-П-00-00","Архитектурные решения, 07.04.040 Конвейерная галерея №1 (код SAP 01.02.006) код ГП 2.1.1",{"$f":"'1632-2021-2.1.5-АР'!I38","v":466083.39},{"$f":"'1632-2021-2.1.5-АР'!G38","v":299259.08}]
[23,"1632-2021-2.1.12-АР_07.04.051-П-00-00","Архитектурные решения, 07.04.051 Конвейрная галерея №12 (код SAP 01.02.015) код ГП 2.1.12",{"$f":"'1632-2021-2.1.12-АР'!I114","v":868199.18},{"$f":"'1632-2021-2.1.12-АР'!G114","v":1024679.53}]
[24,"1632-2021-2.1.3-АР_07.04.043-П-01-01","Архитектурные решения, 07.04.042 Конвейерная галерея №3 (код SAP 01.02.011) код ГП 2.1.3",{"$f":"'1632-2021-2.1.3'!I68","v":11816348.130000001},{"$f":"'1632-2021-2.1.3'!G68","v":4595328.8499999996}]
[25,"1632-2021-3.3.9-АР-03.02.080-П-00-00","Архитектурные решения, 03.02.080 Электропомещение купольного склада (ЭП-7) (код SAP 02.05.001.09) код ГП 3.3.9",{"$f":"'1632-2021-3.3.9-АР'!I188","v":1414346.66},{"$f":"'1632-2021-3.3.9-АР'!G188","v":3002955.62}]
[null,"Итоговая стоимость строительно-монтажных работ",null,{"$f":"SUM(D9:D33)","v":163106820.83000001},{"$f":"SUM(E9:E33)","v":228335815.25999999}]
[null,"ВСЕГО",null,{"$f":"D34+E34","v":391442636.08999997}]
[null,"НДС",0.2,{"$f":"D35*0.2","v":78288527.219999999}]
[null,"Итоговая стоимость СМР, руб с НДС",null,{"$f":"D35+D36","v":469731163.31}]

{"sheet":"1632-2021-2.2.7-АР","index":5,"n_rows":233,"n_cols":10,"rows_kept":233,"cut":false,"hidden":false,"merged":[]}
[]
["Терминал по перевалке минеральных удобрений в морском торговом порту Усть-Луга. Береговые объекты терминала"]
["(наименование стройки)"]
["1632-2021-2.2.7- АР_07.04.026-П-00-02"]
["(локальная смета)"]
["на Архитектурные решения, 07.04.026 Приводная станция  (код SAP 01.02.005) код ГП 2.2.7"]
["(наименование работ и затрат, наименование объекта)"]
[null,"Основание:","1632-2021-2.2.7-АР_0_0_RU_IFС"]
[]
["№ п/п","Обоснование","Наименование работ и затрат","Ед. изм.","Кол-во","Цена за ед.измерения работ, руб. с НДС","Всего, стоимость работ,руб. с НДС","Цена за ед.измерения материалов, руб. с НДС","Всего, стоимость материалов, руб. с НДС","Итого, руб. с НДС"]
["1","2","3","4","5",6,7,8,9,10]
["Раздел 1. Фасадные работы",null,null,null,null,null,null,null,null,{"$f":"G12+I12","v":0}]
["Раздел 2. Кровля",null,null,null,null,null,null,null,null,0]
["Кровля плоская",null,null,null,null,null,null,null,null,0]
["8","ТЕР11-01-009-02","Устройство тепло- и звукоизоляции сплошной из плит: древесноволокнистых // прим. ЦСП в 2 слоя","100 м2 изолируемой поверхности",1.77,{"$f":"G15/E15","v":36149.42},63984.47,{"$f":"I15/E15","v":0},0,63984.47]
["9","ТЦ_01.6.01.10_78_7810994931_08.02.2024_02\nАналог ТССЦ-101-5068   25,77/24,64=2%","ЦСП 13200х1200х8","м2",364.62,{"$f":"G16/E16","v":0},0,{"$f":"I16/E16","v":506.71},184755.39,{"$f":"G16+I16","v":184755.39}]
["10","ТЕР12-01-002-09","Устройство кровель плоских из наплавляемых материалов: в два слоя","100 м2 кровли",1.77,{"$f":"G17/E17","v":34049.54},60267.68,{"$f":"I17/E17","v":1974.08},3494.12,63761.8]
[null,"101-2278","Пропан-бутан, смесь техническая","кг",null,null,null,null,null,0]
["11","ТЦ_12.0.00.00_78_7826181040_08.02.2024_02\nАналог ТССЦ-101-4724  26,31/25,55=2%","Техноэласт Пламя Стоп","м2",201.78,{"$f":"G19/E19","v":0},0,{"$f":"I19/E19","v":537.67999999999995},108493.85,108493.85]
["12","ТЦ_12.0.00.00_78_7826181040_08.02.2024_02\nАналог ТССЦ-101-4702   22,34/21,66=2%","Техноэласт ЭПП","м2",205.32,{"$f":"G20/E20","v":0},0,{"$f":"I20/E20","v":426.22},87510.64,87510.64]
["13","ТЕР12-01-009-02","Устройство желобов: подвесных","100 м желобов",0.26400000000000001,{"$f":"G21/E21","v":65790.720000000001},17368.75,{"$f":"I21/E21","v":21888.52},5778.57,23147.32]
[null,"101-0173","Гвозди проволочные оцинкованные для асбестоцементной кровли: 4,5х120 мм","т",null,null,null,null,null,0]
[null,"101-0788","Поковки оцинкованные, масса: 2,825 кг","т",null,null,null,null,null,0]
["14","ТЦ_12.1.01.00_78_7804606806_25.01.2024_02\nАналог  ТССЦ-101-5465  31,79/31,06=2%","Желоб водосточный D185х3000","шт",9,{"$f":"G24/E24","v":0},0,{"$f":"I24/E24","v":1709.47},15385.2,15385.2]
["15","ТЦ_12.1.01.00_78_7804606806_25.01.2024_02\nАналог  ТССЦ-101-5466  4,57/4,46=2%","Держатель желоба","шт",44,{"$f":"G25/E25","v":0},0,{"$f":"I25/E25","v":754.15},33182.629999999997,33182.629999999997]
["16","ТЕР12-01-008-01","Устройство обделок на фасадах (наружные подоконники, пояски, балконы и др.): включая водосточные трубы, с изготовлением элементов труб// прим.навеска водосточных труб","100 м2фасада (без вычета проемов)",0.26658599999999999,{"$f":"G26/E26","v":27775.65},7404.6,{"$f":"I26/E26","v":2212.6799999999998},589.87,7994.47]
[null,"101-0195","Гвозди толевые круглые: 3,0х40 мм","т",null,null,null,null,null,0]
[null,"101-0788","Поковки оцинкованные, масса: 2,825 кг","т",null,null,null,null,null,0]
[null,"101-0795","Проволока канатная оцинкованная, диаметром: 3 мм","т",null,null,null,null,null,0]
["17","ТЕР12-01-008-02","Устройство обделок на фасадах (наружные подоконники, пояски, балконы и др.): без водосточных труб","100 м2фасада (без вычета проемов)",-0.26658599999999999,{"$f":"G30/E30","v":10154.58},-2707.07,{"$f":"I30/E30","v":164.82},-43.94,-2751.01]
[null,"101-0195","Гвозди толевые круглые: 3,0х40 мм","т",null,null,null,null,null,0]
["18","ТЦ_12.1.01.00_78_7804606806_25.01.2024_02\nАналог ТССЦ-301-5867 217,71/213,27=2%","Труба водосточная D150х3000мм","шт",19,{"$f":"G32/E32","v":0},0,{"$f":"I32/E32","v":2084.1799999999998},39599.39,39599.39]
["19","ТЦ_12.1.01.00_78_7804606806_25.01.2024_02\nАналог  ТССЦ-101-5466  4,57/4,46=2%","Крепление трубы","шт",58,{"$f":"G33/E33","v":0},0,{"$f":"I33/E33","v":314.87},18262.59,18262.59]
["20","ТЦ_12.1.01.00_78_7804606806_25.01.2024_02\nАналог ТССЦ-203-0960 5219,18/5114,28=2%","Колено гофрированное","шт",16,{"$f":"G34/E34","v":0},0,{"$f":"I34/E34","v":478.84},7661.43,7661.43]
["21","ТЦ_12.1.01.00_78_7804606806_25.01.2024_02\nАналог ТССЦ-301-5848   42,01/41,12=2%","Заглушка","шт",4,{"$f":"G35/E35","v":0},0,{"$f":"I35/E35","v":373.47},1493.87,1493.87]
["22","ТЦ_12.1.01.00_78_7804606806_25.01.2024_02\nАналог ТССЦ-115-0931  8,37/8,08=3%","Воронки выпускные D185/150","шт",4,{"$f":"G36/E36","v":0},0,{"$f":"I36/E36","v":808.02},3232.08,3232.08]
["23","ТЕР12-01-012-01","Ограждение кровель перилами // прим.","100 м ограждения",0.26400000000000001,{"$f":"G37/E37","v":16107.5},4252.38,{"$f":"I37/E37","v":402.08},106.15,4358.53]
[null,"101-1529","Электроды диаметром: 6 мм Э42","т",null,null,null,null,null,0]
[null,"101-1851","Резина прессованная","кг",null,null,null,null,null,0]
["24","ТЦ_12.1.01.00_78_7804606806_25.01.2024_02","Снегозадержатель трубчатый (L=3 м. в комплекте с креплением)","шт",9,{"$f":"G40/E40","v":0},0,{"$f":"I40/E40","v":3621.22},32590.959999999999,32590.959999999999]
["25","ТЕР12-01-006-02","Устройство деформационных  швов с наплавлением  дополнительных слоев рулонного кровельного материала","100 м деформационных швов",0.115,{"$f":"G41/E41","v":200773.3},23088.93,{"$f":"I41/E41","v":270094.26},31060.84,54149.77]
[null,"101-0142","Дюбели с калиброванной головкой (в обоймах) с цинковым хроматированным покрытием: 3х58,5 мм","т",null,null,null,null,null,0]
[null,"101-1680","Патроны для строительно-монтажного пистолета","1000 шт.",null,null,null,null,null,0]
[null,"101-1875","Сталь листовая оцинкованная толщиной листа: 0,7 мм","т",null,null,null,null,null,0]
[null,"101-1961","Изопласт: К ЭКП-4,5","м2",null,null,null,null,null,0]
[null,"101-2278","Пропан-бутан, смесь техническая","кг",null,null,null,null,null,0]
[null,"104-0002","Вата минеральная","м3",null,null,null,null,null,0]
["Заполнение гофры профлиста негорючим утеплителем на 250 мм. ( Узел 6/3 , лист 5)",null,null,null,null,{"$f":"G48/E48","v":{"$error":"#DIV/0!"}},0,{"$f":"I48/E48","v":{"$error":"#DIV/0!"}},0,0]
["26","ТЕР26-01-037-02","Изоляция изделиями из волокнистых и зернистых материалов на битуме холодных поверхностей: покрытий и перекрытий сверху // прим. расход 0,0072 м3 /м.п. примыкания","1 м3 изоляции",0.1656,{"$f":"G49/E49","v":25216.55},4175.8599999999997,{"$f":"I49/E49","v":15095.71},2499.85,6675.71]
[null,"101-0079","Битумы нефтяные строительные для кровельных мастик марки: БНМ-55/60","т",null,null,null,null,null,0]
[null,"104-0007","Плиты из минеральной ваты: повышенной жесткости на синтетическом связующем М-200","м3",null,null,null,null,null,0]
["Раздел 3. Окна",null,null,null,null,{"$f":"G52/E52","v":{"$error":"#DIV/0!"}},0,{"$f":"I52/E52","v":{"$error":"#DIV/0!"}},0,0]
["27","ТЕР10-01-034-03","Установка в жилых и общественных зданиях оконных блоков из ПВХ профилей: поворотных (откидных, поворотно-откидных) с площадью проема до 2 м2 одностворчатых","100 м2 проемов",4.2000000000000003E-2,{"$f":"G53/E53","v":468351.9},19670.78,{"$f":"I53/E53","v":156176.19},6559.4,26230.18]
[null,"101-2052","Лента бутиловая","м",null,null,null,null,null,0]
[null,"101-2054","Лента бутиловая диффузионная","м",null,null,null,null,null,0]
[null,"101-2388","Герметик пенополиуретановый (пена монтажная) типа Makrofleks, Soudal в баллонах по 750 мл","шт.",null,null,null,null,null,0]
[null,"101-2789","Лента ПСУЛ","10 м",null,null,null,null,null,0]
[null,"101-4173","Дюбели монтажные 10х130 (10х132, 10х150) мм","10 шт.",null,null,null,null,null,0]
[null,"102-0303","Клинья пластиковые монтажные","100 шт.",null,null,null,null,null,0]
["28","ТЦ_07.1.02.00_78_7840318754_30.01.2024_02\nАналог ТССЦ-203-0978  4253,53/4168,26=2%","ОК-1.  1000х1400","шт",3,{"$f":"G60/E60","v":0},0,{"$f":"I60/E60","v":13881.75},41645.24,41645.24]
["29","ТЕР15-01-070-01","Облицовка: оконных проемов в наружных стенах откосной планкой из оцинкованной стали с полимерным покрытием с устройством водоотлива оконного из оцинкованной стали с полимерным покрытием","1 м2 проемов",4.2,{"$f":"G61/E61","v":3276.46},13761.14,{"$f":"I61/E61","v":1423.83},5980.09,19741.23]
[null,"101-1691","Шурупы-саморезы 4,2х16 мм","100 шт.",null,null,null,null,null,0]
[null,"101-2409","Аквилон из оцинкованной стали с полимерным покрытием","п.м",null,null,null,null,null,0]
[null,"101-2410","Откосная планка шириной 250 мм из оцинкованной стали с полимерным покрытием","п.м",null,null,null,null,null,0]
[null,"101-2411","Водоотлив оконный шириной планки 250 мм из оцинкованной стали с полимерным покрытием","п.м",null,null,null,null,null,0]
["Раздел 4. Дверные проемы и ворота",null,null,null,null,{"$f":"G66/E66","v":{"$error":"#DIV/0!"}},0,{"$f":"I66/E66","v":{"$error":"#DIV/0!"}},0,0]
["30","ТЕР09-04-012-01","Установка металлических дверных блоков в готовые проемы","1 м2 проема",4.2,{"$f":"G67/E67","v":6003.1},25213.040000000001,{"$f":"I67/E67","v":327.69},1376.28,26589.32]
[null,"101-1513","Электроды диаметром: 4 мм Э42","т",null,null,null,null,null,0]
[null,"101-1921","Пена монтажная: для герметизации стыков в баллончике емкостью 0,85 л","шт.",null,null,null,null,null,0]
[null,"204-0062","Детали закладные и накладные изготовленные: без применения сварки, гнутья, сверления (пробивки) отверстий поставляемые отдельно","т",null,null,null,null,null,0]
["31","ТЦ_07.1.01.03_78_7810347194_06.02.2024_02\nАналог ТССЦ-203-8123  2466,49/2414,02=2%","Дверь стальная  наружная ( утепленая) 1000х2100 правого открывания в компл. с доводчиком","шт",1,{"$f":"G71/E71","v":0},0,{"$f":"I71/E71","v":39026.620000000003},39026.620000000003,39026.620000000003]
["32","ТЦ_07.1.01.03_78_7810347194_06.02.2024_02\nАналог ТССЦ-203-8123  2466,49/2414,02=2%","Дверь стальная  наружная  1000х2100 левого открывания  в компл. с доводчиком","шт",1,{"$f":"G72/E72","v":0},0,{"$f":"I72/E72","v":39026.620000000003},39026.620000000003,39026.620000000003]
["33","ТЕР09-04-012-02","Установка дверного доводчика к металлическим дверям","1 шт.",2,{"$f":"G73/E73","v":2613.9},5227.79,{"$f":"I73/E73","v":10.7},21.4,5249.19]
[null,"101-1513","Электроды диаметром: 4 мм Э42","т",null,null,null,null,null,0]
[null,"101-1845","Винты самонарезающие: с уплотнительной прокладкой 4,8х35 мм","100 шт.",null,null,null,null,null,0]
["34","ТЕР15-01-070-02","Облицовка: дверных проемов в наружных стенах откосной планкой из оцинкованной стали с полимерным покрытием с установкой наличников из оцинкованной стали с полимерным покрытием","1 м2 проемов",4.2,{"$f":"G76/E76","v":3593.59},15093.07,{"$f":"I76/E76","v":1462.77},6143.63,21236.7]
[null,"101-1691","Шурупы-саморезы 4,2х16 мм","100 шт.",null,null,null,null,null,0]
[null,"101-2409","Аквилон из оцинкованной стали с полимерным покрытием","п.м",null,null,null,null,null,0]
[null,"101-2410","Откосная планка шириной 250 мм из оцинкованной стали с полимерным покрытием","п.м",null,null,null,null,null,0]
["Ворота",null,null,null,null,{"$f":"G80/E80","v":{"$error":"#DIV/0!"}},0,{"$f":"I80/E80","v":{"$error":"#DIV/0!"}},0,{"$f":"G80+I80","v":0}]
["35","ТЕР09-04-011-01","Монтаж каркасов ворот большепролетных зданий, ангаров и др. без механизмов открывания","1 т конструкций",0.59299999999999997,{"$f":"G81/E81","v":174274.94},103345.04,{"$f":"I81/E81","v":8950.89},5307.88,108652.92]
[null,"101-0309","Канаты пеньковые пропитанные","т",null,null,null,null,null,0]
[null,"101-0324","Кислород технический: газообразный","м3",null,null,null,null,null,0]
[null,"101-0797","Проволока горячекатаная в мотках, диаметром 6,3-6,5 мм","т",null,null,null,null,null,0]
[null,"101-1019","Швеллеры № 40 из стали марки: Ст0","т",null,null,null,null,null,0]
[null,"101-1515","Электроды диаметром: 4 мм Э46","т",null,null,null,null,null,0]
[null,"101-1805","Гвозди строительные","т",null,null,null,null,null,0]
[null,"101-2278","Пропан-бутан, смесь техническая","кг",null,null,null,null,null,0]
[null,"101-2467","Растворитель марки: Р-4","т",null,null,null,null,null,0]
[null,"102-0023","Бруски обрезные хвойных пород длиной: 4-6,5 м, шириной 75-150 мм, толщиной 40-75 мм, I сорта","м3",null,null,null,null,null,0]
[null,"113-0021","Грунтовка: ГФ-021 красно-коричневая","т",null,null,null,null,null,0]
[null,"201-0756","Отдельные конструктивные элементы зданий и сооружений с преобладанием: горячекатаных профилей, средняя масса сборочной единицы от 0,1 до 0,5 т","т",null,null,null,null,null,0]
[null,"508-0097","Канат двойной свивки типа ТК, конструкции 6х19(1+6+12)+1 о.с., оцинкованный из проволок марки В, маркировочная группа: 1770 н/мм2, диаметром 5,5 мм","10 м",null,null,null,null,null,0]
["36","ТЕР09-04-012-02","Установка дверного доводчика к металлическим дверям","1 шт.",1,{"$f":"G94/E94","v":2613.9},2613.9,{"$f":"I94/E94","v":10.7},10.7,2624.6]
[null,"101-1513","Электроды диаметром: 4 мм Э42","т",null,null,null,null,null,0]
[null,"101-1845","Винты самонарезающие: с уплотнительной прокладкой 4,8х35 мм","100 шт.",null,null,null,null,null,0]
["37","ТЦ_07.1.01.03_78_7841375755_26.01.2024_02\nАналог  ТССЦ-201-0253  5403,70/5341,14=2%","Ворота распашные металлические, с калиткой, открыванием наружу 2600х4100мм (55,6*10,66м2)/1000","шт",1,{"$f":"G97/E97","v":0},0,{"$f":"I97/E97","v":221541.79},221541.79,221541.79]
["Раздел 5. Перегородки",null,null,null,null,{"$f":"G98/E98","v":{"$error":"#DIV/0!"}},0,{"$f":"I98/E98","v":{"$error":"#DIV/0!"}},0,0]
["38","ТЕР09-04-006-04","Монтаж ограждающих конструкций стен: из многослойных панелей заводской готовности при высоте здания до 50 м","100 м2",0.20680000000000001,{"$f":"G99/E99","v":539401.74},111548.28,{"$f":"I99/E99","v":8429.8799999999992},1743.3,113291.58]
[null,"101-0309","Канаты пеньковые пропитанные","т",null,null,null,null,null,0]
[null,"101-0324","Кислород технический: газообразный","м3",null,null,null,null,null,0]
[null,"101-0797","Проволока горячекатаная в мотках, диаметром 6,3-6,5 мм","т",null,null,null,null,null,0]
[null,"101-1019","Швеллеры № 40 из стали марки: Ст0","т",null,null,null,null,null,0]
[null,"101-1513","Электроды диаметром: 4 мм Э42","т",null,null,null,null,null,0]
[null,"101-1714","Болты с гайками и шайбами строительные","т",null,null,null,null,null,0]
[null,"101-1805","Гвозди строительные","т",null,null,null,null,null,0]
[null,"101-2278","Пропан-бутан, смесь техническая","кг",null,null,null,null,null,0]
[null,"101-2467","Растворитель марки: Р-4","т",null,null,null,null,null,0]
[null,"102-0023","Бруски обрезные хвойных пород длиной: 4-6,5 м, шириной 75-150 мм, толщиной 40-75 мм, I сорта","м3",null,null,null,null,null,0]
[null,"113-0021","Грунтовка: ГФ-021 красно-коричневая","т",null,null,null,null,null,0]
[null,"201-0756","Отдельные конструктивные элементы зданий и сооружений с преобладанием: горячекатаных профилей, средняя масса сборочной единицы от 0,1 до 0,5 т","т",null,null,null,null,null,0]
[null,"508-0097","Канат двойной свивки типа ТК, конструкции 6х19(1+6+12)+1 о.с., оцинкованный из проволок марки В, маркировочная группа: 1770 н/мм2, диаметром 5,5 мм","10 м",null,null,null,null,null,0]
["39","ТССЦ-201-0382","Конструкции: стальные нащельников и деталей обрамления","т",5.6000000000000001E-2,{"$f":"G113/E113","v":0},0,{"$f":"I113/E113","v":200546.07},11230.58,11230.58]
["40","ТЦ_07.2.05.00_77_7726393266_08.02.2024_02\nАналог ТССЦ-201-1030 212,54/207,54=2%","Сэндвич-панели ТСП-Z-120-1200-Г-Г-МВ","м2",21.9208,{"$f":"G114/E114","v":0},0,{"$f":"I114/E114","v":4047.93},88733.88,88733.88]
["Раздел 6. Полы",null,null,null,null,{"$f":"G115/E115","v":{"$error":"#DIV/0!"}},0,{"$f":"I115/E115","v":{"$error":"#DIV/0!"}},0,0]
["Тип 1.  S=27,1 м2",null,null,null,null,{"$f":"G116/E116","v":{"$error":"#DIV/0!"}},0,{"$f":"I116/E116","v":{"$error":"#DIV/0!"}},0,0]
["41","ТЕР11-01-009-01","Устройство тепло- и звукоизоляции сплошной из плит: или матов минераловатных или стекловолокнистых","100 м2 изолируемой поверхности",0.27100000000000002,{"$f":"G117/E117","v":67009.52},18159.580000000002,{"$f":"I117/E117","v":0},0,18159.580000000002]
["42","ТЦ_12.2.00.00_78_7802348846_15.02.2024_02\nАналог  ТССЦ-104-0313  1379,26/1347,33=2%","Пеноплэкс Фундамент толщ. 40 мм","м3",1.117,{"$f":"G118/E118","v":0},0,{"$f":"I118/E118","v":13431.03},15002.46,15002.46]
["43","ТЕР11-01-050-01","Устройство пароизоляции из полиэтиленовой пленки в один слой насухо // прим. гидроизоляция","100 м2 поверхности",0.27100000000000002,{"$f":"G119/E119","v":7474.61},2025.62,{"$f":"I119/E119","v":19003.689999999999},5150,7175.62]
[null,"113-0324","Пленка полиэтиленовая толщиной: 0,2-0,5 мм","м2",null,null,null,null,null,0]
["44","ТЕР11-01-011-03","Устройство стяжек: бетонных толщиной 20 мм","100 м2 стяжки",0.27100000000000002,{"$f":"G121/E121","v":83767.23},22700.92,{"$f":"I121/E121","v":94.02},25.48,22726.400000000001]
[null,"411-0001","Вода","м3",null,null,null,null,null,0]
["45","ТЕР11-01-011-04","Устройство стяжек: на каждые 5 мм изменения толщины стяжки добавлять или исключать к расценке 11-01-011-03 // до толщ. 50 мм","100 м2 стяжки",0.27100000000000002,{"$f":"G123/E123","v":9679.56},2623.16,{"$f":"I123/E123","v":0},0,2623.16]
["46","ТЦ_59.1.04.01_47_4705078395_08.02.2024_02\nАналог ТССЦ-401-0008  699,49/623,42=2%","Бетон  В22,5","м3",1.3819999999999999,{"$f":"G124/E124","v":0},0,{"$f":"I124/E124","v":5189.6099999999997},7172.04,7172.04]
["47","ТЕР06-01-015-10","Армирование подстилающих слоев и набетонок","1 т",4.7E-2,{"$f":"G125/E125","v":27708.3},1302.29,{"$f":"I125/E125","v":3009.79},141.46,1443.75]
[null,"101-0816","Проволока светлая диаметром: 1,1 мм","т",null,null,null,null,null,0]
["48","ТЦ_08.4.02.05_66_6686134976_08.02.2024_02\nАналог ТССЦ-101-3891 21,17/20,58=2%","Сетка арм. 100х100 4Вр1","м2",27.1,{"$f":"G127/E127","v":0},0,{"$f":"I127/E127","v":118.43},3209.58,3209.58]
["49","ТЕР11-01-020-03","Устройство покрытий поливинилацетатных: толщиной 3 мм // прим. покрытие полимерное","100 м2 покрытия",0.27100000000000002,{"$f":"G128/E128","v":180027.93},48787.57,{"$f":"I128/E128","v":147312.07},39921.57,88709.14]
[null,"101-0430","Краски масляные и алкидные земляные, готовые к применению: сурик железный МА-15, ПФ-14","т",null,null,null,null,null,0]
[null,"101-0433","Краски масляные и алкидные земляные, готовые к применению: охра МА-15","т",null,null,null,null,null,0]
[null,"101-1305","Портландцемент общестроительного назначения бездобавочный, марки: 400","т",null,null,null,null,null,0]
[null,"101-1591","Смола каменноугольная для дорожного строительства","т",null,null,null,null,null,0]
[null,"101-2293","Кислота ортофосфорная: техническая, сорт I","т",null,null,null,null,null,0]
[null,"101-2358","Дисперсия поливинилацетатная непластифицированная марки Д50Н","кг",null,null,null,null,null,0]
[null,"113-0306","Маршалит","т",null,null,null,null,null,0]
[null,"408-0122","Песок природный для строительных: работ средний","м3",null,null,null,null,null,0]
[null,"411-0001","Вода","м3",null,null,null,null,null,0]
["Тип 2.  S=25,6 м2",null,null,null,null,{"$f":"G138/E138","v":{"$error":"#DIV/0!"}},0,{"$f":"I138/E138","v":{"$error":"#DIV/0!"}},0,0]
["50","ТЕР11-01-009-01","Устройство тепло- и звукоизоляции сплошной из плит: или матов минераловатных или стекловолокнистых","100 м2 изолируемой поверхности",0.25600000000000001,{"$f":"G139/E139","v":67007.77},17153.990000000002,{"$f":"I139/E139","v":0},0,17153.990000000002]
["51","ТЦ_12.2.00.00_78_7802348846_15.02.2024_02\nАналог  ТССЦ-104-0313  1379,26/1347,33=2%","Пеноплэкс Фундамент толщ. 40 мм","м3",1.0549999999999999,{"$f":"G140/E140","v":0},0,{"$f":"I140/E140","v":13431.02},14169.73,14169.73]
["52","ТЕР11-01-011-03","Устройство стяжек: бетонных толщиной 20 мм","100 м2 стяжки",0.25600000000000001,{"$f":"G141/E141","v":83765.23},21443.9,{"$f":"I141/E141","v":94.06},24.08,21467.98]
[null,"411-0001","Вода","м3",null,null,null,null,null,0]
["53","ТЕР11-01-011-04","Устройство стяжек: на каждые 5 мм изменения толщины стяжки добавлять или исключать к расценке 11-01-011-03 // до 50 мм","100 м2 стяжки",0.25600000000000001,{"$f":"G143/E143","v":9679.9599999999991},2478.0700000000002,{"$f":"I143/E143","v":0},0,2478.0700000000002]
["54","ТЦ_59.1.04.01_47_4705078395_08.02.2024_02\nАналог ТССЦ-401-0008  699,49/623,42=2%","Бетон  В22,5","м3",1.306,{"$f":"G144/E144","v":0},0,{"$f":"I144/E144","v":5189.6099999999997},6777.63,{"$f":"G144+I144","v":6777.63}]
["55","ТЕР06-01-015-10","Армирование подстилающих слоев и набетонок","1 т",4.48E-2,{"$f":"G145/E145","v":27709.599999999999},1241.3900000000001,{"$f":"I145/E145","v":3009.82},134.84,1376.23]
[null,"101-0816","Проволока светлая диаметром: 1,1 мм","т",null,null,null,null,null,0]
["56","ТЦ_08.4.02.05_66_6686134976_08.02.2024_02\nАналог ТССЦ-101-3891 21,17/20,58=2%","Сетка арм. 100х100 4Вр1","м2",25.6,{"$f":"G147/E147","v":0},0,{"$f":"I147/E147","v":118.44},3031.94,3031.94]
["57","ТЕР11-01-020-03","Устройство покрытий поливинилацетатных: толщиной 3 мм // прим. покрытие полимерное","100 м2 покрытия",0.25600000000000001,{"$f":"G148/E148","v":180027.62},46087.07,{"$f":"I148/E148","v":147312.07},37711.89,83798.960000000006]
[null,"101-0430","Краски масляные и алкидные земляные, готовые к применению: сурик железный МА-15, ПФ-14","т",null,null,null,null,null,0]
[null,"101-0433","Краски масляные и алкидные земляные, готовые к применению: охра МА-15","т",null,null,null,null,null,0]
[null,"101-1305","Портландцемент общестроительного назначения бездобавочный, марки: 400","т",null,null,null,null,null,0]
[null,"101-1591","Смола каменноугольная для дорожного строительства","т",null,null,null,null,null,0]
[null,"101-2293","Кислота ортофосфорная: техническая, сорт I","т",null,null,null,null,null,0]
[null,"101-2358","Дисперсия поливинилацетатная непластифицированная марки Д50Н","кг",null,null,null,null,null,0]
[null,"113-0306","Маршалит","т",null,null,null,null,null,0]
[null,"408-0122","Песок природный для строительных: работ средний","м3",null,null,null,null,null,0]
[null,"411-0001","Вода","м3",null,null,null,null,null,0]
["Тип 3.  S=237,0 м2",null,null,null,null,{"$f":"G158/E158","v":{"$error":"#DIV/0!"}},0,{"$f":"I158/E158","v":{"$error":"#DIV/0!"}},0,0]
["58","ТЕР11-01-011-03","Устройство стяжек: бетонных толщиной 20 мм","100 м2 стяжки",2.37,{"$f":"G159/E159","v":83767.83},198529.75,{"$f":"I159/E159","v":94.05},222.9,198752.65]
[null,"411-0001","Вода","м3",null,null,null,null,null,0]
["59","ТЕР11-01-011-04","Устройство стяжек: на каждые 5 мм изменения толщины стяжки добавлять или исключать к расценке 11-01-011-03 // толщ. 50-165 мм","100 м2 стяжки",2.37,{"$f":"G161/E161","v":28232.99},66912.179999999993,{"$f":"I161/E161","v":0},0,66912.179999999993]
["60","ТЦ_59.1.04.01_47_4705078395_08.02.2024_02\nАналог ТССЦ-401-0008  699,49/623,42=2%","Бетон  В22,5","м3",25.986999999999998,{"$f":"G162/E162","v":0},0,{"$f":"I162/E162","v":5189.6099999999997},134862.32,134862.32]
["61","ТЕР06-01-015-10","Армирование подстилающих слоев и набетонок","1 т",0.41475000000000001,{"$f":"G163/E163","v":27713.22},11494.06,{"$f":"I163/E163","v":3009.62},1248.24,12742.3]
[null,"101-0816","Проволока светлая диаметром: 1,1 мм","т",null,null,null,null,null,0]
["62","ТЦ_08.4.02.05_66_6686134976_08.02.2024_02\nАналог ТССЦ-101-3891 21,17/20,58=2%","Сетка арм. 100х100 4Вр1","м2",237,{"$f":"G165/E165","v":0},0,{"$f":"I165/E165","v":118.43},28069.040000000001,28069.040000000001]
["63","ТЕР11-01-020-03","Устройство покрытий поливинилацетатных: толщиной 3 мм // прим. покрытие полимерное","100 м2 покрытия",2.37,{"$f":"G166/E166","v":180031.29},426674.16,{"$f":"I166/E166","v":147312.06},349129.59,775803.75]
[null,"101-0430","Краски масляные и алкидные земляные, готовые к применению: сурик железный МА-15, ПФ-14","т",null,null,null,null,null,0]
[null,"101-0433","Краски масляные и алкидные земляные, готовые к применению: охра МА-15","т",null,null,null,null,null,0]
[null,"101-1305","Портландцемент общестроительного назначения бездобавочный, марки: 400","т",null,null,null,null,null,0]
[null,"101-1591","Смола каменноугольная для дорожного строительства","т",null,null,null,null,null,0]
[null,"101-2293","Кислота ортофосфорная: техническая, сорт I","т",null,null,null,null,null,0]
[null,"101-2358","Дисперсия поливинилацетатная непластифицированная марки Д50Н","кг",null,null,null,null,null,0]
[null,"113-0306","Маршалит","т",null,null,null,null,null,0]
[null,"408-0122","Песок природный для строительных: работ средний","м3",null,null,null,null,null,0]
[null,"411-0001","Вода","м3",null,null,null,null,null,0]
["Тип 4.  S=151,0 м2",null,null,null,null,{"$f":"G176/E176","v":{"$error":"#DIV/0!"}},0,{"$f":"I176/E176","v":{"$error":"#DIV/0!"}},0,0]
["64","ТЕР11-01-011-03","Устройство стяжек: бетонных толщиной 20 мм","100 м2 стяжки",1.51,{"$f":"G177/E177","v":83767.87},126489.48,{"$f":"I177/E177","v":94.05},142.02000000000001,126631.5]
[null,"411-0001","Вода","м3",null,null,null,null,null,0]
["65","ТЕР11-01-011-04","Устройство стяжек: на каждые 5 мм изменения толщины стяжки добавлять или исключать к расценке 11-01-011-03 // толщ. 30 мм","100 м2 стяжки",1.51,{"$f":"G179/E179","v":3226.08},4871.38,{"$f":"I179/E179","v":0},0,4871.38]
["66","ТЦ_59.1.04.01_47_4705078395_08.02.2024_02\nАналог ТССЦ-401-0008  699,49/623,42=2%","Бетон  В22,5","м3",4.6210000000000004,{"$f":"G180/E180","v":0},0,{"$f":"I180/E180","v":5189.6099999999997},23981.17,23981.17]
["67","ТЕР11-01-020-03","Устройство покрытий поливинилацетатных: толщиной 3 мм // прим. покрытие полимерное","100 м2 покрытия",1.51,{"$f":"G181/E181","v":180030.91},271846.68,{"$f":"I181/E181","v":147312.07},222441.22,494287.9]
[null,"101-0430","Краски масляные и алкидные земляные, готовые к применению: сурик железный МА-15, ПФ-14","т",null,null,null,null,null,0]
[null,"101-0433","Краски масляные и алкидные земляные, готовые к применению: охра МА-15","т",null,null,null,null,null,0]
[null,"101-1305","Портландцемент общестроительного назначения бездобавочный, марки: 400","т",null,null,null,null,null,0]
[null,"101-1591","Смола каменноугольная для дорожного строительства","т",null,null,null,null,null,0]
[null,"101-2293","Кислота ортофосфорная: техническая, сорт I","т",null,null,null,null,null,0]
[null,"101-2358","Дисперсия поливинилацетатная непластифицированная марки Д50Н","кг",null,null,null,null,null,0]
[null,"113-0306","Маршалит","т",null,null,null,null,null,0]
[null,"408-0122","Песок природный для строительных: работ средний","м3",null,null,null,null,null,0]
[null,"411-0001","Вода","м3",null,null,null,null,null,0]
["Тип 5.  S=18,1 м2  ( h=1200 мм.)  Учтено в разделе КМ",null,null,null,null,{"$f":"G191/E191","v":{"$error":"#DIV/0!"}},0,{"$f":"I191/E191","v":{"$error":"#DIV/0!"}},0,0]
["Раздел 7. Отделка",null,null,null,null,{"$f":"G192/E192","v":{"$error":"#DIV/0!"}},0,{"$f":"I192/E192","v":{"$error":"#DIV/0!"}},0,0]
["Цоколь",null,null,null,null,{"$f":"G193/E193","v":{"$error":"#DIV/0!"}},0,{"$f":"I193/E193","v":{"$error":"#DIV/0!"}},0,0]
["68","ТЕР15-04-015-02","Окраска фасадов с люлек с подготовкой поверхности: силикатная // прим.","100 м2 фасада",0.84,{"$f":"G194/E194","v":71763.7},60281.51,{"$f":"I194/E194","v":8107.43},6810.24,67091.75]
[null,"101-1757","Ветошь","кг",null,null,null,null,null,0]
[null,"101-1841","Краски силикатные зеленая и красная","т",null,null,null,null,null,0]
[null,"113-0043","Жидкость: гидрофобизирующая ГКЖ-10","т",null,null,null,null,null,0]
[null,"113-0368","Стекло жидкое калийное","т",null,null,null,null,null,0]
[null,"402-0083","Раствор готовый отделочный тяжелый,: цементно-известковый 1:1:6","м3",null,null,null,null,null,0]
[null,"409-0639","Пемза шлаковая (щебень пористый из металлургического шлака), марка 600, фракция 5-10 мм","м3",null,null,null,null,null,0]
[null,"411-0001","Вода","м3",null,null,null,null,null,0]
["Окраска конструкций стен и потолков из профлиста, учтена в сметах к разделу КМ",null,null,null,null,{"$f":"G202/E202","v":{"$error":"#DIV/0!"}},0,{"$f":"I202/E202","v":{"$error":"#DIV/0!"}},0,0]
["Раздел 8. Отмостка",null,null,null,null,{"$f":"G203/E203","v":{"$error":"#DIV/0!"}},0,{"$f":"I203/E203","v":{"$error":"#DIV/0!"}},0,0]
["69","ТЕР27-04-001-04","Устройство подстилающих и выравнивающих слоев оснований: из щебня","100 м3 материала основания (в плотном теле)",0.2137,{"$f":"G204/E204","v":206247.92},44075.18,{"$f":"I204/E204","v":188.11},40.200000000000003,44115.38]
[null,"411-0001","Вода","м3",null,null,null,null,null,0]
["70","ТССЦ-408-0015","Щебень из природного камня для строительных работ марка: 800, фракция 20-40 мм","м3",26.92,{"$f":"G206/E206","v":0},0,{"$f":"I206/E206","v":3394.18},91371.21,91371.21]
["71","ТЕР26-01-041-05","Изоляция изделиями из пенопласта насухо холодных поверхностей покрытий и перекрытий // прим.","1 м3 изоляции",3.5615000000000001,{"$f":"G207/E207","v":19206.189999999999},68402.86,{"$f":"I207/E207","v":0},0,68402.86]
["72","ТССЦ-104-0313","Плиты теплоизоляционные: из экструзионного вспененного полистирола ПЕНОПЛЭКС-45 // толщ. 50 мм","м3",3.6682999999999999,{"$f":"G208/E208","v":0},0,{"$f":"I208/E208","v":17158.86},62943.839999999997,{"$f":"G208+I208","v":62943.839999999997}]
["73","ТЕР06-01-013-01","Устройство подливки толщиной  20 мм // прим. бетонное основание","100 м2 подливки под оборудование",0.71230000000000004,{"$f":"G209/E209","v":97757.56},69632.710000000006,{"$f":"I209/E209","v":2743.28},1954.04,71586.75]
[null,"101-1805","Гвозди строительные","т",null,null,null,null,null,0]
[null,"102-0053","Доски обрезные хвойных пород длиной: 4-6,5 м, шириной 75-150 мм, толщиной 25 мм, III сорта","м3",null,null,null,null,null,0]
[null,"102-0061","Доски обрезные хвойных пород длиной: 4-6,5 м, шириной 75-150 мм, толщиной 44 мм и более, III сорта","м3",null,null,null,null,null,0]
["74","ТЕР06-01-013-02","На каждые 10 мм изменения толщины добавлять или исключать к расценке 06-01-013-01 // до 60 мм","100 м2 подливки под оборудование",0.71230000000000004,{"$f":"G213/E213","v":100863.27},71844.91,{"$f":"I213/E213","v":2681.2},1909.82,73754.73]
[null,"101-1805","Гвозди строительные","т",null,null,null,null,null,0]
[null,"102-0053","Доски обрезные хвойных пород длиной: 4-6,5 м, шириной 75-150 мм, толщиной 25 мм, III сорта","м3",null,null,null,null,null,0]
[null,"102-0061","Доски обрезные хвойных пород длиной: 4-6,5 м, шириной 75-150 мм, толщиной 44 мм и более, III сорта","м3",null,null,null,null,null,0]
["75","ТЦ_59.1.04.01_78_7806468968_26.06.2024_02\nАналог ТССЦ-401-0006  661,66/586,34=2%","Бетон  В15","м3",4.359,{"$f":"G217/E217","v":0},0,{"$f":"I217/E217","v":3699.84},16127.61,16127.61]
["76","ТЕР06-01-015-10","Армирование подстилающих слоев и набетонок","1 т",0.2472,{"$f":"G218/E218","v":27714.89},6851.12,{"$f":"I218/E218","v":3009.63},743.98,7595.1]
[null,"101-0816","Проволока светлая диаметром: 1,1 мм","т",null,null,null,null,null,0]
["77","ТЦ_08.4.02.05_78_7816723705_16.02.2024_02\nАналог ТССЦ-101-3891 21,17/20,58=2%","Сетка арм. 100х100 6Вр1","м2",71.23,{"$f":"G220/E220","v":0},0,{"$f":"I220/E220","v":595.28},42402.080000000002,42402.080000000002]
["78","ТЕР11-01-019-01","Устройство покрытий асфальтобетонных: литых толщиной 25 мм","100 м2 покрытия",0.71230000000000004,{"$f":"G221/E221","v":60525.31},43112.18,{"$f":"I221/E221","v":18805.25},13394.98,56507.16]
[null,"101-0073","Битумы нефтяные строительные марки: БН-90/10","т",null,null,null,null,null,0]
[null,"101-0322","Керосин для технических целей марок КТ-1, КТ-2","т",null,null,null,null,null,0]
[null,"102-0085","Бруски обрезные хвойных пород длиной: 2-3,75 м, шириной 75-150 мм, толщиной 40-75 мм, III сорта","м3",null,null,null,null,null,0]
[null,"410-1020","Асфальт литой: для покрытий тротуаров","м3",null,null,null,null,null,0]
["80","ТЕР27-07-001-01","Устройство асфальтобетонных покрытий дорожек и тротуаров однослойных из литой мелкозернистой асфальтобетонной смеси толщиной 3 см","100 м2 покрытия",0.71230000000000004,{"$f":"G226/E226","v":38376.269999999997},27335.42,{"$f":"I226/E226","v":36898.53},26282.82,53618.239999999998]
[null,"101-1561","Битумы нефтяные дорожные жидкие, класс: МГ, СГ","т",null,null,null,null,null,0]
[null,"408-0122","Песок природный для строительных: работ средний","м3",null,null,null,null,null,0]
[null,"410-0054","Асфальт литой: для покрытий тротуаров тип II (жесткий)","т",null,null,null,null,null,0]
["81","ТЕР27-07-001-02","На каждые 0,5 см изменения толщины покрытия добавлять к  расценке 27-07-001-01","100 м2 покрытия",-0.71230000000000004,{"$f":"G230/E230","v":5861.32},-4175.0200000000004,{"$f":"I230/E230","v":5985.32},-4263.34,-8438.36]
[null,"410-0054","Асфальт литой: для покрытий тротуаров тип II (жесткий)","т",null,null,null,null,null,0]
[null,null,"Всего, руб. с НДС",null,null,null,{"$f":"SUM(G12:G231)","v":2152490.7599999998},null,{"$f":"SUM(I12:I231)","v":2196287.58},{"$f":"SUM(J12:J231)","v":4348778.34}]
[null,null,"Всего, руб. без НДС",null,null,null,{"$f":"G232/1.2","v":1793742.3},null,{"$f":"I232/1.2","v":1830239.65},{"$f":"J232/1.2","v":3623981.95}]

{"sheet":"1632-2021-2.1.1-АР","index":6,"n_rows":59,"n_cols":10,"rows_kept":59,"cut":false,"hidden":false,"merged":[]}
[]
["Терминал по перевалке минеральных удобрений в морском торговом порту Усть-Луга. Береговые объекты терминала"]
["(наименование стройки)"]
["1632-2021-2.1.1-АР_07.04.040-П-00-00"]
["(локальная смета)"]
["на Архитектурные решения, 07.04.040 Конвейерная галерея №1 (код SAP 01.02.006) код ГП 2.1.1"]
["(наименование работ и затрат, наименование объекта)"]
[null,"Основание:","1632-2021-2.1.1-АР_07.04.040"]
[]
["№ п/п","Обоснование","Наименование работ и затрат","Ед. изм.","Кол-во","Цена за ед.измерения работ, руб. с НДС","Всего, стоимость работ,руб. с НДС","Цена за ед.измерения материалов, руб. с НДС","Всего, стоимость материалов, руб. с НДС","Итого, руб. с НДС"]
["1","2","3","4","5",6,7,8,9,10]
[]
[1,2,3,4,5,null,null,null,null,{"$f":"G13+I13","v":0}]
["Раздел 1. Фасадные работы",null,null,null,null,null,null,null,null,{"$f":"G14+I14","v":0}]
["Раздел 2. Дверные проемы",null,null,null,null,null,null,null,null,0]
["6","ТЕР09-04-013-01","Установка противопожарных дверей: однопольных глухих","1 м2 проема",6.3,{"$f":"G16/E16","v":5120.0200000000004},32256.1,{"$f":"I16/E16","v":675.03},4252.68,36508.78]
[null,"101-1513","Электроды диаметром: 4 мм Э42","т",null,null,null,null,null,0]
[null,"101-1929","Болты анкерные","т",null,null,null,null,null,0]
[null,"101-3661","Пена монтажная: противопожарная полиуретановая NULLIFIRE (0,88 л)","шт.",null,null,null,null,null,0]
["7","ТЦ_07.1.01.01_78_7841375755_25.01.2024_02","Дверь ДПС 1000-2100 EI30","шт",3,{"$f":"G20/E20","v":0},0,{"$f":"I20/E20","v":28958.17},86874.51,86874.51]
["8","ТЕР09-04-012-01","Установка металлических дверных блоков в готовые проемы","1 м2 проема",6.3,{"$f":"G21/E21","v":6002.99},37818.839999999997,{"$f":"I21/E21","v":327.69},2064.4299999999998,39883.269999999997]
[null,"101-1513","Электроды диаметром: 4 мм Э42","т",null,null,null,null,null,0]
[null,"101-1921","Пена монтажная: для герметизации стыков в баллончике емкостью 0,85 л","шт.",null,null,null,null,null,0]
[null,"204-0062","Детали закладные и накладные изготовленные: без применения сварки, гнутья, сверления (пробивки) отверстий поставляемые отдельно","т",null,null,null,null,null,0]
["9","ТЦ_07.1.01.03_78_7810347194_06.02.2024_02","Дверь ДСН 1000-2100","шт",3,{"$f":"G25/E25","v":0},0,{"$f":"I25/E25","v":35195.279999999999},105585.83,105585.83]
["Раздел 3. Оконные проемы"]
["10","ТЕР10-01-034-03","Установка в жилых и общественных зданиях оконных блоков из ПВХ профилей: поворотных (откидных, поворотно-откидных) с площадью проема до 2 м2 одностворчатых","100 м2 проемов",5.6000000000000001E-2,{"$f":"G27/E27","v":468368.93},26228.66,{"$f":"I27/E27","v":156176.25},8745.8700000000008,34974.53]
[null,"101-2052","Лента бутиловая","м",null,null,null,null,null,0]
[null,"101-2054","Лента бутиловая диффузионная","м",null,null,null,null,null,0]
[null,"101-2388","Герметик пенополиуретановый (пена монтажная) типа Makrofleks, Soudal в баллонах по 750 мл","шт.",null,null,null,null,null,0]
[null,"101-2789","Лента ПСУЛ","10 м",null,null,null,null,null,0]
[null,"101-4173","Дюбели монтажные 10х130 (10х132, 10х150) мм","10 шт.",null,null,null,null,null,0]
[null,"102-0303","Клинья пластиковые монтажные","100 шт.",null,null,null,null,null,0]
["11","ТЦ_11.3.02.02_78_7804550906_25.01.2024_02\nАналог ТССЦ-203-0960 5219,18/5114,28=2%","Оконный проем ОП-П-1400х100-ОЛ (6М1)-ПОТ","шт",4,{"$f":"G34/E34","v":0},0,{"$f":"I34/E34","v":9768.8799999999992},39075.5,39075.5]
["Раздел 4. Снегозадерживающие устройства"]
["12","ТЕР12-01-012-01","Ограждение кровель перилами","100 м ограждения",1.72,{"$f":"G36/E36","v":16111.7},27712.13,{"$f":"I36/E36","v":402.08},691.58,28403.71]
[null,"101-1529","Электроды диаметром: 6 мм Э42","т",null,null,null,null,null,0]
[null,"101-1851","Резина прессованная","кг",null,null,null,null,null,0]
["13","ТЦ_11.3.02.02_78_7804606806_25.01.2024_02\nАналог ТССЦ-203-0960 5219,18/5114,28=2%","Металлическое ограждение","м",172,{"$f":"G39/E39","v":0},0,{"$f":"I39/E39","v":1460.41},251189.67,251189.67]
["Раздел 5. Водосточная система"]
["14","ТЕР12-01-009-02","Устройство желобов: подвесных","100 м желобов",1.72,{"$f":"G41/E41","v":65795.53},113168.32000000001,{"$f":"I41/E41","v":427.46},735.23,113903.55]
[null,"101-0173","Гвозди проволочные оцинкованные для асбестоцементной кровли: 4,5х120 мм","т",null,null,null,null,null,0]
["15","ТЦ_12.1.01.05_78_7804550906_25.01.2024_02\nАналог ТССЦ-203-0960 5219,18/5114,28=2%","Водосточный желоб  д.185х3000","м",172,{"$f":"G43/E43","v":0},0,{"$f":"I43/E43","v":581.23},99970.87,99970.87]
["16","ТЦ_12.1.01.05_78_7804550906_25.01.2024_02\nАналог ТССЦ-203-0960 5219,18/5114,28=2%","185 мм Заглушка желоба коттеджная RAL 7005","шт",12,{"$f":"G44/E44","v":0},0,{"$f":"I44/E44","v":380.93},4571.18,4571.18]
["17","ТЦ_12.1.01.05_78_7804550906_25.01.2024_02\nАналог ТССЦ-203-0960 5219,18/5114,28=2%","185 мм Крюк желоба под профлист на болтовом\nсоединении RAL 7004\nМебельный болт М8х30 - 2 шт; Гайка М8 - 2 шт;\nШайба М8 - 2\nшт; Шайба уплотнительная - 2 шт","шт",288,{"$f":"G45/E45","v":0},0,{"$f":"I45/E45","v":769.33},221566.56,221566.56]
["18","ТЕР12-01-008-01","Устройство обделок на фасадах (наружные подоконники, пояски, балконы и др.): включая водосточные трубы, с изготовлением элементов труб","100 м2фасада (без вычета проемов)",6.2027029999999996,{"$f":"G46/E46","v":27777.23},172293.93,{"$f":"I46/E46","v":790.48},4903.1000000000004,177197.03]
[null,"101-0195","Гвозди толевые круглые: 3,0х40 мм","т",null,null,null,null,null,0]
[null,"101-0795","Проволока канатная оцинкованная, диаметром: 3 мм","т",null,null,null,null,null,0]
["19","ТЦ_12.1.01.05_78_7804550906_25.01.2024_02\nАналог ТССЦ-203-0960 5219,18/5114,28=2%","150 мм Труба 3000 мм RAL 7004","м",172,{"$f":"G49/E49","v":0},0,{"$f":"I49/E49","v":708.24},121818.11,121818.11]
["20","ТЦ_12.1.01.05_78_7804550906_25.01.2024_02\nАналог ТССЦ-203-0960 5219,18/5114,28=2%","150 мм Колено ГОФРИРОВАННОЕ RAL 7004","шт",48,{"$f":"G50/E50","v":0},0,{"$f":"I50/E50","v":488.42},23444.12,23444.12]
["21","ТЦ_12.1.01.05_78_7804550906_25.01.2024_02\nАналог ТССЦ-203-0960 5219,18/5114,28=2%","150 мм Охват на площадке (прут- 10х100мм;\nплощадка- 2,5х100х50мм) (черная полоса) RAL\n7004\nБолт 6х30 - 2 шт; Гайка М6 - 2 шт; Шайба М6 - 4\nшт","шт",202,{"$f":"G51/E51","v":0},0,{"$f":"I51/E51","v":321.08999999999997},64860.7,64860.7]
["22","ТЕР16-07-002-01","Установка воронок водосточных","1 воронка",16,{"$f":"G52/E52","v":7664.71},122635.39,{"$f":"I52/E52","v":54.12},865.87,123501.26]
[null,"101-0311","Каболка","т",null,null,null,null,null,0]
[null,"101-1355","Цемент гипсоглиноземистый расширяющийся","т",null,null,null,null,null,0]
[null,"101-1522","Электроды диаметром: 5 мм Э42А","т",null,null,null,null,null,0]
["23","ТЦ_12.1.01.05_78_7804550906_25.01.2024_02\nАналог ТССЦ-203-0960 5219,18/5114,28=2%","150 мм Воронка под желоб (верх 185мм.) RAL\n7004Водосточный желоб  д.185х3000","шт",16,{"$f":"G56/E56","v":0},0,{"$f":"I56/E56","v":824.19},13187.06,13187.06]
["  ВСЕГО по смете",null,null,null,null,null,null,null,null,0]
[null,null,"Всего, руб. с НДС",null,null,null,{"$f":"SUM(G12:G57)","v":532113.37},null,{"$f":"SUM(I12:I57)","v":1054402.8700000001},{"$f":"SUM(J12:J57)","v":1586516.24}]
[null,null,"Всего, руб. без НДС",null,null,null,{"$f":"G58/1.2","v":443427.81},null,{"$f":"I58/1.2","v":878669.06},{"$f":"J58/1.2","v":1322096.8700000001}]

{"sheet":"1632-2021-1.1,1.2,2.1.0-АР","index":7,"n_rows":696,"n_cols":10,"rows_kept":696,"cut":false,"hidden":false,"merged":[]}
[]
["Терминал по перевалке минеральных удобрений в морском торговом порту Усть-Луга. Береговые объекты терминала"]
["(наименование стройки)"]
["1632-2021-1.1,1.2,2.1.0-АР_07.02.010_07.04.030-П-00-00"]
["(локальная смета)"]
["на Архитектурные решения, 07.02.010 Станция разгрузки вагонов (код SAP 01.04.001) код ГП 1.1\n07.04.030 Тоннель код ГП 2.1.0"]
["(наименование работ и затрат, наименование объекта)"]
[null,"Основание:","1632-2021-1.1, 1.2, 2.1.0-АР_1_0_RU_IFC"]
[]
["№ п/п","Обоснование","Наименование работ и затрат","Ед. изм.","Кол-во","Цена за ед.измерения работ, руб. с НДС","Всего, стоимость работ,руб. с НДС","Цена за ед.измерения материалов, руб. с НДС","Всего, стоимость материалов, руб. с НДС","Итого, руб. с НДС"]
["1","2","3","4","5",6,7,8,9,10]
["Раздел 2. Установка дверных блоков и ворот. Станция разгрузки вагонов, (Спецификации по шифру 1632-2021-1.1,1.2,2.1.0-АР, Приложение к письму  ООО “Морстройтехнология” вх. №9С01-8000370513-MST-ETU-LET-ENG-00384 от 19.02.2024 г.)"]
["Установка дверных блоков",null,null,null,null,null,null,null,null,{"$f":"G13+I13","v":0}]
["1","ТЕР09-04-012-01","Установка металлических дверных блоков в готовые проемы","1 м2 проема",50.4,{"$f":"G14/E14","v":6003.15},302558.61,{"$f":"I14/E14","v":327.7},16516.150000000001,319074.76]
[null,"101-1513","Электроды диаметром: 4 мм Э42","т",null,null,null,null,null,{"$f":"G15+I15","v":0}]
[null,"101-1921","Пена монтажная: для герметизации стыков в баллончике емкостью 0,85 л","шт.",null,null,null,null,null,0]
[null,"204-0062","Детали закладные и накладные изготовленные: без применения сварки, гнутья, сверления (пробивки) отверстий поставляемые отдельно","т",null,null,null,null,null,0]
["2","ТЦ_07.1.01.03_78_7841375755_27.02.2024_02","Дверной блок однопольный, металлический, остекленный, правая (7 эл.) левая (2 эл.) навеска 1000Х2100(h), с доводчиком","шт",9,{"$f":"G18/E18","v":0},0,{"$f":"I18/E18","v":33506.370000000003},301557.32,301557.32]
["3","ТЦ_07.1.01.03_78_7841375755_27.02.2024_02","Дверной блок однопольный, металлический, остекленный, утеплённый, правая (14 эл.) левая (1 эл.) навеска 1000Х2100(h), с доводчиком","шт",15,{"$f":"G19/E19","v":0},0,{"$f":"I19/E19","v":33506.370000000003},502595.54,502595.54]
["4","ТЕР09-04-012-02","Установка дверного доводчика к металлическим дверям","1 шт.",24,{"$f":"G20/E20","v":2614.54},62749.02,{"$f":"I20/E20","v":10.71},257.14,63006.16]
[null,"101-1513","Электроды диаметром: 4 мм Э42","т",null,null,null,null,null,0]
[null,"101-1845","Винты самонарезающие: с уплотнительной прокладкой 4,8х35 мм","100 шт.",null,null,null,null,null,0]
["5","ТЕР15-01-070-02","Облицовка: дверных проемов в наружных стенах откосной планкой из оцинкованной стали с полимерным покрытием с установкой наличников из оцинкованной стали с полимерным покрытием","1 м2 проемов",50.4,{"$f":"G23/E23","v":3593.91},181133.21,{"$f":"I23/E23","v":1693.92},85373.440000000002,266506.65000000002]
[null,"101-1691","Шурупы-саморезы 4,2х16 мм","100 шт.",null,null,null,null,null,0]
[null,"101-2409","Аквилон из оцинкованной стали с полимерным покрытием","п.м",null,null,null,null,null,0]
[null,"101-2410","Откосная планка шириной 250 мм из оцинкованной стали с полимерным покрытием","п.м",null,null,null,null,null,0]
[null,"101-2412","Наличники из оцинкованной стали с полимерным покрытием","п.м",null,null,null,null,null,0]
["6","ТЕР09-04-013-03","Установка противопожарных дверей: однопольных остекленных","1 м2 проема",27.3,{"$f":"G28/E28","v":5120.16},139780.34,{"$f":"I28/E28","v":675.03},18428.22,158208.56]
[null,"101-1513","Электроды диаметром: 4 мм Э42","т",null,null,null,null,null,0]
[null,"101-1929","Болты анкерные","т",null,null,null,null,null,0]
[null,"101-3661","Пена монтажная: противопожарная полиуретановая NULLIFIRE (0,88 л)","шт.",null,null,null,null,null,0]
["7","ТЦ_07.1.01.03_78_7841375755_27.02.2024_02","Дверной блок однопольный, металлический, остекленный, противопожарный, правая навеска 1000Х2100(h), EIS 60, с доводчиком и уплотнением притворов","шт",5,{"$f":"G32/E32","v":0},0,{"$f":"I32/E32","v":35533.360000000001},177666.79,177666.79]
["8","ТЦ_07.1.01.03_78_7841375755_27.02.2024_02","Дверной блок однопольный, металлический, остекленный, противопожарный, правая навеска1000Х2100(h), EIS 30, с доводчиком и уплотнением притворов","шт",8,{"$f":"G33/E33","v":0},0,{"$f":"I33/E33","v":35533.360000000001},284266.87,284266.87]
["9","ТЕР15-01-070-02","Облицовка: дверных проемов в наружных стенах откосной планкой из оцинкованной стали с полимерным покрытием с установкой наличников из оцинкованной стали с полимерным покрытием","1 м2 проемов",27.3,{"$f":"G34/E34","v":3593.93},98114.3,{"$f":"I34/E34","v":1693.88},46242.93,144357.23000000001]
[null,"101-1691","Шурупы-саморезы 4,2х16 мм","100 шт.",null,null,null,null,null,0]
[null,"101-2409","Аквилон из оцинкованной стали с полимерным покрытием","п.м",null,null,null,null,null,0]
[null,"101-2410","Откосная планка шириной 250 мм из оцинкованной стали с полимерным покрытием","п.м",null,null,null,null,null,0]
[null,"101-2412","Наличники из оцинкованной стали с полимерным покрытием","п.м",null,null,null,null,null,0]
["10","ТЕР10-01-039-03","Установка блоков в наружных и внутренних дверных проемах: в перегородках и деревянных нерубленых стенах, площадь проема до 3 м2","100 м2 проемов",0.15959999999999999,{"$f":"G39/E39","v":256114.85},40875.93,{"$f":"I39/E39","v":22187.53},3541.13,44417.06]
[null,"101-1705","Пакля пропитанная","кг",null,null,null,null,null,0]
[null,"101-1805","Гвозди строительные","т",null,null,null,null,null,0]
[null,"102-0053","Доски обрезные хвойных пород длиной: 4-6,5 м, шириной 75-150 мм, толщиной 25 мм, III сорта","м3",null,null,null,null,null,0]
["11","ТЦ_11.2.02.01_78_7810851080_06.03.2024_02","Дверной блок однопольный, деревянный, глухой, правая навеска 800Х2100(h)","шт",2,{"$f":"G43/E43","v":0},0,{"$f":"I43/E43","v":13187.64},26375.279999999999,26375.279999999999]
["12","ТЦ_11.2.02.01_78_7810424032_06.03.2024_02","Дверной блок однопольный, деревянный, глухой, правая навеска 1000Х2100(h), с доводчиком","шт",6,{"$f":"G44/E44","v":0},0,{"$f":"I44/E44","v":16826.45},100958.7,100958.7]
["13","ТЕР09-04-012-02","Установка дверного доводчика к металлическим дверям // прим.","1 шт.",6,{"$f":"G45/E45","v":2614.3000000000002},15685.82,{"$f":"I45/E45","v":10.78},64.650000000000006,15750.47]
[null,"101-1513","Электроды диаметром: 4 мм Э42","т",null,null,null,null,null,0]
[null,"101-1845","Винты самонарезающие: с уплотнительной прокладкой 4,8х35 мм","100 шт.",null,null,null,null,null,0]
["14","ТССЦ-101-6899","Доводчик дверной гидравлический TS-68 с зубчатым приводом (нагрузка до 90 кг)","шт.",6,{"$f":"G48/E48","v":0},0,{"$f":"I48/E48","v":2893.24},17359.41,17359.41]
["15","ТЕР10-01-039-05","Установка люков в перекрытиях, площадь проема до 2 м2","100 м2 проемов",3.8399999999999997E-2,{"$f":"G49/E49","v":287798.7},11051.47,{"$f":"I49/E49","v":22109.64},849.01,11900.48]
[null,"101-1482","Шурупы с полукруглой головкой: 5х70 мм","т",null,null,null,null,null,0]
[null,"101-1705","Пакля пропитанная","кг",null,null,null,null,null,0]
[null,"402-0087","Раствор готовый отделочный тяжелый,: известковый 1:2,0","м3",null,null,null,null,null,0]
["16","ТЦ_11.2.02.01_78_7804356514_06.03.2024_02","Лаз металлический, противопожарный, 800Х1600(h), EIS 60, с доводчиком и уплотнением притворов. Низ 500 мм от пола","шт",3,{"$f":"G53/E53","v":0},0,{"$f":"I53/E53","v":14652.93},43958.79,43958.79]
["17","ТЕР09-04-012-02","Установка дверного доводчика к металлическим дверям // прим.","1 шт.",3,{"$f":"G54/E54","v":2614.06},7842.19,{"$f":"I54/E54","v":11.01},33.04,7875.23]
[null,"101-1513","Электроды диаметром: 4 мм Э42","т",null,null,null,null,null,0]
[null,"101-1845","Винты самонарезающие: с уплотнительной прокладкой 4,8х35 мм","100 шт.",null,null,null,null,null,0]
["18","ТССЦ-101-6899","Доводчик дверной гидравлический TS-68 с зубчатым приводом (нагрузка до 90 кг)","шт.",3,{"$f":"G57/E57","v":0},0,{"$f":"I57/E57","v":2893.24},8679.7099999999991,8679.7099999999991]
["Установка ворот",null,null,null,null,null,null,null,null,0]
["19","ТЕР09-04-011-01","Монтаж каркасов ворот большепролетных зданий, ангаров и др. без механизмов открывания","1 т конструкций",6.6070000000000002,{"$f":"G59/E59","v":174276.9},1151447.45,{"$f":"I59/E59","v":8950.9500000000007},59138.94,1210586.3899999999]
[null,"101-0309","Канаты пеньковые пропитанные","т",null,null,null,null,null,0]
[null,"101-0324","Кислород технический: газообразный","м3",null,null,null,null,null,0]
[null,"101-0797","Проволока горячекатаная в мотках, диаметром 6,3-6,5 мм","т",null,null,null,null,null,0]
[null,"101-1019","Швеллеры № 40 из стали марки: Ст0","т",null,null,null,null,null,0]
[null,"101-1515","Электроды диаметром: 4 мм Э46","т",null,null,null,null,null,0]
[null,"101-1805","Гвозди строительные","т",null,null,null,null,null,0]
[null,"101-2278","Пропан-бутан, смесь техническая","кг",null,null,null,null,null,0]
[null,"101-2467","Растворитель марки: Р-4","т",null,null,null,null,null,0]
[null,"102-0023","Бруски обрезные хвойных пород длиной: 4-6,5 м, шириной 75-150 мм, толщиной 40-75 мм, I сорта","м3",null,null,null,null,null,0]
[null,"113-0021","Грунтовка: ГФ-021 красно-коричневая","т",null,null,null,null,null,0]
[null,"201-0756","Отдельные конструктивные элементы зданий и сооружений с преобладанием: горячекатаных профилей, средняя масса сборочной единицы от 0,1 до 0,5 т","т",null,null,null,null,null,0]
[null,"508-0097","Канат двойной свивки типа ТК, конструкции 6х19(1+6+12)+1 о.с., оцинкованный из проволок марки В, маркировочная группа: 1770 н/мм2, диаметром 5,5 мм","10 м",null,null,null,null,null,0]
["20","ТЕРм11-05-001-01","Механизм исполнительный, масса: до 20 кг","1 шт.",8,{"$f":"G72/E72","v":2196.5},17572.02,{"$f":"I72/E72","v":108.1},864.81,18436.830000000002]
[null,"101-2039","Болты с гайками и шайбами оцинкованные, диаметр: 12 мм","кг",null,null,null,null,null,0]
[null,"999-9950","Вспомогательные ненормируемые ресурсы (2% от Оплаты труда рабочих)","руб",null,null,null,null,null,0]
["21","ТЦ_08.1.06.01_78_7814075047_25.06.2024_02","Ворота распашные с калиткой, металлические, утеплённые, 2950Х3000(h), (вес=55,6 кг/м²)","шт",1,{"$f":"G75/E75","v":0},0,{"$f":"I75/E75","v":385573.21},385573.21,385573.21]
["22","ТЦ_11.2.02.01_77_7751024400_06.03.2024_02","Ворота распашные, металлические, остекленные, утеплённые, 4400Х4500(h), (вес=42,44 кг/м²)","шт",1,{"$f":"G76/E76","v":0},0,{"$f":"I76/E76","v":441297.45},441297.45,441297.45]
["23","ТЦ_08.1.06.01_78_7819033805_06.03.2024_02","Ворота складчатые, металлические, 5000Х4500(h), (вес=42,44 кг/м²)","шт",5,{"$f":"G77/E77","v":0},0,{"$f":"I77/E77","v":460041.13},2300205.65,2300205.65]
["24","ТЦ_08.1.06.01_78_7814075047_25.06.2024_02","Ворота распашные, металлические, с калиткой, остекленные, утеплённые, 3000Х3000(h), (вес=55,6 кг/м²)","шт",1,{"$f":"G78/E78","v":0},0,{"$f":"I78/E78","v":393284.67},393284.67,393284.67]
["Раздел 3. Установка оконных блоков. Станция разгрузки вагонов, (Спецификации по шифру 1632-2021-1.1,1.2,2.1.0-АР, Приложение к письму  ООО “Морстройтехнология” вх. №9С01-8000370513-MST-ETU-LET-ENG-00384 от 19.02.2024 г.)",null,null,null,null,null,null,null,null,{"$f":"G79+I79","v":0}]
["25","ТЕР09-04-009-04","Монтаж оконных блоков: из алюминиевых многокамерных профилей с герметичными стеклопакетами","100 м2",0.24,{"$f":"G80/E80","v":1088548.79},261251.71,{"$f":"I80/E80","v":315893.96000000002},75814.55,337066.26]
[null,"101-1714","Болты с гайками и шайбами строительные","т",null,null,null,null,null,0]
[null,"101-1836","Стеклопакеты двухслойные из неполированного стекла толщиной 4 мм","м2",null,null,null,null,null,0]
["26","ТЦ_02.6.00.00_78_7811474519_29.02.2024_02","ОК-1. Оконный блок металлический\nпротивопожарный EIW30 с двухкамерным стеклопакетом 2000х2000(h)","м2",24,{"$f":"G83/E83","v":0},0,{"$f":"I83/E83","v":80591.12},1934186.92,1934186.92]
["27","ТЕР10-01-034-06","Установка в жилых и общественных зданиях оконных блоков из ПВХ профилей: поворотных (откидных, поворотно-откидных) с площадью проема более 2 м2 двухстворчатых","100 м2 проемов",0.12,{"$f":"G84/E84","v":316737.91999999998},38008.550000000003,{"$f":"I84/E84","v":95268},11432.16,49440.71]
[null,"101-2052","Лента бутиловая","м",null,null,null,null,null,0]
[null,"101-2054","Лента бутиловая диффузионная","м",null,null,null,null,null,0]
[null,"101-2388","Герметик пенополиуретановый (пена монтажная) типа Makrofleks, Soudal в баллонах по 750 мл","шт.",null,null,null,null,null,0]
[null,"101-2789","Лента ПСУЛ","10 м",null,null,null,null,null,0]
[null,"101-4173","Дюбели монтажные 10х130 (10х132, 10х150) мм","10 шт.",null,null,null,null,null,0]
[null,"102-0303","Клинья пластиковые монтажные","100 шт.",null,null,null,null,null,0]
["28","ТЦ_59.1.09.04_78_7816539174_26.02.2024_02","ОК-2. Оп-П-2000х1500-ОСП (4М1-12-4М1-12-4М1)-ПОТ-ГОСТ 34914-2022 (оконный блок из ПВХ профилей с поворотно-откидными створками и двухкамерным стеклопакетом)","м2",12,{"$f":"G91/E91","v":0},0,{"$f":"I91/E91","v":14402.49},172829.89,172829.89]
["29","ТЕР10-01-034-03","Установка в жилых и общественных зданиях оконных блоков из ПВХ профилей: поворотных (откидных, поворотно-откидных) с площадью проема до 2 м2 одностворчатых","100 м2 проемов",0.192,{"$f":"G92/E92","v":468371.56},89927.34,{"$f":"I92/E92","v":156181.20000000001},29986.79,119914.13]
[null,"101-2052","Лента бутиловая","м",null,null,null,null,null,0]
[null,"101-2054","Лента бутиловая диффузионная","м",null,null,null,null,null,0]
[null,"101-2388","Герметик пенополиуретановый (пена монтажная) типа Makrofleks, Soudal в баллонах по 750 мл","шт.",null,null,null,null,null,0]
[null,"101-2789","Лента ПСУЛ","10 м",null,null,null,null,null,0]
[null,"101-4173","Дюбели монтажные 10х130 (10х132, 10х150) мм","10 шт.",null,null,null,null,null,0]
[null,"102-0303","Клинья пластиковые монтажные","100 шт.",null,null,null,null,null,0]
["30","ТЦ_59.1.09.04_78_7816539174_26.02.2024_02","ОК-3. Оп-П-1600х1000-ОСП (4М1-16-4М1)-ПОТ-ГОСТ 34914-2022 (оконный блок из ПВХ профилей с поворотно-откидными створками и однокамерным стеклопакетом)","м2",1.6,{"$f":"G99/E99","v":0},0,{"$f":"I99/E99","v":19776.97},31643.15,31643.15]
["31","ТЦ_59.1.09.04_78_7816539174_26.02.2024_02","ОК-4. Оп-П-1600х1000-ОЛ (6М1)-ПОТ-ГОСТ 34914-2022 (оконный блок из ПВХ профилей с поворотно-откидными створками и одинарным\nстеклом)","м2",17.600000000000001,{"$f":"G100/E100","v":0},0,{"$f":"I100/E100","v":11033.12},194182.94,194182.94]
["32","ТЕР15-01-070-01","Облицовка: оконных проемов в наружных стенах откосной планкой из оцинкованной стали с полимерным покрытием с устройством водоотлива оконного из оцинкованной стали с полимерным покрытием","1 м2 проемов",55.2,{"$f":"G101/E101","v":3276.71},180874.63,{"$f":"I101/E101","v":1423.84},78595.740000000005,259470.37]
[null,"101-1691","Шурупы-саморезы 4,2х16 мм","100 шт.",null,null,null,null,null,0]
[null,"101-2409","Аквилон из оцинкованной стали с полимерным покрытием","п.м",null,null,null,null,null,0]
[null,"101-2410","Откосная планка шириной 250 мм из оцинкованной стали с полимерным покрытием","п.м",null,null,null,null,null,0]
[null,"101-2411","Водоотлив оконный шириной планки 250 мм из оцинкованной стали с полимерным покрытием","п.м",null,null,null,null,null,0]
["33","ТЕР09-03-022-04","Монтаж оконных фонарных покрытий из поликарбонатных и акриловых плит с боковыми планками, профилями и резиновыми прокладками","100 м2",3.9239999999999999,{"$f":"G106/E106","v":326838.33},1282513.6100000001,{"$f":"I106/E106","v":549.88},2157.7199999999998,1284671.33]
[null,"101-0309","Канаты пеньковые пропитанные","т",null,null,null,null,null,0]
[null,"101-0797","Проволока горячекатаная в мотках, диаметром 6,3-6,5 мм","т",null,null,null,null,null,0]
[null,"101-1019","Швеллеры № 40 из стали марки: Ст0","т",null,null,null,null,null,0]
[null,"101-1714","Болты с гайками и шайбами строительные","т",null,null,null,null,null,0]
[null,"101-1805","Гвозди строительные","т",null,null,null,null,null,0]
[null,"101-2467","Растворитель марки: Р-4","т",null,null,null,null,null,0]
[null,"113-0021","Грунтовка: ГФ-021 красно-коричневая","т",null,null,null,null,null,0]
[null,"508-0097","Канат двойной свивки типа ТК, конструкции 6х19(1+6+12)+1 о.с., оцинкованный из проволок марки В, маркировочная группа: 1770 н/мм2, диаметром 5,5 мм","10 м",null,null,null,null,null,0]
["34","ТЦ_25.3.06.01_47_4707044627_25.01.2024_02","Профилированный монолитный поликарбонат (прозрачный) 2000х1150х1 мм  Royal Plast  МП20(У)","м2",412.02,{"$f":"G115/E115","v":0},0,{"$f":"I115/E115","v":751.29},309546.05,309546.05]
["Раздел 4. Полы. Станция разгрузки вагонов, (Спецификации по шифру 1632-2021-1.1,1.2,2.1.0-АР, Приложение к письму  ООО “Морстройтехнология” вх. №9С01-8000370513-MST-ETU-LET-ENG-00384 от 19.02.2024 г.)",null,null,null,null,null,null,null,null,0]
["Полы на отм. - 7,000. Тип 2.  S=26,0 м²",null,null,null,null,null,null,null,null,0]
["35","ТЕР11-01-011-03","Устройство стяжек: бетонных толщиной 20 мм, (h=135 мм)","100 м2 стяжки",0.26,{"$f":"G118/E118","v":83762.62},21778.28,{"$f":"I118/E118","v":93.92},24.42,21802.7]
[null,"411-0001","Вода","м3",null,null,null,null,null,0]
["36","ТЕР11-01-011-04","Устройство стяжек: на каждые 5 мм изменения толщины стяжки добавлять или исключать к расценке 11-01-011-03, (добавить 115 мм)","100 м2 стяжки",0.26,{"$f":"G120/E120","v":37107.5},9647.9500000000007,{"$f":"I120/E120","v":0},0,9647.9500000000007]
["37","ТЦ_59.1.04.01_78_4707009037_08.02.2024_02","Бетон  В15","м3",3.58,{"$f":"G121/E121","v":0},0,{"$f":"I121/E121","v":8792.7199999999993},31477.94,31477.94]
["38","ТЕР11-01-004-05","Устройство гидроизоляции обмазочной: в один слой толщиной 2 мм","100 м2 изолируемой поверхности",0.26,{"$f":"G122/E122","v":78204.23},20333.099999999999,{"$f":"I122/E122","v":12166.58},3163.31,23496.41]
[null,"101-0009","Асбест хризотиловый марки: К-6-30","т",null,null,null,null,null,0]
[null,"101-0073","Битумы нефтяные строительные марки: БН-90/10","т",null,null,null,null,null,0]
[null,"101-0074","Битумы нефтяные строительные марки: БН-70/30","т",null,null,null,null,null,0]
[null,"101-1745","Бензин растворитель","т",null,null,null,null,null,0]
[null,"101-1757","Ветошь","кг",null,null,null,null,null,0]
[null,"113-0101","Мука андезитовая кислотоупорная, марка: А","т",null,null,null,null,null,0]
["39","ТЕР11-01-011-03","Устройство стяжек: бетонных толщиной 20 мм, (покрытие полимерцементный бетон В25  h=15 мм, прим.)","100 м2 стяжки",0.26,{"$f":"G129/E129","v":83762.62},21778.28,{"$f":"I129/E129","v":93.92},24.42,21802.7]
[null,"411-0001","Вода","м3",null,null,null,null,null,0]
["40","ТЕР11-01-011-04","Устройство стяжек: на каждые 5 мм изменения толщины стяжки добавлять или исключать к расценке 11-01-011-03, (исключить 5 мм)","100 м2 стяжки",-0.26,{"$f":"G131/E131","v":1624.42},-422.35,{"$f":"I131/E131","v":0},0,-422.35]
["41","ТЦ_59.1.04.01_78_4707009037_08.02.2024_02","Бетон В25","м3",0.4,{"$f":"G132/E132","v":0},0,{"$f":"I132/E132","v":9650.1},3860.04,3860.04]
["42","ТССЦ-113-0378","Состав полимерцементный,  (20% от массы бетона)","м3",0.08,{"$f":"G133/E133","v":0},0,{"$f":"I133/E133","v":3753},300.24,300.24]
["Полы на отм. - 7,000. Тип 1б.  S=1200 м²",null,null,null,null,null,null,null,null,0]
["43","ТЕР11-01-011-03","Устройство стяжек: бетонных толщиной 20 мм, (уклонообразующий слой, hср.=(35+135)/2=85 мм)","100 м2 стяжки",12,{"$f":"G135/E135","v":83767.960000000006},1005215.5,{"$f":"I135/E135","v":93.98},1127.7,1006343.2]
[null,"411-0001","Вода","м3",null,null,null,null,null,0]
["44","ТЕР11-01-011-04","Устройство стяжек: на каждые 5 мм изменения толщины стяжки добавлять или исключать к расценке 11-01-011-03, (добавить 65 мм)","100 м2 стяжки",12,{"$f":"G137/E137","v":20973.21},251678.46,{"$f":"I137/E137","v":0},0,251678.46]
["45","ТЦ_59.1.04.01_78_4707009037_08.02.2024_02","Бетон  В15","м3",104.04,{"$f":"G138/E138","v":0},0,{"$f":"I138/E138","v":8792.91},914814.1,914814.1]
["46","ТЕР11-01-004-05","Устройство гидроизоляции обмазочной: в один слой толщиной 2 мм","100 м2 изолируемой поверхности",12,{"$f":"G139/E139","v":78207.509999999995},938490.08,{"$f":"I139/E139","v":12167.56},146010.71,1084500.79]
[null,"101-0009","Асбест хризотиловый марки: К-6-30","т",null,null,null,null,null,0]
[null,"101-0073","Битумы нефтяные строительные марки: БН-90/10","т",null,null,null,null,null,0]
[null,"101-0074","Битумы нефтяные строительные марки: БН-70/30","т",null,null,null,null,null,0]
[null,"101-1745","Бензин растворитель","т",null,null,null,null,null,{"$f":"G143+I143","v":0}]
[null,"101-1757","Ветошь","кг",null,null,null,null,null,0]
[null,"113-0101","Мука андезитовая кислотоупорная, марка: А","т",null,null,null,null,null,0]
["47","ТЕР11-01-011-03","Устройство стяжек: бетонных толщиной 20 мм, (покрытие полимерцементный бетон В25  h=15 мм, прим.)","100 м2 стяжки",12,{"$f":"G146/E146","v":83767.960000000006},1005215.5,{"$f":"I146/E146","v":93.98},1127.7,1006343.2]
[null,"411-0001","Вода","м3",null,null,null,null,null,0]
["48","ТЕР11-01-011-04","Устройство стяжек: на каждые 5 мм изменения толщины стяжки добавлять или исключать к расценке 11-01-011-03, (исключить 5 мм)","100 м2 стяжки",-12,{"$f":"G148/E148","v":1613.38},-19360.54,{"$f":"I148/E148","v":0},0,-19360.54]
["49","ТЦ_59.1.04.01_78_4707009037_08.02.2024_02","Бетон В25","м3",18.36,{"$f":"G149/E149","v":0},0,{"$f":"I149/E149","v":9648.99},177155.38,177155.38]
["50","ТССЦ-113-0378","Состав полимерцементный,  (20% от массы бетона)","м3",3.67,{"$f":"G150/E150","v":0},0,{"$f":"I150/E150","v":3761.68},13805.36,13805.36]
["Полы на отм. - 7,000. Тип 3.  S=370 м²",null,null,null,null,null,null,null,null,0]
["51","ТЕР11-01-015-07","Шлифовка бетонных или металлоцементных покрытий","100 м2 покрытия",3.7,{"$f":"G152/E152","v":191486.32},708499.39,{"$f":"I152/E152","v":180.15},666.56,709165.95]
[null,"101-2109","Карборунд","кг",null,null,null,null,null,0]
[null,"411-0001","Вода","м3",null,null,null,null,null,0]
["52","ТЕР11-01-052-01","Устройство полимерных наливных полов из полиуретана: с толщиной покрытия 2 мм, (упрочнение полиуретан. составами h=1 мм, прим.)","100 м2 пола",3.7,{"$f":"G155/E155","v":58943.69},218091.64,{"$f":"I155/E155","v":102113.54},377820.09,595911.73]
[null,"101-5869","Покрытие полиуретановое монолитное \"Полиплан 1001\"","кг",null,null,null,null,null,0]
[null,"101-5870","Грунтовка полиуретановая \"Праймер 1101\"","кг",null,null,null,null,null,0]
[null,"113-0659","Финишлак 105","кг",null,null,null,null,null,0]
["Полы на отм. 0,000. Тип 4.  S=570 м²",null,null,null,null,null,null,null,null,0]
["53","ТЕР11-01-011-03","Устройство стяжек: бетонных толщиной 20 мм, (h=185 мм)","100 м2 стяжки",5.7,{"$f":"G160/E160","v":83767.94},477477.26,{"$f":"I160/E160","v":94.26},537.27,478014.53]
[null,"411-0001","Вода","м3",null,null,null,null,null,0]
["54","ТЕР11-01-011-04","Устройство стяжек: на каждые 5 мм изменения толщины стяжки добавлять или исключать к расценке 11-01-011-03, (добавить 165 мм)","100 м2 стяжки",5.7,{"$f":"G162/E162","v":53239.99},303467.95,{"$f":"I162/E162","v":0},0,303467.95]
["55","ТЦ_59.1.04.01_78_4707009037_08.02.2024_02","Бетон  В15","м3",107.559,{"$f":"G163/E163","v":0},0,{"$f":"I163/E163","v":8792.91},945756.21,945756.21]
["56","ТЕР11-01-011-03","Устройство стяжек: бетонных толщиной 20 мм, (покрытие полимерцементный бетон В25  h=15 мм, прим.)","100 м2 стяжки",5.7,{"$f":"G164/E164","v":83767.94},477477.26,{"$f":"I164/E164","v":94.26},537.27,478014.53]
[null,"411-0001","Вода","м3",null,null,null,null,null,0]
["57","ТЕР11-01-011-04","Устройство стяжек: на каждые 5 мм изменения толщины стяжки добавлять или исключать к расценке 11-01-011-03, (исключить 5 мм)","100 м2 стяжки",-5.7,{"$f":"G166/E166","v":1613.23},-9195.43,{"$f":"I166/E166","v":0},0,-9195.43]
["58","ТЦ_59.1.04.01_78_4707009037_08.02.2024_02","Бетон В25","м3",8.7200000000000006,{"$f":"G167/E167","v":0},0,{"$f":"I167/E167","v":9649.02},84139.43,84139.43]
["59","ТССЦ-113-0378","Состав полимерцементный, (20% от массы бетона)","м3",1.74,{"$f":"G168/E168","v":0},0,{"$f":"I168/E168","v":3761.48},6544.98,6544.98]
["Полы на отм. 0,000. Тип 3.  S=1750 м²",null,null,null,null,null,null,null,null,0]
["60","ТЕР11-01-015-07","Шлифовка бетонных или металлоцементных покрытий","100 м2 покрытия",17.5,{"$f":"G170/E170","v":191486.8},3351019.07,{"$f":"I170/E170","v":180.1},3151.82,3354170.89]
[null,"101-2109","Карборунд","кг",null,null,null,null,null,0]
[null,"411-0001","Вода","м3",null,null,null,null,null,0]
["61","ТЕР11-01-052-01","Устройство полимерных наливных полов из полиуретана: с толщиной покрытия 2 мм, (упрочнение полиуретан. составами h=1 мм, прим.)","100 м2 пола",17.5,{"$f":"G173/E173","v":58943.199999999997},1031506.02,{"$f":"I173/E173","v":102113.77},1786991.05,2818497.07]
[null,"101-5869","Покрытие полиуретановое монолитное \"Полиплан 1001\"","кг",null,null,null,null,null,0]
[null,"101-5870","Грунтовка полиуретановая \"Праймер 1101\"","кг",null,null,null,null,null,0]
[null,"113-0659","Финишлак 105","кг",null,null,null,null,null,0]
["Полы на отм. 0,000. Тип 9.  S=100 м²",null,null,null,null,null,null,null,null,0]
["62","ТЕР11-01-009-01","Устройство тепло- и звукоизоляции сплошной из плит: или матов минераловатных или стекловолокнистых","100 м2 изолируемой поверхности",1,{"$f":"G178/E178","v":67011.3},67011.3,{"$f":"I178/E178","v":0},0,67011.3]
["63","ТЦ_01.4.00.00_77_7705935398_21.02.2024_02","Утеплитель Пеноплэкс-30  толщ. 50 мм","м3",5,{"$f":"G179/E179","v":0},0,{"$f":"I179/E179","v":14736.54},73682.7,73682.7]
["64","ТЕР11-01-011-03","Устройство стяжек: бетонных толщиной 20 мм, (уклонообразующий слой, hср.=(45+135)/2=90 мм)","100 м2 стяжки",1,{"$f":"G180/E180","v":83764.490000000005},83764.490000000005,{"$f":"I180/E180","v":94.81},94.81,83859.3]
[null,"411-0001","Вода","м3",null,null,null,null,null,0]
["65","ТЕР11-01-011-04","Устройство стяжек: на каждые 5 мм изменения толщины стяжки добавлять или исключать к расценке 11-01-011-03, (добавить 70 мм)","100 м2 стяжки",1,{"$f":"G182/E182","v":22587.06},22587.06,{"$f":"I182/E182","v":0},0,22587.06]
["66","ТЦ_59.1.04.01_78_4707009037_08.02.2024_02","Бетон  В15","м3",9.18,{"$f":"G183/E183","v":0},0,{"$f":"I183/E183","v":8792.92},80718.98,80718.98]
["67","ТЕР06-01-015-10","Армирование подстилающих слоев и набетонок","1 т",0.17499999999999999,{"$f":"G184/E184","v":27713.31},4849.83,{"$f":"I184/E184","v":3012.69},527.22,5377.05]
[null,"101-0816","Проволока светлая диаметром: 1,1 мм","т",null,null,null,null,null,0]
["68","ТЦ_08.4.02.05_66_6686134976_08.02.2024_02","Сетка арматурная 4Вр1 яч. 100х100, (вес=1,75 кг/м²)","м2",100,{"$f":"G186/E186","v":0},0,{"$f":"I186/E186","v":118.43},11843.02,11843.02]
["69","ТЕР11-01-004-05","Устройство гидроизоляции обмазочной: в один слой толщиной 2 мм","100 м2 изолируемой поверхности",1,{"$f":"G187/E187","v":78207.87},78207.87,{"$f":"I187/E187","v":12167.68},12167.68,90375.55]
[null,"101-0009","Асбест хризотиловый марки: К-6-30","т",null,null,null,null,null,0]
[null,"101-0073","Битумы нефтяные строительные марки: БН-90/10","т",null,null,null,null,null,0]
[null,"101-0074","Битумы нефтяные строительные марки: БН-70/30","т",null,null,null,null,null,0]
[null,"101-1745","Бензин растворитель","т",null,null,null,null,null,0]
[null,"101-1757","Ветошь","кг",null,null,null,null,null,0]
[null,"113-0101","Мука андезитовая кислотоупорная, марка: А","т",null,null,null,null,null,0]
["70","ТЕР11-01-011-03","Устройство стяжек: бетонных толщиной 20 мм, (покрытие полимерцементный бетон В25  h=15 мм, прим.)","100 м2 стяжки",1,{"$f":"G194/E194","v":83764.490000000005},83764.490000000005,{"$f":"I194/E194","v":94.81},94.81,83859.3]
[null,"411-0001","Вода","м3",null,null,null,null,null,0]
["71","ТЕР11-01-011-04","Устройство стяжек: на каждые 5 мм изменения толщины стяжки добавлять или исключать к расценке 11-01-011-03, (исключить 5 мм)","100 м2 стяжки",-1,{"$f":"G196/E196","v":1613.26},-1613.26,{"$f":"I196/E196","v":0},0,-1613.26]
["72","ТЦ_59.1.04.01_78_4707009037_08.02.2024_02","Бетон В25","м3",1.53,{"$f":"G197/E197","v":0},0,{"$f":"I197/E197","v":9649.3799999999992},14763.55,14763.55]
["73","ТССЦ-113-0378","Состав полимерцементный, (20% от массы бетона)","м3",0.31,{"$f":"G198/E198","v":0},0,{"$f":"I198/E198","v":3762.87},1166.49,1166.49]
["Полы на отм. 0,000. Тип 6а.  S=84 м²",null,null,null,null,null,null,null,null,0]
["74","ТЕР11-01-009-01","Устройство тепло- и звукоизоляции сплошной из плит: или матов минераловатных или стекловолокнистых","100 м2 изолируемой поверхности",0.84,{"$f":"G200/E200","v":67012.19},56290.239999999998,{"$f":"I200/E200","v":0},0,56290.239999999998]
["75","ТЦ_01.4.00.00_77_7705935398_21.02.2024_02","Утеплитель Пеноплэкс-30  толщ. 50 мм","м3",4.2,{"$f":"G201/E201","v":0},0,{"$f":"I201/E201","v":14736.39},61892.83,61892.83]
["76","ТЕР11-01-011-03","Устройство стяжек: бетонных толщиной 20 мм, (h=135 мм)","100 м2 стяжки",0.84,{"$f":"G202/E202","v":83766.95},70364.240000000005,{"$f":"I202/E202","v":94.06},79.010000000000005,70443.25]
[null,"411-0001","Вода","м3",null,null,null,null,null,0]
["77","ТЕР11-01-011-04","Устройство стяжек: на каждые 5 мм изменения толщины стяжки добавлять или исключать к расценке 11-01-011-03, (добавить 115 мм)","100 м2 стяжки",0.84,{"$f":"G204/E204","v":37106.050000000003},31169.08,{"$f":"I204/E204","v":0},0,31169.08]
["78","ТЦ_59.1.04.01_78_4707009037_08.02.2024_02","Бетон  В15","м3",11.567,{"$f":"G205/E205","v":0},0,{"$f":"I205/E205","v":8792.8700000000008},101707.14,101707.14]
["79","ТЕР06-01-015-10","Армирование подстилающих слоев и набетонок","1 т",0.14699999999999999,{"$f":"G206/E206","v":27714.9},4074.09,{"$f":"I206/E206","v":3009.93},442.46,4516.55]
[null,"101-0816","Проволока светлая диаметром: 1,1 мм","т",null,null,null,null,null,{"$f":"G207+I207","v":0}]
["80","ТЦ_08.4.02.05_66_6686134976_08.02.2024_02","Сетка арматурная 4Вр1 яч. 100х100, (вес=1,75 кг/м²)","м2",84,{"$f":"G208/E208","v":0},0,{"$f":"I208/E208","v":118.43},9948.19,9948.19]
["81","ТЕР11-01-004-05","Устройство гидроизоляции обмазочной: в один слой толщиной 2 мм","100 м2 изолируемой поверхности",0.84,{"$f":"G209/E209","v":78207.12},65693.98,{"$f":"I209/E209","v":12168.02},10221.14,75915.12]
[null,"101-0009","Асбест хризотиловый марки: К-6-30","т",null,null,null,null,null,0]
[null,"101-0073","Битумы нефтяные строительные марки: БН-90/10","т",null,null,null,null,null,0]
[null,"101-0074","Битумы нефтяные строительные марки: БН-70/30","т",null,null,null,null,null,0]
[null,"101-1745","Бензин растворитель","т",null,null,null,null,null,0]
[null,"101-1757","Ветошь","кг",null,null,null,null,null,0]
[null,"113-0101","Мука андезитовая кислотоупорная, марка: А","т",null,null,null,null,null,0]
["82","ТЕР11-01-011-03","Устройство стяжек: бетонных толщиной 20 мм, (покрытие полимерцементный бетон В25  h=15 мм, прим.)","100 м2 стяжки",0.84,{"$f":"G216/E216","v":83766.95},70364.240000000005,{"$f":"I216/E216","v":94.06},79.010000000000005,70443.25]
[null,"411-0001","Вода","м3",null,null,null,null,null,0]
["83","ТЕР11-01-011-04","Устройство стяжек: на каждые 5 мм изменения толщины стяжки добавлять или исключать к расценке 11-01-011-03, (исключить 5 мм)","100 м2 стяжки",-0.84,{"$f":"G218/E218","v":1612.71},-1354.68,{"$f":"I218/E218","v":0},0,-1354.68]
["84","ТЦ_59.1.04.01_78_4707009037_08.02.2024_02","Бетон В25","м3",1.29,{"$f":"G219/E219","v":0},0,{"$f":"I219/E219","v":9649.4699999999993},12447.81,12447.81]
["85","ТССЦ-113-0378","Состав полимерцементный, (20% от массы бетона)","м3",0.26,{"$f":"G220/E220","v":0},0,{"$f":"I220/E220","v":3762.69},978.3,978.3]
["Полы на отм. 0,000. Тип 6.  S=44 м²",null,null,null,null,null,null,null,null,0]
["86","ТЕР11-01-009-01","Устройство тепло- и звукоизоляции сплошной из плит: или матов минераловатных или стекловолокнистых","100 м2 изолируемой поверхности",0.44,{"$f":"G222/E222","v":67009.09},29484,{"$f":"I222/E222","v":0},0,29484]
["87","ТЦ_01.4.00.00_77_7705935398_21.02.2024_02","Утеплитель Пеноплэкс-30  толщ. 100 мм","м3",4.4000000000000004,{"$f":"G223/E223","v":0},0,{"$f":"I223/E223","v":14736.51},64840.66,64840.66]
["88","ТЕР11-01-011-03","Устройство стяжек: бетонных толщиной 20 мм, (h=85 мм)","100 м2 стяжки",0.44,{"$f":"G224/E224","v":83774.41},36860.74,{"$f":"I224/E224","v":91.41},40.22,36900.959999999999]
[null,"411-0001","Вода","м3",null,null,null,null,null,0]
["89","ТЕР11-01-011-04","Устройство стяжек: на каждые 5 мм изменения толщины стяжки добавлять или исключать к расценке 11-01-011-03, (добавить 65 мм)","100 м2 стяжки",0.44,{"$f":"G226/E226","v":20977.07},9229.91,{"$f":"I226/E226","v":0},0,9229.91]
["90","ТЦ_59.1.04.01_78_4707009037_08.02.2024_02","Бетон  В15","м3",3.8149999999999999,{"$f":"G227/E227","v":0},0,{"$f":"I227/E227","v":8792.9599999999991},33545.160000000003,33545.160000000003]
["91","ТЕР06-01-015-10","Армирование подстилающих слоев и набетонок","1 т",7.6999999999999999E-2,{"$f":"G228/E228","v":27723.77},2134.73,{"$f":"I228/E228","v":3003.77},231.29,2366.02]
[null,"101-0816","Проволока светлая диаметром: 1,1 мм","т",null,null,null,null,null,0]
["92","ТЦ_08.4.02.05_66_6686134976_08.02.2024_02","Сетка арматурная 4Вр1 яч. 100х100, (вес=1,75 кг/м²)","м2",44,{"$f":"G230/E230","v":0},0,{"$f":"I230/E230","v":118.45},5211.8500000000004,5211.8500000000004]
["93","ТЕР11-01-047-02","Устройство покрытий из плит керамогранитных размером: 60х60 см","100 м2 покрытия",0.44,{"$f":"G231/E231","v":521831.11},229605.69,{"$f":"I231/E231","v":285053.07},125423.35,355029.04]
[null,"101-1971","Затирка «Старатели» (разной цветности)","т",null,null,null,null,null,0]
[null,"101-4368","Клей плиточный «Юнис Гранит»","кг",null,null,null,null,null,0]
[null,"101-4488","Гранит керамический многоцветный неполированный, размером 300х600х10 мм, 600х600х10 мм","м2",null,null,null,null,null,0]
[null,"411-0001","Вода","м3",null,null,null,null,null,0]
["94","ТССЦ-101-7434","Грунтовка акриловая: АК-02 для бетонных полов","кг",5.28,{"$f":"G236/E236","v":0},0,{"$f":"I236/E236","v":146.1},771.43,771.43]
["Полы на отм. 0,000. Тип 5.  S=30 м²",null,null,null,null,null,null,null,null,0]
["95","ТЕР11-01-009-01","Устройство тепло- и звукоизоляции сплошной из плит: или матов минераловатных или стекловолокнистых","100 м2 изолируемой поверхности",0.3,{"$f":"G238/E238","v":67010.83},20103.25,{"$f":"I238/E238","v":0},0,20103.25]
["96","ТЦ_01.4.00.00_77_7705935398_21.02.2024_02","Утеплитель Пеноплэкс-30  толщ. 100 мм","м3",3,{"$f":"G239/E239","v":0},0,{"$f":"I239/E239","v":14736.25},44208.76,44208.76]
["97","ТЕР11-01-011-03","Устройство стяжек: бетонных толщиной 20 мм, (h=95 мм)","100 м2 стяжки",0.3,{"$f":"G240/E240","v":83775.5},25132.65,{"$f":"I240/E240","v":90.97},27.29,25159.94]
[null,"411-0001","Вода","м3",null,null,null,null,null,0]
["98","ТЕР11-01-011-04","Устройство стяжек: на каждые 5 мм изменения толщины стяжки добавлять или исключать к расценке 11-01-011-03, (добавить 75 мм)","100 м2 стяжки",0.3,{"$f":"G242/E242","v":24210.87},7263.26,{"$f":"I242/E242","v":0},0,7263.26]
["99","ТЦ_59.1.04.01_78_4707009037_08.02.2024_02","Бетон  В15","м3",2.907,{"$f":"G243/E243","v":0},0,{"$f":"I243/E243","v":8792.83},25560.75,25560.75]
["100","ТЕР06-01-015-10","Армирование подстилающих слоев и набетонок","1 т",5.2499999999999998E-2,{"$f":"G244/E244","v":27718.86},1455.24,{"$f":"I244/E244","v":3009.9},158.02000000000001,1613.26]
[null,"101-0816","Проволока светлая диаметром: 1,1 мм","т",null,null,null,null,null,0]
["101","ТЦ_08.4.02.05_66_6686134976_08.02.2024_02","Сетка арматурная 4Вр1 яч. 100х100, (вес=1,75 кг/м²)","м2",30,{"$f":"G246/E246","v":0},0,{"$f":"I246/E246","v":118.42},3552.62,3552.62]
["102","ТЕР15-04-006-03","Покрытие поверхностей грунтовкой глубокого проникновения: за 1 раз // прим.","100 м2 покрытия",0.3,{"$f":"G247/E247","v":14346.47},4303.9399999999996,{"$f":"I247/E247","v":14.37},4.3099999999999996,4308.25]
[null,"101-1757","Ветошь","кг",null,null,null,null,null,0]
["103","ТССЦ-101-7434","Грунтовка акриловая: АК-02 для бетонных полов","кг",3.6,{"$f":"G249/E249","v":0},0,{"$f":"I249/E249","v":146.05000000000001},525.78,525.78]
["104","ТЕР11-01-036-01","Устройство покрытий: из линолеума на клее «Бустилат»","100 м2 покрытия",0.3,{"$f":"G250/E250","v":91140.27},27342.080000000002,{"$f":"I250/E250","v":83028.5},24908.55,52250.63]
[null,"101-0562","Линолеум поливинилхлоридный на теплоизолирующей подоснове марок: ПР-ВТ, ВК-ВТ, ЭК-ВТ","м2",null,null,null,null,null,0]
[null,"101-1743","Клей «Бустилат»","т",null,null,null,null,null,0]
[null,"101-1757","Ветошь","кг",null,null,null,null,null,0]
["Полы на отм. +4,000, +7,400, +8,200. Тип 1.  S=49 м²",null,null,null,null,null,null,null,null,0]
["105","ТЕР11-01-011-03","Устройство стяжек: бетонных толщиной 20 мм, (уклонообразующий слой, hср.=(10+60)/2=35 мм)","100 м2 стяжки",0.49,{"$f":"G255/E255","v":83772.08},41048.32,{"$f":"I255/E255","v":93.82},45.97,41094.29]
[null,"411-0001","Вода","м3",null,null,null,null,null,0]
["106","ТЕР11-01-011-04","Устройство стяжек: на каждые 5 мм изменения толщины стяжки добавлять или исключать к расценке 11-01-011-03, (добавить 15 мм)","100 м2 стяжки",0.49,{"$f":"G257/E257","v":4837.41},2370.33,{"$f":"I257/E257","v":0},0,2370.33]
["107","ТЦ_59.1.04.01_78_4707009037_08.02.2024_02","Бетон  В15","м3",1.7490000000000001,{"$f":"G258/E258","v":0},0,{"$f":"I258/E258","v":8792.68},15378.39,15378.39]
["108","ТЕР11-01-011-03","Устройство стяжек: бетонных толщиной 20 мм, (покрытие полимерцементный бетон В25  h=15 мм, прим.)","100 м2 стяжки",0.49,{"$f":"G259/E259","v":83772.08},41048.32,{"$f":"I259/E259","v":93.82},45.97,41094.29]
[null,"411-0001","Вода","м3",null,null,null,null,null,0]
["109","ТЕР11-01-011-04","Устройство стяжек: на каждые 5 мм изменения толщины стяжки добавлять или исключать к расценке 11-01-011-03, (исключить 5 мм)","100 м2 стяжки",-0.49,{"$f":"G261/E261","v":1609.53},-788.67,{"$f":"I261/E261","v":0},0,-788.67]
["110","ТЦ_59.1.04.01_78_4707009037_08.02.2024_02","Бетон В25","м3",0.75,{"$f":"G262/E262","v":0},0,{"$f":"I262/E262","v":9649.8700000000008},7237.4,7237.4]
["111","ТССЦ-113-0378","Состав полимерцементный, (20% от массы бетона)","м3",0.15,{"$f":"G263/E263","v":0},0,{"$f":"I263/E263","v":3763.8},564.57000000000005,564.57000000000005]
["Полы на отм. +4,000, +7,400, +8,200. Тип 7.  S=153 м²",null,null,null,null,null,null,null,null,0]
["112","ТЕР11-01-011-03","Устройство стяжек: бетонных толщиной 20 мм, (h=35 мм)","100 м2 стяжки",1.53,{"$f":"G265/E265","v":83768.460000000006},128165.74,{"$f":"I265/E265","v":93.9},143.66,128309.4]
[null,"411-0001","Вода","м3",null,null,null,null,null,0]
["113","ТЕР11-01-011-04","Устройство стяжек: на каждые 5 мм изменения толщины стяжки добавлять или исключать к расценке 11-01-011-03, (добавить 15 мм)","100 м2 стяжки",1.53,{"$f":"G267/E267","v":4840.18},7405.48,{"$f":"I267/E267","v":0},0,7405.48]
["114","ТЦ_59.1.04.01_78_4707009037_08.02.2024_02","Бетон  В15","м3",5.4619999999999997,{"$f":"G268/E268","v":0},0,{"$f":"I268/E268","v":8792.9599999999991},48027.14,48027.14]
["115","ТЕР11-01-011-03","Устройство стяжек: бетонных толщиной 20 мм, (покрытие полимерцементный бетон В25  h=15 мм, прим.)","100 м2 стяжки",1.53,{"$f":"G269/E269","v":83768.460000000006},128165.74,{"$f":"I269/E269","v":93.9},143.66,128309.4]
[null,"411-0001","Вода","м3",null,null,null,null,null,0]
["116","ТЕР11-01-011-04","Устройство стяжек: на каждые 5 мм изменения толщины стяжки добавлять или исключать к расценке 11-01-011-03, (исключить 5 мм)","100 м2 стяжки",-1.53,{"$f":"G271/E271","v":1614.02},-2469.4499999999998,{"$f":"I271/E271","v":0},0,{"$f":"G271+I271","v":-2469.4499999999998}]
["117","ТЦ_59.1.04.01_78_4707009037_08.02.2024_02","Бетон В25","м3",2.34,{"$f":"G272/E272","v":0},0,{"$f":"I272/E272","v":9648.91},22578.44,22578.44]
["118","ТССЦ-113-0378","Состав полимерцементный, (20% от массы бетона)","м3",0.46800000000000003,{"$f":"G273/E273","v":0},0,{"$f":"I273/E273","v":3763.29},1761.22,1761.22]
["Полы на отм. +4,000, +7,400, +8,200. Тип 5.  S=51 м²",null,null,null,null,null,null,null,null,0]
["119","ТЕР11-01-009-01","Устройство тепло- и звукоизоляции сплошной из плит: или матов минераловатных или стекловолокнистых","100 м2 изолируемой поверхности",0.51,{"$f":"G275/E275","v":67005.75},34172.93,{"$f":"I275/E275","v":0},0,34172.93]
["120","ТЦ_01.4.00.00_77_7705935398_21.02.2024_02","Утеплитель Пеноплэкс-30  толщ. 100 мм","м3",5.0999999999999996,{"$f":"G276/E276","v":0},0,{"$f":"I276/E276","v":14736.31},75155.17,75155.17]
["121","ТЕР11-01-011-03","Устройство стяжек: бетонных толщиной 20 мм, (h=95 мм)","100 м2 стяжки",0.51,{"$f":"G277/E277","v":83768.45},42721.91,{"$f":"I277/E277","v":92.96},47.41,42769.32]
[null,"411-0001","Вода","м3",null,null,null,null,null,0]
["122","ТЕР11-01-011-04","Устройство стяжек: на каждые 5 мм изменения толщины стяжки добавлять или исключать к расценке 11-01-011-03, (добавить 75 мм)","100 м2 стяжки",0.51,{"$f":"G279/E279","v":24193.39},12338.63,{"$f":"I279/E279","v":0},0,12338.63]
["123","ТЦ_59.1.04.01_78_4707009037_08.02.2024_02","Бетон  В15","м3",4.9420000000000002,{"$f":"G280/E280","v":0},0,{"$f":"I280/E280","v":8792.91},43454.559999999998,43454.559999999998]
["124","ТЕР15-04-006-03","Покрытие поверхностей грунтовкой глубокого проникновения: за 1 раз // прим.","100 м2 покрытия",0.51,{"$f":"G281/E281","v":14348.73},7317.85,{"$f":"I281/E281","v":11.27},5.75,7323.6]
[null,"101-1757","Ветошь","кг",null,null,null,null,null,0]
["125","ТССЦ-101-7434","Грунтовка акриловая: АК-02 для бетонных полов","кг",6.12,{"$f":"G283/E283","v":0},0,{"$f":"I283/E283","v":146.24},894.98,894.98]
["126","ТЕР11-01-036-01","Устройство покрытий: из линолеума на клее «Бустилат»","100 м2 покрытия",0.51,{"$f":"G284/E284","v":91142.8},46482.83,{"$f":"I284/E284","v":83030.45},42345.53,88828.36]
[null,"101-0562","Линолеум поливинилхлоридный на теплоизолирующей подоснове марок: ПР-ВТ, ВК-ВТ, ЭК-ВТ","м2",null,null,null,null,null,0]
[null,"101-1743","Клей «Бустилат»","т",null,null,null,null,null,0]
[null,"101-1757","Ветошь","кг",null,null,null,null,null,0]
["Полы на отм. +4,000, +7,400, +8,200. Тип 6.  S=5,5 м²",null,null,null,null,null,null,null,null,0]
["127","ТЕР11-01-009-01","Устройство тепло- и звукоизоляции сплошной из плит: или матов минераловатных или стекловолокнистых","100 м2 изолируемой поверхности",5.5E-2,{"$f":"G289/E289","v":66996},3684.78,{"$f":"I289/E289","v":0},0,3684.78]
["128","ТЦ_01.4.00.00_77_7705935398_21.02.2024_02","Утеплитель Пеноплэкс-30  толщ. 100 мм","м3",0.55000000000000004,{"$f":"G290/E290","v":0},0,{"$f":"I290/E290","v":14736.51},8105.08,8105.08]
["129","ТЕР11-01-011-03","Устройство стяжек: бетонных толщиной 20 мм, (h=85 мм)","100 м2 стяжки",5.5E-2,{"$f":"G291/E291","v":83790.73},4608.49,{"$f":"I291/E291","v":104.55},5.75,4614.24]
[null,"411-0001","Вода","м3",null,null,null,null,null,0]
["130","ТЕР11-01-011-04","Устройство стяжек: на каждые 5 мм изменения толщины стяжки добавлять или исключать к расценке 11-01-011-03, (добавить 65 мм)","100 м2 стяжки",5.5E-2,{"$f":"G293/E293","v":20947.64},1152.1199999999999,{"$f":"I293/E293","v":0},0,1152.1199999999999]
["131","ТЦ_59.1.04.01_78_4707009037_08.02.2024_02","Бетон  В15","м3",0.47699999999999998,{"$f":"G294/E294","v":0},0,{"$f":"I294/E294","v":8794.0499999999993},4194.76,4194.76]
["132","ТЕР06-01-015-10","Армирование подстилающих слоев и набетонок","1 т",0.01,{"$f":"G295/E295","v":27582},275.82,{"$f":"I295/E295","v":3017},30.17,305.99]
[null,"101-0816","Проволока светлая диаметром: 1,1 мм","т",null,null,null,null,null,0]
["133","ТЦ_08.4.02.05_66_6686134976_08.02.2024_02","Сетка арматурная 4Вр1 яч. 100х100, (вес=1,75 кг/м²)","м2",5.5,{"$f":"G297/E297","v":0},0,{"$f":"I297/E297","v":118.32},650.76,650.76]
["134","ТЕР11-01-047-02","Устройство покрытий из плит керамогранитных размером: 60х60 см","100 м2 покрытия",5.5E-2,{"$f":"G298/E298","v":521863.82},28702.51,{"$f":"I298/E298","v":285040},15677.2,44379.71]
[null,"101-1971","Затирка «Старатели» (разной цветности)","т",null,null,null,null,null,0]
[null,"101-4368","Клей плиточный «Юнис Гранит»","кг",null,null,null,null,null,0]
[null,"101-4488","Гранит керамический многоцветный неполированный, размером 300х600х10 мм, 600х600х10 мм","м2",null,null,null,null,null,0]
[null,"411-0001","Вода","м3",null,null,null,null,null,0]
["135","ТССЦ-101-7434","Грунтовка акриловая: АК-02 для бетонных полов","кг",0.66,{"$f":"G303/E303","v":0},0,{"$f":"I303/E303","v":145.83000000000001},96.25,96.25]
["Полы на отм. +4,000, +7,400, +8,200. Тип 8. S=122 м²",null,null,null,null,null,null,null,null,0]
["136","ТЕР11-01-004-01","Устройство гидроизоляции оклеечной рулонными материалами: на мастике Битуминоль, первый слой","100 м2 изолируемой поверхности",1.22,{"$f":"G305/E305","v":138900.23000000001},169458.28,{"$f":"I305/E305","v":28885.49},35240.300000000003,204698.58]
[null,"101-0009","Асбест хризотиловый марки: К-6-30","т",null,null,null,null,null,0]
[null,"101-0073","Битумы нефтяные строительные марки: БН-90/10","т",null,null,null,null,null,0]
[null,"101-0074","Битумы нефтяные строительные марки: БН-70/30","т",null,null,null,null,null,0]
[null,"101-1742","Толь с крупнозернистой посыпкой гидроизоляционный марки ТГ-350","м2",null,null,null,null,null,0]
[null,"101-1745","Бензин растворитель","т",null,null,null,null,null,0]
[null,"101-1757","Ветошь","кг",null,null,null,null,null,0]
[null,"113-0101","Мука андезитовая кислотоупорная, марка: А","т",null,null,null,null,null,0]
["137","ТЕР11-01-004-02","Устройство гидроизоляции оклеечной рулонными материалами: на мастике Битуминоль, последующий слой","100 м2 изолируемой поверхности",1.22,{"$f":"G313/E313","v":83079.199999999997},101356.62,{"$f":"I313/E313","v":17413.02},21243.88,122600.5]
[null,"101-0009","Асбест хризотиловый марки: К-6-30","т",null,null,null,null,null,0]
[null,"101-0073","Битумы нефтяные строительные марки: БН-90/10","т",null,null,null,null,null,0]
[null,"101-0074","Битумы нефтяные строительные марки: БН-70/30","т",null,null,null,null,null,0]
[null,"101-1742","Толь с крупнозернистой посыпкой гидроизоляционный марки ТГ-350","м2",null,null,null,null,null,0]
[null,"101-1745","Бензин растворитель","т",null,null,null,null,null,0]
[null,"113-0101","Мука андезитовая кислотоупорная, марка: А","т",null,null,null,null,null,0]
["138","ТЕР11-01-011-03","Устройство стяжек: бетонных толщиной 20 мм, (уклонообразующий слой, hср.=(25+185)/2=105 мм)","100 м2 стяжки",1.22,{"$f":"G320/E320","v":83769.22},102198.45,{"$f":"I320/E320","v":94.2},114.92,102313.37]
[null,"411-0001","Вода","м3",null,null,null,null,null,0]
["139","ТЕР11-01-011-04","Устройство стяжек: на каждые 5 мм изменения толщины стяжки добавлять или исключать к расценке 11-01-011-03, (добавить 85 мм)","100 м2 стяжки",1.22,{"$f":"G322/E322","v":27425.38},33458.959999999999,{"$f":"I322/E322","v":0},0,33458.959999999999]
["140","ТЦ_59.1.04.01_78_4707009037_08.02.2024_02","Бетон  В15","м3",13.066000000000001,{"$f":"G323/E323","v":0},0,{"$f":"I323/E323","v":8792.8700000000008},114887.6,114887.6]
["141","ТЕР11-01-004-09","Устройство гидроизоляции обмазочной: в один слой праймером, (гидроизоляция полимерной мастикой, прим.)","100 м2 изолируемой поверхности",1.22,{"$f":"G324/E324","v":75099.210000000006},91621.04,{"$f":"I324/E324","v":2559.91},3123.09,94744.13]
[null,"101-0073","Битумы нефтяные строительные марки: БН-90/10","т",null,null,null,null,null,0]
[null,"101-0322","Керосин для технических целей марок КТ-1, КТ-2","т",null,null,null,null,null,0]
[null,"101-1757","Ветошь","кг",null,null,null,null,null,0]
["142","ТЕР11-01-011-03","Устройство стяжек: бетонных толщиной 20 мм, (покрытие полимерцементный бетон В25  h=15 мм, прим.)","100 м2 стяжки",1.22,{"$f":"G328/E328","v":83769.22},102198.45,{"$f":"I328/E328","v":94.2},114.92,102313.37]
[null,"411-0001","Вода","м3",null,null,null,null,null,0]
["143","ТЕР11-01-011-04","Устройство стяжек: на каждые 5 мм изменения толщины стяжки добавлять или исключать к расценке 11-01-011-03, (исключить 5 мм)","100 м2 стяжки",-1.22,{"$f":"G330/E330","v":1612.01},-1966.65,{"$f":"I330/E330","v":0},0,-1966.65]
["144","ТЦ_59.1.04.01_78_4707009037_08.02.2024_02","Бетон В25","м3",1.87,{"$f":"G331/E331","v":0},0,{"$f":"I331/E331","v":9648.7800000000007},18043.22,18043.22]
["145","ТССЦ-113-0378","Состав полимерцементный, (20% от массы бетона)","м3",0.374,{"$f":"G332/E332","v":0},0,{"$f":"I332/E332","v":3760.4},1406.39,1406.39]
["Раздел 5. Отделка помещений. Станция разгрузки вагонов, (Спецификации по шифру 1632-2021-1.1,1.2,2.1.0-АР, Приложение к письму  ООО “Морстройтехнология” вх. №9С01-8000370513-MST-ETU-LET-ENG-00384 от 19.02.2024 г.)",null,null,null,null,null,null,null,null,0]
["Отделка помещений на отм. -13,100",null,null,null,null,null,null,null,null,0]
["146","ТЕР15-04-007-02","Окраска водно-дисперсионными акриловыми составами улучшенная: по штукатурке потолков","100 м2 окрашиваемой поверхности",4.84,{"$f":"G335/E335","v":125372.97},606805.18000000005,{"$f":"I335/E335","v":12801.43},61958.91,{"$f":"G335+I335","v":668764.09}]
[null,"101-1596","Шкурка шлифовальная двухслойная с зернистостью 40-25","м2",null,null,null,null,null,0]
[null,"101-1757","Ветошь","кг",null,null,null,null,null,0]
[null,"101-3512","Краска акриловая: ВД-АК 2180, ВГТ","т",null,null,null,null,null,0]
[null,"101-3585","Шпатлевка водно-дисперсионная","т",null,null,null,null,null,0]
[null,"101-4163","Грунтовка акриловая: НОРТЕКС-ГРУНТ","кг",null,null,null,null,null,0]
["147","ТЕР15-04-007-01","Окраска водно-дисперсионными акриловыми составами улучшенная: по штукатурке стен","100 м2 окрашиваемой поверхности",26,{"$f":"G341/E341","v":86790.11},2256542.79,{"$f":"I341/E341","v":11810.53},307073.71999999997,2563616.5099999998]
[null,"101-1596","Шкурка шлифовальная двухслойная с зернистостью 40-25","м2",null,null,null,null,null,0]
[null,"101-1757","Ветошь","кг",null,null,null,null,null,0]
[null,"101-3512","Краска акриловая: ВД-АК 2180, ВГТ","т",null,null,null,null,null,0]
[null,"101-3585","Шпатлевка водно-дисперсионная","т",null,null,null,null,null,0]
[null,"101-4163","Грунтовка акриловая: НОРТЕКС-ГРУНТ","кг",null,null,null,null,null,0]
["Отделка помещений на отм. -7,000",null,null,null,null,null,null,null,null,0]
["148","ТЕР15-04-007-02","Окраска водно-дисперсионными акриловыми составами улучшенная: по штукатурке потолков","100 м2 окрашиваемой поверхности",16.37,{"$f":"G348/E348","v":125372.63},2052349.88,{"$f":"I348/E348","v":12801.55},209561.34,2261911.2200000002]
[null,"101-1596","Шкурка шлифовальная двухслойная с зернистостью 40-25","м2",null,null,null,null,null,0]
[null,"101-1757","Ветошь","кг",null,null,null,null,null,0]
[null,"101-3512","Краска акриловая: ВД-АК 2180, ВГТ","т",null,null,null,null,null,0]
[null,"101-3585","Шпатлевка водно-дисперсионная","т",null,null,null,null,null,0]
[null,"101-4163","Грунтовка акриловая: НОРТЕКС-ГРУНТ","кг",null,null,null,null,null,0]
["149","ТЕР15-04-007-01","Окраска водно-дисперсионными акриловыми составами улучшенная: по штукатурке стен","100 м2 окрашиваемой поверхности",90.34,{"$f":"G354/E354","v":86790.19},7840625.4800000004,{"$f":"I354/E354","v":11810.5},1066960.3700000001,8907585.8499999996]
[null,"101-1596","Шкурка шлифовальная двухслойная с зернистостью 40-25","м2",null,null,null,null,null,0]
[null,"101-1757","Ветошь","кг",null,null,null,null,null,0]
[null,"101-3512","Краска акриловая: ВД-АК 2180, ВГТ","т",null,null,null,null,null,0]
[null,"101-3585","Шпатлевка водно-дисперсионная","т",null,null,null,null,null,0]
[null,"101-4163","Грунтовка акриловая: НОРТЕКС-ГРУНТ","кг",null,null,null,null,null,0]
["Отделка помещений на отм. 0,000",null,null,null,null,null,null,null,null,0]
["150","ТЕР15-04-007-02","Окраска водно-дисперсионными акриловыми составами улучшенная: по штукатурке потолков","100 м2 окрашиваемой поверхности",1.91,{"$f":"G361/E361","v":125372.74},239461.94,{"$f":"I361/E361","v":12801.19},24450.28,263912.21999999997]
[null,"101-1596","Шкурка шлифовальная двухслойная с зернистостью 40-25","м2",null,null,null,null,null,0]
[null,"101-1757","Ветошь","кг",null,null,null,null,null,0]
[null,"101-3512","Краска акриловая: ВД-АК 2180, ВГТ","т",null,null,null,null,null,0]
[null,"101-3585","Шпатлевка водно-дисперсионная","т",null,null,null,null,null,0]
[null,"101-4163","Грунтовка акриловая: НОРТЕКС-ГРУНТ","кг",null,null,null,null,null,0]
["151","ТЕР15-01-047-15","Устройство: подвесных потолков типа <Армстронг> по каркасу из оцинкованного профиля","100 м2 поверхности облицовки",0.72199999999999998,{"$f":"G367/E367","v":231306.36},167003.19,{"$f":"I367/E367","v":59123.88},42687.44,209690.63]
[null,"101-2414","Панели потолочные с комплектующими: «Армстронг»","м2",null,null,null,null,null,0]
["152","ТЕР15-04-007-01","Окраска водно-дисперсионными акриловыми составами улучшенная: по штукатурке стен","100 м2 окрашиваемой поверхности",4.9950000000000001,{"$f":"G369/E369","v":86790.2},433517.03,{"$f":"I369/E369","v":11810.29},58992.41,492509.44]
[null,"101-1596","Шкурка шлифовальная двухслойная с зернистостью 40-25","м2",null,null,null,null,null,0]
[null,"101-1757","Ветошь","кг",null,null,null,null,null,0]
[null,"101-3512","Краска акриловая: ВД-АК 2180, ВГТ","т",null,null,null,null,null,0]
[null,"101-3585","Шпатлевка водно-дисперсионная","т",null,null,null,null,null,0]
[null,"101-4163","Грунтовка акриловая: НОРТЕКС-ГРУНТ","кг",null,null,null,null,null,0]
["153","ТЕР15-02-019-03","Сплошное выравнивание внутренних поверхностей (однослойное оштукатуривание)из сухих растворных смесей толщиной до 10 мм: стен // прим.","100 м2 оштукатуриваемой поверхности",2.0619999999999998,{"$f":"G375/E375","v":111550.21},230016.54,{"$f":"I375/E375","v":34058.080000000002},70227.759999999995,300244.3]
[null,"402-0070","Смесь сухая: для заделки швов (фуга) АТЛАС растворная для ручной работы","т",null,null,null,null,null,0]
[null,"411-0001","Вода","м3",null,null,null,null,null,0]
["154","ТССЦ-101-3451","Грунтовка акриловая: ВД-АК-133","т",3.7100000000000001E-2,{"$f":"G378/E378","v":0},0,{"$f":"I378/E378","v":128516.17},4767.95,4767.95]
["155","ТЕР15-06-001-06","Оклейка обоями стен по листовым материалам, гипсобетонным и гипсолитовым поверхностям: типа «Линкруста»","100 м2 оклеиваемой и обиваемой поверхности",2.0619999999999998,{"$f":"G379/E379","v":96150.02},198261.34,{"$f":"I379/E379","v":85654.48},176619.54,374880.88]
[null,"101-0575","Линкруст","м2",null,null,null,null,null,0]
[null,"101-1743","Клей «Бустилат»","т",null,null,null,null,null,0]
[null,"101-1757","Ветошь","кг",null,null,null,null,null,0]
[null,"101-1829","Бумага ролевая","т",null,null,null,null,null,0]
[null,"409-0639","Пемза шлаковая (щебень пористый из металлургического шлака), марка 600, фракция 5-10 мм","м3",null,null,null,null,null,0]
[null,"411-0001","Вода","м3",null,null,null,null,null,0]
["156","ТЕР15-01-019-05","Гладкая облицовка стен, столбов, пилястр и откосов (без карнизных, плинтусных и угловых плиток) без установки плиток туалетного гарнитура на клее из сухих смесей: по кирпичу и бетону","100 м2 поверхности облицовки",0.68,{"$f":"G386/E386","v":335948.44},228444.94,{"$f":"I386/E386","v":103713.43},70525.13,298970.07]
[null,"101-0256","Плитки керамические глазурованные для внутренней облицовки стен: гладкие без завала белые","м2",null,null,null,null,null,0]
[null,"101-1757","Ветошь","кг",null,null,null,null,null,0]
[null,"101-1776","Клей для облицовочных работ водостойкий «Плюс» (сухая смесь)","т",null,null,null,null,null,0]
[null,"402-0071","Смесь сухая: (фуга) АТЛАС разных цветов для заделки швов водостойкая","т",null,null,null,null,null,0]
[null,"411-0001","Вода","м3",null,null,null,null,null,0]
["Отделка помещений на отм. +4,000+7,800 +8,000",null,null,null,null,null,null,null,null,0]
["157","ТЕР15-04-007-02","Окраска водно-дисперсионными акриловыми составами улучшенная: по штукатурке потолков","100 м2 окрашиваемой поверхности",3.03,{"$f":"G393/E393","v":125372.5},379878.68,{"$f":"I393/E393","v":12801.52},38788.61,418667.29]
[null,"101-1596","Шкурка шлифовальная двухслойная с зернистостью 40-25","м2",null,null,null,null,null,0]
[null,"101-1757","Ветошь","кг",null,null,null,null,null,0]
[null,"101-3512","Краска акриловая: ВД-АК 2180, ВГТ","т",null,null,null,null,null,0]
[null,"101-3585","Шпатлевка водно-дисперсионная","т",null,null,null,null,null,0]
[null,"101-4163","Грунтовка акриловая: НОРТЕКС-ГРУНТ","кг",null,null,null,null,null,0]
["158","ТЕР15-01-047-15","Устройство: подвесных потолков типа <Армстронг> по каркасу из оцинкованного профиля","100 м2 поверхности облицовки",0.55900000000000005,{"$f":"G399/E399","v":231312.16},129303.5,{"$f":"I399/E399","v":59122.61},33049.54,{"$f":"G399+I399","v":162353.04}]
[null,"101-2414","Панели потолочные с комплектующими: «Армстронг»","м2",null,null,null,null,null,0]
["159","ТЕР15-04-007-01","Окраска водно-дисперсионными акриловыми составами улучшенная: по штукатурке стен","100 м2 окрашиваемой поверхности",1.827,{"$f":"G401/E401","v":86791.3},158567.70000000001,{"$f":"I401/E401","v":11810.16},21577.16,180144.86]
[null,"101-1596","Шкурка шлифовальная двухслойная с зернистостью 40-25","м2",null,null,null,null,null,0]
[null,"101-1757","Ветошь","кг",null,null,null,null,null,0]
[null,"101-3512","Краска акриловая: ВД-АК 2180, ВГТ","т",null,null,null,null,null,0]
[null,"101-3585","Шпатлевка водно-дисперсионная","т",null,null,null,null,null,0]
[null,"101-4163","Грунтовка акриловая: НОРТЕКС-ГРУНТ","кг",null,null,null,null,null,0]
["160","ТЕР15-02-019-03","Сплошное выравнивание внутренних поверхностей (однослойное оштукатуривание)из сухих растворных смесей толщиной до 10 мм: стен // прим.","100 м2 оштукатуриваемой поверхности",1.4,{"$f":"G407/E407","v":111549.03},156168.64000000001,{"$f":"I407/E407","v":34057.81},47680.93,203849.57]
[null,"402-0070","Смесь сухая: для заделки швов (фуга) АТЛАС растворная для ручной работы","т",null,null,null,null,null,0]
[null,"411-0001","Вода","м3",null,null,null,null,null,0]
["161","ТССЦ-101-3451","Грунтовка акриловая: ВД-АК-133","т",2.52E-2,{"$f":"G410/E410","v":0},0,{"$f":"I410/E410","v":128549.6},3239.45,3239.45]
["162","ТЕР15-06-001-06","Оклейка обоями стен по листовым материалам, гипсобетонным и гипсолитовым поверхностям: типа «Линкруста»","100 м2 оклеиваемой и обиваемой поверхности",1.4,{"$f":"G411/E411","v":96150.11},134610.16,{"$f":"I411/E411","v":85655},119917,254527.16]
[null,"101-0575","Линкруст","м2",null,null,null,null,null,0]
[null,"101-1743","Клей «Бустилат»","т",null,null,null,null,null,0]
[null,"101-1757","Ветошь","кг",null,null,null,null,null,0]
[null,"101-1829","Бумага ролевая","т",null,null,null,null,null,0]
[null,"409-0639","Пемза шлаковая (щебень пористый из металлургического шлака), марка 600, фракция 5-10 мм","м3",null,null,null,null,null,0]
[null,"411-0001","Вода","м3",null,null,null,null,null,0]
["163","ТЕР15-01-019-05","Гладкая облицовка стен, столбов, пилястр и откосов (без карнизных, плинтусных и угловых плиток) без установки плиток туалетного гарнитура на клее из сухих смесей: по кирпичу и бетону","100 м2 поверхности облицовки",0.27,{"$f":"G418/E418","v":335942.67},90704.52,{"$f":"I418/E418","v":103714.44},28002.9,118707.42]
[null,"101-0256","Плитки керамические глазурованные для внутренней облицовки стен: гладкие без завала белые","м2",null,null,null,null,null,0]
[null,"101-1757","Ветошь","кг",null,null,null,null,null,0]
[null,"101-1776","Клей для облицовочных работ водостойкий «Плюс» (сухая смесь)","т",null,null,null,null,null,0]
[null,"402-0071","Смесь сухая: (фуга) АТЛАС разных цветов для заделки швов водостойкая","т",null,null,null,null,null,0]
[null,"411-0001","Вода","м3",null,null,null,null,null,0]
["Раздел 6. Перегородки. Тоннель, (Спецификации по шифру 1632-2021-1.1,1.2,2.1.0-АР, Приложение к письму  ООО “Морстройтехнология” вх. №9С01-8000370513-MST-ETU-LET-ENG-00384 от 19.02.2024 г.)",null,null,null,null,null,null,null,null,0]
["П1",null,null,null,null,null,null,null,null,0]
["164","ТЕР10-05-002-02","Устройство перегородок из гипсокартонных листов (ГКЛ) по системе «КНАУФ» с одинарным металлическим каркасом и двухслойной обшивкой с обеих сторон (С 112): с одним дверным проемом","100 м2 перегородок (за вычетом проемов)",0.18149999999999999,{"$f":"G426/E426","v":296153.39},53751.839999999997,{"$f":"I426/E426","v":44054.55},7995.9,61747.74]
[null,"101-2430","Грунтовка: «Тифенгрунд», КНАУФ","кг",null,null,null,null,null,0]
[null,"101-2437","Шпаклевка «Унифлот», КНАУФ","кг",null,null,null,null,null,0]
[null,"101-2438","Шпаклевка «Фугенфюллер», КНАУФ","кг",null,null,null,null,null,0]
[null,"101-2474","Лента бумажная для повышения трещиностойкости стыков ГКЛ и ГВЛ","м",null,null,null,null,null,0]
[null,"101-2480","Лента разделительная для сопряжения потолка из ЛГК со стеной","100 м",null,null,null,null,null,0]
[null,"101-2485","Лента эластичная самоклеящаяся для профилей направляющих «Дихтунгсбанд»: 50/30000 мм","м",null,null,null,null,null,0]
[null,"101-2583","Шуруп самонарезающий: (TN) 3,5/25 мм","100 шт.",null,null,null,null,null,0]
[null,"101-2584","Шуруп самонарезающий: (TN) 3,5/35 мм","100 шт.",null,null,null,null,null,0]
[null,"101-2589","Дюбель-гвоздь 6/39 мм","100 шт.",null,null,null,null,null,0]
[null,"101-2590","Дюбель с шурупом 6/35 мм","100 шт.",null,null,null,null,null,0]
[null,"201-0786","Профиль направляющий: ПН-2 50/40/0,6","м",null,null,null,null,null,0]
[null,"201-0805","Профиль стоечный: ПС-2 50/50/0,6","м",null,null,null,null,null,0]
[null,"201-0812","Верхний уголок для крепления несущих элементов двери 100х123 мм","100 шт.",null,null,null,null,null,0]
[null,"201-0814","Нижний уголок для крепления несущих элементов двери 100х123 мм","100 шт.",null,null,null,null,null,0]
[null,"201-0832","Бруски деревянные: 50*50 мм","м",null,null,null,null,null,0]
["165","ТЦ_01.6.01.02_78_7802348846_13.02.2024_02\nАналог  ТССЦ-101-2512    18,24/17,33=2%","Лист ГКЛВ-А-УК-3000-1200-12,5 мм, (2 листа, hобщ.=25 мм)","м2",40.747,{"$f":"G442/E442","v":0},0,{"$f":"I442/E442","v":179.13},7299.17,7299.17]
["166","ТЦ_01.6.01.02_78_7802348846_22.02.2024_02\nАналог   ТССЦ-101-2509  11,37/12,56=2%","Лист ГКЛ-А-УК-3000-1200-12,5 мм, (2 листа, hобщ.=25 мм)","м2",40.747,{"$f":"G443/E443","v":0},0,{"$f":"I443/E443","v":179.77},7325.03,7325.03]
["167","ТССЦ-104-0150","Плиты из минеральной ваты: на синтетическом связующем М-75, (минеральные маты группы НГ с плотностью 40 кг/м³, h=75 мм, прим.)","м3",1.4,{"$f":"G444/E444","v":0},0,{"$f":"I444/E444","v":5849.89},8189.84,8189.84]
["Раздел 7. Установка дверных блоков и ворот. Тоннель, (Спецификации по шифру 1632-2021-1.1,1.2,2.1.0-АР, Приложение к письму  ООО “Морстройтехнология” вх. №9С01-8000370513-MST-ETU-LET-ENG-00384 от 19.02.2024 г.)",null,null,null,null,null,null,null,null,0]
["Установка дверных блоков",null,null,null,null,null,null,null,null,0]
["168","ТЕР09-04-012-01","Установка металлических дверных блоков в готовые проемы","1 м2 проема",50.4,{"$f":"G447/E447","v":6003.15},302558.61,{"$f":"I447/E447","v":327.7},16516.150000000001,319074.76]
[null,"101-1513","Электроды диаметром: 4 мм Э42","т",null,null,null,null,null,0]
[null,"101-1921","Пена монтажная: для герметизации стыков в баллончике емкостью 0,85 л","шт.",null,null,null,null,null,0]
[null,"204-0062","Детали закладные и накладные изготовленные: без применения сварки, гнутья, сверления (пробивки) отверстий поставляемые отдельно","т",null,null,null,null,null,0]
["169","ТЦ_07.1.01.03_78_7841375755_27.02.2024_02","Дверной блок однопольный, металлический, остекленный, правая (7 эл.) левая (2 эл.) навеска 1000Х2100(h), с доводчиком","шт",9,{"$f":"G451/E451","v":0},0,{"$f":"I451/E451","v":33506.370000000003},301557.32,301557.32]
["170","ТЦ_07.1.01.03_78_7841375755_27.02.2024_02","Дверной блок однопольный, металлический, остекленный, утеплённый, правая (14 эл.) левая (1 эл.) навеска 1000Х2100(h), с доводчиком","шт",15,{"$f":"G452/E452","v":0},0,{"$f":"I452/E452","v":33506.370000000003},502595.54,502595.54]
["171","ТЕР09-04-012-02","Установка дверного доводчика к металлическим дверям","1 шт.",24,{"$f":"G453/E453","v":2614.54},62749.02,{"$f":"I453/E453","v":10.71},257.14,63006.16]
[null,"101-1513","Электроды диаметром: 4 мм Э42","т",null,null,null,null,null,0]
[null,"101-1845","Винты самонарезающие: с уплотнительной прокладкой 4,8х35 мм","100 шт.",null,null,null,null,null,0]
["172","ТЕР15-01-070-02","Облицовка: дверных проемов в наружных стенах откосной планкой из оцинкованной стали с полимерным покрытием с установкой наличников из оцинкованной стали с полимерным покрытием","1 м2 проемов",50.4,{"$f":"G456/E456","v":3593.91},181133.21,{"$f":"I456/E456","v":1693.92},85373.440000000002,266506.65000000002]
[null,"101-1691","Шурупы-саморезы 4,2х16 мм","100 шт.",null,null,null,null,null,0]
[null,"101-2409","Аквилон из оцинкованной стали с полимерным покрытием","п.м",null,null,null,null,null,0]
[null,"101-2410","Откосная планка шириной 250 мм из оцинкованной стали с полимерным покрытием","п.м",null,null,null,null,null,0]
[null,"101-2412","Наличники из оцинкованной стали с полимерным покрытием","п.м",null,null,null,null,null,0]
["173","ТЕР09-04-013-03","Установка противопожарных дверей: однопольных остекленных","1 м2 проема",27.3,{"$f":"G461/E461","v":5120.16},139780.34,{"$f":"I461/E461","v":675.03},18428.22,158208.56]
[null,"101-1513","Электроды диаметром: 4 мм Э42","т",null,null,null,null,null,0]
[null,"101-1929","Болты анкерные","т",null,null,null,null,null,{"$f":"G463+I463","v":0}]
[null,"101-3661","Пена монтажная: противопожарная полиуретановая NULLIFIRE (0,88 л)","шт.",null,null,null,null,null,0]
["174","ТЦ_07.1.01.03_78_7841375755_27.02.2024_02","Дверной блок однопольный, металлический, остекленный, противопожарный, правая навеска 1000Х2100(h), EIS 60, с доводчиком и уплотнением притворов","шт",5,{"$f":"G465/E465","v":0},0,{"$f":"I465/E465","v":35533.360000000001},177666.79,177666.79]
["175","ТЦ_07.1.01.03_78_7841375755_27.02.2024_02","Дверной блок однопольный, металлический, остекленный, противопожарный, правая навеска1000Х2100(h), EIS 30, с\nдоводчиком и уплотнением притворов","шт",8,{"$f":"G466/E466","v":0},0,{"$f":"I466/E466","v":35533.360000000001},284266.87,284266.87]
["176","ТЕР15-01-070-02","Облицовка: дверных проемов в наружных стенах откосной планкой из оцинкованной стали с полимерным покрытием с установкой наличников из оцинкованной стали с полимерным покрытием","1 м2 проемов",27.3,{"$f":"G467/E467","v":3593.93},98114.3,{"$f":"I467/E467","v":1693.88},46242.93,144357.23000000001]
[null,"101-1691","Шурупы-саморезы 4,2х16 мм","100 шт.",null,null,null,null,null,0]
[null,"101-2409","Аквилон из оцинкованной стали с полимерным покрытием","п.м",null,null,null,null,null,0]
[null,"101-2410","Откосная планка шириной 250 мм из оцинкованной стали с полимерным покрытием","п.м",null,null,null,null,null,0]
[null,"101-2412","Наличники из оцинкованной стали с полимерным покрытием","п.м",null,null,null,null,null,0]
["177","ТЕР10-01-039-03","Установка блоков в наружных и внутренних дверных проемах: в перегородках и деревянных нерубленых стенах, площадь проема до 3 м2","100 м2 проемов",0.15959999999999999,{"$f":"G472/E472","v":256114.85},40875.93,{"$f":"I472/E472","v":22187.53},3541.13,44417.06]
[null,"101-1705","Пакля пропитанная","кг",null,null,null,null,null,0]
[null,"101-1805","Гвозди строительные","т",null,null,null,null,null,0]
[null,"102-0053","Доски обрезные хвойных пород длиной: 4-6,5 м, шириной 75-150 мм, толщиной 25 мм, III сорта","м3",null,null,null,null,null,0]
["178","ТЦ_11.2.02.01_78_7810851080_06.03.2024_02","Дверной блок однопольный, деревянный, глухой, правая навеска 800Х2100(h)","шт",2,{"$f":"G476/E476","v":0},0,{"$f":"I476/E476","v":13187.64},26375.279999999999,26375.279999999999]
["179","ТЦ_11.2.02.01_78_7810424032_06.03.2024_02","Дверной блок однопольный, деревянный, глухой, правая навеска 1000Х2100(h), с доводчиком","шт",6,{"$f":"G477/E477","v":0},0,{"$f":"I477/E477","v":16826.45},100958.7,100958.7]
["180","ТЕР09-04-012-02","Установка дверного доводчика к металлическим дверям // прим.","1 шт.",6,{"$f":"G478/E478","v":2614.3000000000002},15685.82,{"$f":"I478/E478","v":10.78},64.650000000000006,15750.47]
[null,"101-1513","Электроды диаметром: 4 мм Э42","т",null,null,null,null,null,0]
[null,"101-1845","Винты самонарезающие: с уплотнительной прокладкой 4,8х35 мм","100 шт.",null,null,null,null,null,0]
["181","ТССЦ-101-6899","Доводчик дверной гидравлический TS-68 с зубчатым приводом (нагрузка до 90 кг)","шт.",6,{"$f":"G481/E481","v":0},0,{"$f":"I481/E481","v":2893.24},17359.41,17359.41]
["182","ТЕР10-01-039-05","Установка люков в перекрытиях, площадь проема до 2 м2","100 м2 проемов",3.8399999999999997E-2,{"$f":"G482/E482","v":287798.7},11051.47,{"$f":"I482/E482","v":22109.64},849.01,11900.48]
[null,"101-1482","Шурупы с полукруглой головкой: 5х70 мм","т",null,null,null,null,null,0]
[null,"101-1705","Пакля пропитанная","кг",null,null,null,null,null,0]
[null,"402-0087","Раствор готовый отделочный тяжелый,: известковый 1:2,0","м3",null,null,null,null,null,0]
["183","ТЦ_11.2.02.01_78_7804356514_06.03.2024_02","Лаз металлический, противопожарный, 800Х1600(h), EIS 60, с доводчиком и уплотнением притворов. Низ 500 мм от пола","шт",3,{"$f":"G486/E486","v":0},0,{"$f":"I486/E486","v":14652.93},43958.79,43958.79]
["184","ТЕР09-04-012-02","Установка дверного доводчика к металлическим дверям // прим.","1 шт.",3,{"$f":"G487/E487","v":2614.06},7842.19,{"$f":"I487/E487","v":11.01},33.04,7875.23]
[null,"101-1513","Электроды диаметром: 4 мм Э42","т",null,null,null,null,null,0]
[null,"101-1845","Винты самонарезающие: с уплотнительной прокладкой 4,8х35 мм","100 шт.",null,null,null,null,null,0]
["185","ТССЦ-101-6899","Доводчик дверной гидравлический TS-68 с зубчатым приводом (нагрузка до 90 кг)","шт.",3,{"$f":"G490/E490","v":0},0,{"$f":"I490/E490","v":2893.24},8679.7099999999991,8679.7099999999991]
["Установка ворот",null,null,null,null,null,null,null,null,0]
["186","ТЕР09-04-011-01","Монтаж каркасов ворот большепролетных зданий, ангаров и др. без механизмов открывания","1 т конструкций",6.6070000000000002,{"$f":"G492/E492","v":174276.9},1151447.45,{"$f":"I492/E492","v":8950.9500000000007},59138.94,1210586.3899999999]
[null,"101-0309","Канаты пеньковые пропитанные","т",null,null,null,null,null,0]
[null,"101-0324","Кислород технический: газообразный","м3",null,null,null,null,null,0]
[null,"101-0797","Проволока горячекатаная в мотках, диаметром 6,3-6,5 мм","т",null,null,null,null,null,0]
[null,"101-1019","Швеллеры № 40 из стали марки: Ст0","т",null,null,null,null,null,0]
[null,"101-1515","Электроды диаметром: 4 мм Э46","т",null,null,null,null,null,0]
[null,"101-1805","Гвозди строительные","т",null,null,null,null,null,0]
[null,"101-2278","Пропан-бутан, смесь техническая","кг",null,null,null,null,null,0]
[null,"101-2467","Растворитель марки: Р-4","т",null,null,null,null,null,0]
[null,"102-0023","Бруски обрезные хвойных пород длиной: 4-6,5 м, шириной 75-150 мм, толщиной 40-75 мм, I сорта","м3",null,null,null,null,null,0]
[null,"113-0021","Грунтовка: ГФ-021 красно-коричневая","т",null,null,null,null,null,0]
[null,"201-0756","Отдельные конструктивные элементы зданий и сооружений с преобладанием: горячекатаных профилей, средняя масса сборочной единицы от 0,1 до 0,5 т","т",null,null,null,null,null,0]
[null,"508-0097","Канат двойной свивки типа ТК, конструкции 6х19(1+6+12)+1 о.с., оцинкованный из проволок марки В, маркировочная группа: 1770 н/мм2, диаметром 5,5 мм","10 м",null,null,null,null,null,0]
["187","ТЕРм11-05-001-01","Механизм исполнительный, масса: до 20 кг","1 шт.",8,{"$f":"G505/E505","v":2196.5},17572.02,{"$f":"I505/E505","v":108.1},864.81,18436.830000000002]
[null,"101-2039","Болты с гайками и шайбами оцинкованные, диаметр: 12 мм","кг",null,null,null,null,null,0]
[null,"999-9950","Вспомогательные ненормируемые ресурсы (2% от Оплаты труда рабочих)","руб",null,null,null,null,null,0]
["188","ТЦ_08.1.06.01_78_7814075047_25.06.2024_02","Ворота распашные с калиткой, металлические, утеплённые, 2950Х3000(h), (вес=55,6 кг/м²)","шт",1,{"$f":"G508/E508","v":0},0,{"$f":"I508/E508","v":385573.21},385573.21,385573.21]
["189","ТЦ_11.2.02.01_77_7751024400_06.03.2024_02","Ворота распашные, металлические, остекленные, утеплённые, 4400Х4500(h), (вес=42,44 кг/м²)","шт",1,{"$f":"G509/E509","v":0},0,{"$f":"I509/E509","v":441297.45},441297.45,441297.45]
["190","ТЦ_08.1.06.01_78_7819033805_06.03.2024_02","Ворота складчатые, металлические, 5000Х4500(h), (вес=42,44 кг/м²)","шт",5,{"$f":"G510/E510","v":0},0,{"$f":"I510/E510","v":460041.13},2300205.65,2300205.65]
["191","ТЦ_08.1.06.01_78_7814075047_25.06.2024_02","Ворота распашные, металлические, с калиткой, остекленные, утеплённые, 3000Х3000(h), (вес=55,6 кг/м²)","шт",1,{"$f":"G511/E511","v":0},0,{"$f":"I511/E511","v":393284.67},393284.67,393284.67]
["Раздел 8. Установка оконных блоков. Тоннель, (Спецификации по шифру 1632-2021-1.1,1.2,2.1.0-АР, Приложение к письму  ООО “Морстройтехнология” вх. №9С01-8000370513-MST-ETU-LET-ENG-00384 от 19.02.2024 г.)",null,null,null,null,null,null,null,null,0]
["192","ТЕР10-01-034-03","Установка в жилых и общественных зданиях оконных блоков из ПВХ профилей: поворотных (откидных, поворотно-откидных) с площадью проема до 2 м2 одностворчатых","100 м2 проемов",3.2000000000000001E-2,{"$f":"G513/E513","v":468319.06},14986.21,{"$f":"I513/E513","v":156181.25},4997.8,19984.009999999998]
[null,"101-2052","Лента бутиловая","м",null,null,null,null,null,0]
[null,"101-2054","Лента бутиловая диффузионная","м",null,null,null,null,null,0]
[null,"101-2388","Герметик пенополиуретановый (пена монтажная) типа Makrofleks, Soudal в баллонах по 750 мл","шт.",null,null,null,null,null,0]
[null,"101-2789","Лента ПСУЛ","10 м",null,null,null,null,null,0]
[null,"101-4173","Дюбели монтажные 10х130 (10х132, 10х150) мм","10 шт.",null,null,null,null,null,0]
[null,"102-0303","Клинья пластиковые монтажные","100 шт.",null,null,null,null,null,0]
["193","ТЦ_59.1.09.04_78_7816539174_26.02.2024_02","ОК-3. Оп-П-1600х1000-ОСП (4М1-16-4М1)-ПОТ-ГОСТ 34914-2022 (оконный блок из ПВХ профилей с поворотно-откидными створками и однокамерным стеклопакетом)","м2",3.2,{"$f":"G520/E520","v":0},0,{"$f":"I520/E520","v":19776.97},63286.3,63286.3]
["194","ТЕР15-01-070-01","Облицовка: оконных проемов в наружных стенах откосной планкой из оцинкованной стали с полимерным покрытием с устройством водоотлива оконного из оцинкованной стали с полимерным покрытием","1 м2 проемов",3.2,{"$f":"G521/E521","v":3277.61},10488.34,{"$f":"I521/E521","v":1423.54},4555.34,15043.68]
[null,"101-1691","Шурупы-саморезы 4,2х16 мм","100 шт.",null,null,null,null,null,0]
[null,"101-2409","Аквилон из оцинкованной стали с полимерным покрытием","п.м",null,null,null,null,null,0]
[null,"101-2410","Откосная планка шириной 250 мм из оцинкованной стали с полимерным покрытием","п.м",null,null,null,null,null,0]
[null,"101-2411","Водоотлив оконный шириной планки 250 мм из оцинкованной стали с полимерным покрытием","п.м",null,null,null,null,null,0]
["Раздел 9. Полы. Тоннель, (Спецификации по шифру 1632-2021-1.1,1.2,2.1.0-АР, Приложение к письму  ООО “Морстройтехнология” вх. №9С01-8000370513-MST-ETU-LET-ENG-00384 от 19.02.2024 г.)",null,null,null,null,null,null,null,null,0]
["Тип 1. S=270 м²",null,null,null,null,null,null,null,null,{"$f":"G527+I527","v":0}]
["195","ТЕР11-01-011-03","Устройство стяжек: бетонных толщиной 20 мм, (уклонообразующий слой, hср.=(15+85)/2=50 мм)","100 м2 стяжки",2.7,{"$f":"G528/E528","v":83769.11},226176.61,{"$f":"I528/E528","v":94.17},254.27,226430.88]
[null,"411-0001","Вода","м3",null,null,null,null,null,0]
["196","ТЕР11-01-011-04","Устройство стяжек: на каждые 5 мм изменения толщины стяжки добавлять или исключать к расценке 11-01-011-03, (добавить 30 мм)","100 м2 стяжки",2.7,{"$f":"G530/E530","v":9680.2999999999993},26136.81,{"$f":"I530/E530","v":0},0,26136.81]
["197","ТЦ_59.1.04.01_78_4707009037_08.02.2024_02","Бетон  В15","м3",13.77,{"$f":"G531/E531","v":0},0,{"$f":"I531/E531","v":8792.86},121077.75,121077.75]
["198","ТЕР11-01-004-09","Устройство гидроизоляции обмазочной: в один слой праймером, (гидроизоляция полимерной мастикой, прим.)","100 м2 изолируемой поверхности",2.7,{"$f":"G532/E532","v":75099.199999999997},202767.84,{"$f":"I532/E532","v":2559.7399999999998},6911.3,209679.14]
[null,"101-0073","Битумы нефтяные строительные марки: БН-90/10","т",null,null,null,null,null,0]
[null,"101-0322","Керосин для технических целей марок КТ-1, КТ-2","т",null,null,null,null,null,0]
[null,"101-1757","Ветошь","кг",null,null,null,null,null,0]
["199","ТЕР11-01-011-03","Устройство стяжек: бетонных толщиной 20 мм, (покрытие полимерцементный бетон В25  h=15 мм, прим.)","100 м2 стяжки",2.7,{"$f":"G536/E536","v":83769.11},226176.61,{"$f":"I536/E536","v":94.17},254.27,226430.88]
[null,"411-0001","Вода","м3",null,null,null,null,null,0]
["200","ТЕР11-01-011-04","Устройство стяжек: на каждые 5 мм изменения толщины стяжки добавлять или исключать к расценке 11-01-011-03, (исключить 5 мм)","100 м2 стяжки",-2.7,{"$f":"G538/E538","v":1613.21},-4355.66,{"$f":"I538/E538","v":0},0,-4355.66]
["201","ТЦ_59.1.04.01_78_4707009037_08.02.2024_02","Бетон В25","м3",4.13,{"$f":"G539/E539","v":0},0,{"$f":"I539/E539","v":9648.9699999999993},39850.230000000003,39850.230000000003]
["202","ТССЦ-113-0378","Состав полимерцементный, (20% от массы бетона)","м3",0.82599999999999996,{"$f":"G540/E540","v":0},0,{"$f":"I540/E540","v":3761.84},3107.28,3107.28]
["Тип 1а. S=775 м²",null,null,null,null,null,null,null,null,0]
["203","ТЕР11-01-011-03","Устройство стяжек: бетонных толщиной 20 мм, (уклонообразующий слой, hср.=(20+45)/2=32,5 мм)","100 м2 стяжки",7.75,{"$f":"G542/E542","v":83768.06},649202.43000000005,{"$f":"I542/E542","v":93.98},728.34,649930.77]
[null,"411-0001","Вода","м3",null,null,null,null,null,0]
["204","ТЕР11-01-011-04","Устройство стяжек: на каждые 5 мм изменения толщины стяжки добавлять или исключать к расценке 11-01-011-03, (добавить 12,5 мм)","100 м2 стяжки",7.75,{"$f":"G544/E544","v":4033.12},31256.71,{"$f":"I544/E544","v":0},0,31256.71]
["205","ТЦ_59.1.04.01_78_4707009037_08.02.2024_02","Бетон  В15","м3",25.690999999999999,{"$f":"G545/E545","v":0},0,{"$f":"I545/E545","v":8792.94},225899.36,225899.36]
["206","ТЕР11-01-004-09","Устройство гидроизоляции обмазочной: в один слой праймером, (гидроизоляция полимерной мастикой, прим.)","100 м2 изолируемой поверхности",7.75,{"$f":"G546/E546","v":75099.75},582023.05000000005,{"$f":"I546/E546","v":2559.4899999999998},19836.05,601859.1]
[null,"101-0073","Битумы нефтяные строительные марки: БН-90/10","т",null,null,null,null,null,0]
[null,"101-0322","Керосин для технических целей марок КТ-1, КТ-2","т",null,null,null,null,null,0]
[null,"101-1757","Ветошь","кг",null,null,null,null,null,0]
["207","ТЕР11-01-011-03","Устройство стяжек: бетонных толщиной 20 мм, (покрытие полимерцементный бетон В25  h=15 мм, прим.)","100 м2 стяжки",7.75,{"$f":"G550/E550","v":83768.06},649202.43000000005,{"$f":"I550/E550","v":93.98},728.34,649930.77]
[null,"411-0001","Вода","м3",null,null,null,null,null,0]
["208","ТЕР11-01-011-04","Устройство стяжек: на каждые 5 мм изменения толщины стяжки добавлять или исключать к расценке 11-01-011-03, (исключить 5 мм)","100 м2 стяжки",-7.75,{"$f":"G552/E552","v":1613.4},-12503.83,{"$f":"I552/E552","v":0},0,-12503.83]
["209","ТЦ_59.1.04.01_78_4707009037_08.02.2024_02","Бетон В25","м3",11.86,{"$f":"G553/E553","v":0},0,{"$f":"I553/E553","v":9648.9500000000007},114436.52,114436.52]
["210","ТССЦ-113-0378","Состав полимерцементный, (20% от массы бетона)","м3",2.3719999999999999,{"$f":"G554/E554","v":0},0,{"$f":"I554/E554","v":3761.59},8922.49,8922.49]
["Раздел 10. Отделка помещений. Тоннель, (Спецификации по шифру 1632-2021-1.1,1.2,2.1.0-АР, Приложение к письму  ООО “Морстройтехнология” вх. №9С01-8000370513-MST-ETU-LET-ENG-00384 от 19.02.2024 г.)",null,null,null,null,null,null,null,null,0]
["211","ТЕР15-04-007-02","Окраска водно-дисперсионными акриловыми составами улучшенная: по штукатурке потолков","100 м2 окрашиваемой поверхности",6.37,{"$f":"G556/E556","v":125372.61},798623.54,{"$f":"I556/E556","v":12801.64},81546.44,880169.98]
[null,"101-1596","Шкурка шлифовальная двухслойная с зернистостью 40-25","м2",null,null,null,null,null,0]
[null,"101-1757","Ветошь","кг",null,null,null,null,null,0]
[null,"101-3512","Краска акриловая: ВД-АК 2180, ВГТ","т",null,null,null,null,null,0]
[null,"101-3585","Шпатлевка водно-дисперсионная","т",null,null,null,null,null,0]
[null,"101-4163","Грунтовка акриловая: НОРТЕКС-ГРУНТ","кг",null,null,null,null,null,0]
["212","ТЕР15-04-007-01","Окраска водно-дисперсионными акриловыми составами улучшенная: по штукатурке стен","100 м2 окрашиваемой поверхности",27.38,{"$f":"G562/E562","v":86790.22},2376316.14,{"$f":"I562/E562","v":11810.5},323371.52000000002,2699687.66]
[null,"101-1596","Шкурка шлифовальная двухслойная с зернистостью 40-25","м2",null,null,null,null,null,0]
[null,"101-1757","Ветошь","кг",null,null,null,null,null,0]
[null,"101-3512","Краска акриловая: ВД-АК 2180, ВГТ","т",null,null,null,null,null,0]
[null,"101-3585","Шпатлевка водно-дисперсионная","т",null,null,null,null,null,0]
[null,"101-4163","Грунтовка акриловая: НОРТЕКС-ГРУНТ","кг",null,null,null,null,null,0]
["Раздел 11. Кровля плоская, (1632-2021-1.1,1.2,2.1.0-АР, л. 1.1)",null,null,null,null,null,null,null,null,0]
["Кровля плоская (наплавляемое покрытие)",null,null,null,null,null,null,null,null,0]
["213","ТЕР12-01-017-03","Устройство выравнивающих стяжек: асфальтобетонных толщиной  15 мм, (h=50 мм)","100 м2 стяжки",0.5,{"$f":"G570/E570","v":39824.36},19912.18,{"$f":"I570/E570","v":28277.279999999999},14138.64,34050.82]
[null,"101-0856","Рубероид кровельный с пылевидной посыпкой марки РКП-350б","м2",null,null,null,null,null,0]
[null,"410-0021","Смеси асфальтобетонные дорожные, аэродромные и асфальтобетон (горячие для пористого асфальтобетона щебеночные и гравийные), марка: I","т",null,null,null,null,null,0]
["214","ТЕР12-01-017-04","Устройство выравнивающих стяжек: на каждый 1 мм изменения толщины добавлять или  исключать к расценке 12-01-017-03, (добавить 35 мм)","100 м2 стяжки",0.5,{"$f":"G573/E573","v":98364.26},49182.13,{"$f":"I573/E573","v":65222.78},32611.39,81793.52]
[null,"410-0021","Смеси асфальтобетонные дорожные, аэродромные и асфальтобетон (горячие для пористого асфальтобетона щебеночные и гравийные), марка: I","т",null,null,null,null,null,0]
["215","ТЕР11-01-025-01","Устройство покрытий: из брусчатки по готовому подстилающему слою с заполнением швов песком // прим. тротуарная плитка на нерегулируемых опорах","100 м2 покрытия",0.22,{"$f":"G575/E575","v":224619.5},49416.29,{"$f":"I575/E575","v":276420.64},60812.54,110228.83]
[null,"413-0437","Брусчатка","м2",null,null,null,null,null,0]
["216","ТЦ_01.1.00.00_77_7709331654_26.02.2024_02","Нерегулируемы круглые опоры типа Технониколь h=20мм, (расход 5 опор/м²; упаковка - 110 шт.)","уп.",1,{"$f":"G577/E577","v":0},0,{"$f":"I577/E577","v":9258.64},9258.64,9258.64]
["217","ТЕР12-01-015-03","Устройство пароизоляции: прокладочной в один слой","100 м2 изолируемой поверхности",3,{"$f":"G578/E578","v":17560.05},52680.160000000003,{"$f":"I578/E578","v":10200.549999999999},30601.64,83281.8]
[null,"101-0594","Мастика битумная кровельная горячая","т",null,null,null,null,null,0]
[null,"101-0856","Рубероид кровельный с пылевидной посыпкой марки РКП-350б","м2",null,null,null,null,null,0]
["218","ТЕР26-01-041-02","Изоляция изделиями из пенопласта на битуме холодных поверхностей: покрытий и перекрытий сверху // толщ. 100 мм","1 м3 изоляции",30,{"$f":"G581/E581","v":18924.13},567723.93999999994,{"$f":"I581/E581","v":1124.97},33749.15,601473.09]
[null,"101-0079","Битумы нефтяные строительные для кровельных мастик марки: БНМ-55/60","т",null,null,null,null,null,0]
["219","ТССЦ-104-0240","Плиты теплоизоляционные: из экструдированного пенополистирола плотностью 35 кг/м3, группой горючести Г1","м3",30.6,{"$f":"G583/E583","v":0},0,{"$f":"I583/E583","v":10261.040000000001},313987.89,313987.89]
["220","ТЕР12-01-014-02","Утепление покрытий: керамзитом // уклонообразующий слой 20-80 мм","1 м3 утеплителя",15,{"$f":"G584/E584","v":6968.57},104528.55,{"$f":"I584/E584","v":3323.25},49848.7,154377.25]
[null,"406-0014","Гравий керамзитовый, фракция: 10-20 мм, марка 400","м3",null,null,null,null,null,0]
["221","ТЕР12-01-017-01","Устройство выравнивающих стяжек: цементно-песчаных толщиной  15 мм, (h=40 мм)","100 м2 стяжки",3,{"$f":"G586/E586","v":64291.89},192875.67,{"$f":"I586/E586","v":9587.14},28761.41,221637.08]
[null,"101-0856","Рубероид кровельный с пылевидной посыпкой марки РКП-350б","м2",null,null,null,null,null,0]
[null,"402-0004","Раствор готовый кладочный цементный марки: 100","м3",null,null,null,null,null,0]
[null,"411-0001","Вода","м3",null,null,null,null,null,0]
["222","ТЕР12-01-017-02","Устройство выравнивающих стяжек: на каждый 1 мм изменения толщины добавлять или исключать к расценке 12-01-017-01, (добавить 25 мм)","100 м2 стяжки",3,{"$f":"G590/E590","v":55016.01},165048.03,{"$f":"I590/E590","v":15286.46},45859.37,210907.4]
[null,"402-0004","Раствор готовый кладочный цементный марки: 100","м3",null,null,null,null,null,{"$f":"G591+I591","v":0}]
["223","ТЕР06-01-015-10","Армирование подстилающих слоев и набетонок","1 т",0.53,{"$f":"G592/E592","v":27717.51},14690.28,{"$f":"I592/E592","v":3011.36},1596.02,16286.3]
[null,"101-0816","Проволока светлая диаметром: 1,1 мм","т",null,null,null,null,null,0]
["224","ТЦ_08.4.02.05_66_6686134976_08.02.2024_02","Сетка арматурная 4Вр1 яч. 100х100 , (вес=1,75 кг/м²)","м2",300,{"$f":"G594/E594","v":0},0,{"$f":"I594/E594","v":118.43},35530.49,35530.49]
["225","ТЕР12-01-015-04","Устройство пароизоляции: обмазочной в один слой","100 м2 изолируемой поверхности",3,{"$f":"G595/E595","v":23102.79},69308.36,{"$f":"I595/E595","v":3699.63},11098.88,80407.240000000005]
[null,"101-0078","Битумы нефтяные строительные кровельные марки: БНК-45/190, БНК-45/180","т",null,null,null,null,null,0]
[null,"101-0322","Керосин для технических целей марок КТ-1, КТ-2","т",null,null,null,null,null,0]
["226","ТССЦ-113-2230","Праймер битумный ТЕХНОНИКОЛЬ №01, (вес праймера — 0,9–1,1 кг/л, расход 0,3 л/м²)","л",90,{"$f":"G598/E598","v":0},0,{"$f":"I598/E598","v":93.42},8408.2000000000007,8408.2000000000007]
["227","ТЕР12-01-002-09","Устройство кровель плоских из наплавляемых материалов: в два слоя","100 м2 кровли",3,{"$f":"G599/E599","v":34049.870000000003},102149.61,{"$f":"I599/E599","v":1974.31},5922.94,108072.55]
[null,"101-2278","Пропан-бутан, смесь техническая","кг",null,null,null,null,null,0]
["228","ТЦ_12.0.00.00_78_7826181040_08.02.2024_02","Техноэласт ЭПП, (с учетом нахлеста и дополнительных слоёв, коэффициент расхода — k=1,16)","м2",580,{"$f":"G601/E601","v":0},0,{"$f":"I601/E601","v":426.22},247205.01,247205.01]
["229","ТЦ_12.0.00.00_78_7826181040_08.02.2024_02","Техноэласт Пламя Стоп, (с учетом нахлеста, коэффициент расхода —  k=1,15)","м2",460,{"$f":"G602/E602","v":0},0,{"$f":"I602/E602","v":537.67999999999995},247334.3,247334.3]
["Разрез 1-1, 3-3 (наплавляемое покрытие)",null,null,null,null,null,null,null,null,0]
["Водосточная система",null,null,null,null,null,null,null,null,0]
["230","ТЕР12-01-009-02","Устройство желобов: подвесных","100 м желобов",3.22,{"$f":"G605/E605","v":59216.29},190676.44,{"$f":"I605/E605","v":21888.39},70480.600000000006,261157.04]
[null,"101-0173","Гвозди проволочные оцинкованные для асбестоцементной кровли: 4,5х120 мм","т",null,null,null,null,null,0]
[null,"101-0788","Поковки оцинкованные, масса: 2,825 кг","т",null,null,null,null,null,0]
["231","ТЦ_12.1.01.00_78_7804606806_25.01.2024_02","Желоб водосточный D185х3000","шт",107,{"$f":"G608/E608","v":0},0,{"$f":"I608/E608","v":1743.68},186573.47,186573.47]
["232","ТЦ_12.1.01.00_78_7804606806_25.01.2024_02","Держатель желоба","шт",537,{"$f":"G609/E609","v":0},0,{"$f":"I609/E609","v":769.33},413129.34,413129.34]
["233","ТЕР12-01-012-01","Ограждение кровель перилами // Устройство труб водосточных, прим.","100 м ограждения",2.944,{"$f":"G610/E610","v":16111.55},47432.4,{"$f":"I610/E610","v":402.08},1183.73,48616.13]
[null,"101-1529","Электроды диаметром: 6 мм Э42","т",null,null,null,null,null,0]
[null,"101-1851","Резина прессованная","кг",null,null,null,null,null,0]
["234","ТЦ_12.1.01.00_78_7804606806_25.01.2024_02","Труба водосточная D150х3800 мм","шт",3,{"$f":"G613/E613","v":0},0,{"$f":"I613/E613","v":2692.6},8077.79,8077.79]
["235","ТЦ_12.1.01.00_78_7804606806_25.01.2024_02","Труба водосточная D150х7800 мм","шт",3,{"$f":"G614/E614","v":0},0,{"$f":"I614/E614","v":5527.41},16582.23,16582.23]
["236","ТЦ_12.1.01.00_78_7804606806_25.01.2024_02","Труба водосточная D150х11400 мм","шт",2,{"$f":"G615/E615","v":0},0,{"$f":"I615/E615","v":8078.51},16157.01,16157.01]
["237","ТЦ_12.1.01.00_78_7804606806_25.01.2024_02","Труба водосточная D150х12000 мм","шт",11,{"$f":"G616/E616","v":0},0,{"$f":"I616/E616","v":8503.5300000000007},93538.85,93538.85]
["238","ТЦ_12.1.01.00_78_7804606806_25.01.2024_02","Труба водосточная D150х13100 мм","шт",8,{"$f":"G617/E617","v":0},0,{"$f":"I617/E617","v":9283.06},74264.5,74264.5]
["239","ТЦ_12.1.01.00_78_7804606806_25.01.2024_02","Крепление трубы","шт",60,{"$f":"G618/E618","v":0},0,{"$f":"I618/E618","v":321.10000000000002},19265.73,19265.73]
["240","ТЕР16-07-002-01","Установка воронок водосточных","1 воронка",17,{"$f":"G619/E619","v":7185.59},122155.02,{"$f":"I619/E619","v":54.17},920.84,123075.86]
[null,"101-0311","Каболка","т",null,null,null,null,null,0]
[null,"101-1355","Цемент гипсоглиноземистый расширяющийся","т",null,null,null,null,null,0]
[null,"101-1522","Электроды диаметром: 5 мм Э42А","т",null,null,null,null,null,0]
["241","ТЦ_12.1.01.00_78_7804606806_25.01.2024_02","Воронки выпускные D185/150","шт",11,{"$f":"G623/E623","v":0},0,{"$f":"I623/E623","v":824.19},9066.14,9066.14]
["242","ТССЦ-301-3305","Воронка сливная диаметром: 150 мм","шт.",6,{"$f":"G624/E624","v":0},0,{"$f":"I624/E624","v":846.85},5081.12,5081.12]
["243","ТЕР12-01-012-01","Ограждение кровель перилами // прим.","100 м ограждения",3.22,{"$f":"G625/E625","v":16112.25},51881.43,{"$f":"I625/E625","v":401.97},1294.3399999999999,53175.77]
[null,"101-1529","Электроды диаметром: 6 мм Э42","т",null,null,null,null,null,0]
[null,"101-1851","Резина прессованная","кг",null,null,null,null,null,0]
["244","ТЦ_12.1.01.00_78_7804606806_25.01.2024_02","Снегозадержатель трубчатый, (L=3 м, в комплекте с креплением)","шт",107,{"$f":"G628/E628","v":0},0,{"$f":"I628/E628","v":2455.5300000000002},262741.42,262741.42]
["245","ТЕР12-01-012-01","Ограждение кровель перилами","100 м ограждения",4.45,{"$f":"G629/E629","v":16112.09},71698.8,{"$f":"I629/E629","v":402.24},1789.96,73488.759999999995]
[null,"101-1529","Электроды диаметром: 6 мм Э42","т",null,null,null,null,null,0]
[null,"101-1851","Резина прессованная","кг",null,null,null,null,null,0]
["246","ТЦ_08.1.06.00_50_5047239058_14.02.2024_02","Ограждение кровли h=600 мм, (L=1,86 м/шт)","шт",239,{"$f":"G632/E632","v":0},0,{"$f":"I632/E632","v":4301.6000000000004},1028081.26,1028081.26]
["Разрез 4-4",null,null,null,null,null,null,null,null,0]
["247","ТЕР26-01-037-01","Изоляция изделиями из волокнистых и зернистых материалов на битуме холодных поверхностей: стен и колонн прямоугольных, (h=50 мм)","1 м3 изоляции",2.4780000000000002,{"$f":"G634/E634","v":41726.730000000003},103398.84,{"$f":"I634/E634","v":17607.45},43631.26,147030.1]
[null,"101-0079","Битумы нефтяные строительные для кровельных мастик марки: БНМ-55/60","т",null,null,null,null,null,0]
[null,"101-1805","Гвозди строительные","т",null,null,null,null,null,0]
[null,"101-2066","Болты анкерные оцинкованные","кг",null,null,null,null,null,0]
[null,"102-0025","Бруски обрезные хвойных пород длиной: 4-6,5 м, шириной 75-150 мм, толщиной 40-75 мм, III сорта","м3",null,null,null,null,null,0]
[null,"104-0007","Плиты из минеральной ваты: повышенной жесткости на синтетическом связующем М-200","м3",null,null,null,null,null,0]
["248","ТЕР15-02-001-01","Улучшенная штукатурка фасадов цементно-известковым раствором по камню: стен, (h=6 мм, прим.)","100 м2 оштукатуриваемой поверхности",0.49559999999999998,{"$f":"G640/E640","v":159778.37},79186.16,{"$f":"I640/E640","v":11.6},5.75,79191.91]
[null,"411-0001","Вода","м3",null,null,null,null,null,0]
["249","ТССЦ-402-0381","Штукатурка минеральная декоративная CERESIT CT 35 \"короед\", зерно 2,5 мм (цветная), (декоративная минеральная штукатурка ТЕХНОНИКОЛЬ 301 «короед», расход на слой 2,0 мм – 2,6 кг/м², прим.)","кг",386.56799999999998,{"$f":"G642/E642","v":0},0,{"$f":"I642/E642","v":282.02999999999997},109023.55,109023.55]
["Цоколь",null,null,null,null,null,null,null,null,0]
["250","ТЕР11-01-015-07","Шлифовка бетонных или металлоцементных покрытий, (затирка поверхности цоколя, прим.)","100 м2 покрытия",1.3680000000000001,{"$f":"G644/E644","v":191486.98},261954.19,{"$f":"I644/E644","v":180.62},247.09,262201.28000000003]
[null,"101-2109","Карборунд","кг",null,null,null,null,null,0]
[null,"411-0001","Вода","м3",null,null,null,null,null,0]
["251","ТЕР15-04-015-02","Окраска фасадов с люлек с подготовкой поверхности: силикатная, (прим.)","100 м2 фасада",1.3677999999999999,{"$f":"G647/E647","v":71765.08},98160.27,{"$f":"I647/E647","v":8107.05},11088.82,109249.09]
[null,"101-1757","Ветошь","кг",null,null,null,null,null,0]
[null,"101-1841","Краски силикатные зеленая и красная","т",null,null,null,null,null,0]
[null,"113-0043","Жидкость: гидрофобизирующая ГКЖ-10","т",null,null,null,null,null,0]
[null,"113-0368","Стекло жидкое калийное","т",null,null,null,null,null,0]
[null,"402-0083","Раствор готовый отделочный тяжелый,: цементно-известковый 1:1:6","м3",null,null,null,null,null,0]
[null,"409-0639","Пемза шлаковая (щебень пористый из металлургического шлака), марка 600, фракция 5-10 мм","м3",null,null,null,null,null,0]
[null,"411-0001","Вода","м3",null,null,null,null,null,0]
["Раздел 13. Отмостка",null,null,null,null,null,null,null,null,{"$f":"G655+I655","v":0}]
["252","ТЕР27-04-001-04","Устройство подстилающих и выравнивающих слоев оснований: из щебня, (подготовка из щебня h=90 мм)","100 м3 материала основания (в плотном теле)",0.2462,{"$f":"G656/E656","v":206247.56},50778.15,{"$f":"I656/E656","v":186.72},45.97,50824.12]
[null,"411-0001","Вода","м3",null,null,null,null,null,0]
["253","ТССЦ-408-0015","Щебень из природного камня для строительных работ марка: 800, фракция 20-40 мм","м3",31.02,{"$f":"G658/E658","v":0},0,{"$f":"I658/E658","v":3394.17},105287.06,105287.06]
["254","ТЕР27-04-001-01","Устройство подстилающих и выравнивающих слоев оснований: из песка, (подготовка из песка h=150 мм)","100 м3 материала основания (в плотном теле)",0.41033999999999998,{"$f":"G659/E659","v":132376.26999999999},54319.28,{"$f":"I659/E659","v":136.55000000000001},56.03,54375.31]
[null,"411-0001","Вода","м3",null,null,null,null,null,0]
["255","ТССЦ-408-0123","Песок природный для строительных: работ средний с крупностью зерен размером свыше 5 мм - до 5% по массе","м3",45.1374,{"$f":"G661/E661","v":0},0,{"$f":"I661/E661","v":954.44},43081.05,43081.05]
["256","ТЕР06-01-001-20","Устройство ленточных фундаментов: бетонных, (h=100 мм, прим.)","100 м3 бетона, бутобетона и железобетона в деле",0.27356000000000003,{"$f":"G662/E662","v":775667.79},212191.68,{"$f":"I662/E662","v":37279.39},10198.15,222389.83]
[null,"101-0797","Проволока горячекатаная в мотках, диаметром 6,3-6,5 мм","т",null,null,null,null,null,0]
[null,"101-1668","Рогожа","м2",null,null,null,null,null,0]
[null,"101-1805","Гвозди строительные","т",null,null,null,null,null,0]
[null,"102-0061","Доски обрезные хвойных пород длиной: 4-6,5 м, шириной 75-150 мм, толщиной 44 мм и более, III сорта","м3",null,null,null,null,null,0]
[null,"203-0511","Щиты: из досок толщиной 25 мм","м2",null,null,null,null,null,0]
[null,"405-0253","Известь строительная: негашеная комовая, сорт I","т",null,null,null,null,null,0]
[null,"411-0001","Вода","м3",null,null,null,null,null,0]
["257","ТЦ_59.1.04.01_78_4707009037_08.02.2024_02","Бетон  В15","м3",27.902999999999999,{"$f":"G670/E670","v":0},0,{"$f":"I670/E670","v":8792.92},245348.97,245348.97]
["258","ТЕР06-01-015-10","Армирование подстилающих слоев и набетонок","1 т",0.75,{"$f":"G671/E671","v":27717.99},20788.490000000002,{"$f":"I671/E671","v":3009.12},2256.84,23045.33]
[null,"101-0816","Проволока светлая диаметром: 1,1 мм","т",null,null,null,null,null,0]
["259","ТЦ_08.4.02.05_78_7816587756_08.02.2024_02","Сетка арматурная 5Вр1 яч. 100х100 , (вес=2,75 кг/м²)","м2",273.56,{"$f":"G673/E673","v":0},0,{"$f":"I673/E673","v":213.73},58468.07,58468.07]
["260","ТЕР06-01-013-01","Устройство подливки толщиной  20 мм, (бетонная отмостка, hср.=(30+130)/2=80 мм, прим.)","100 м2 подливки под оборудование",2.7355999999999998,{"$f":"G674/E674","v":87982.43},240684.74,{"$f":"I674/E674","v":2743.31},7504.6,248189.34]
[null,"101-1805","Гвозди строительные","т",null,null,null,null,null,0]
[null,"102-0053","Доски обрезные хвойных пород длиной: 4-6,5 м, шириной 75-150 мм, толщиной 25 мм, III сорта","м3",null,null,null,null,null,0]
[null,"102-0061","Доски обрезные хвойных пород длиной: 4-6,5 м, шириной 75-150 мм, толщиной 44 мм и более, III сорта","м3",null,null,null,null,null,0]
["261","ТЕР06-01-013-02","На каждые 10 мм изменения толщины добавлять или исключать к расценке 06-01-013-01, (добавить 60 мм)","100 м2 подливки под оборудование",2.7355999999999998,{"$f":"G678/E678","v":151294.92000000001},413882.39,{"$f":"I678/E678","v":4022.02},11002.63,424885.02]
[null,"101-1805","Гвозди строительные","т",null,null,null,null,null,0]
[null,"102-0053","Доски обрезные хвойных пород длиной: 4-6,5 м, шириной 75-150 мм, толщиной 25 мм, III сорта","м3",null,null,null,null,null,0]
[null,"102-0061","Доски обрезные хвойных пород длиной: 4-6,5 м, шириной 75-150 мм, толщиной 44 мм и более, III сорта","м3",null,null,null,null,null,0]
["262","ТЦ_59.1.04.01_78_4707009037_08.02.2024_02","Бетон  В15","м3",22.321999999999999,{"$f":"G682/E682","v":0},0,{"$f":"I682/E682","v":8792.94},196276.01,196276.01]
["263","ТЕР27-06-011-01","Устройство швов расширения, (температурно-усадочный, прим.)","1000 м2 покрытия",0.27356000000000003,{"$f":"G683/E683","v":13784.8},3770.97,{"$f":"I683/E683","v":3019.52},826.02,4596.99]
[null,"101-1556","Битумы нефтяные дорожные марки: БНД-60/90, БНД 90/130","т",null,null,null,null,null,0]
[null,"102-0137","Доски необрезные хвойных пород длиной: 2-3,75 м, все ширины, толщиной 32-40 мм, III сорта","м3",null,null,null,null,null,0]
["264","ТЕР11-01-015-08","Железнение цементных покрытий","100 м2 покрытия",2.7355999999999998,{"$f":"G686/E686","v":26257.85},71830.97,{"$f":"I686/E686","v":537.74},1471.04,73302.009999999995]
[null,"101-1305","Портландцемент общестроительного назначения бездобавочный, марки: 400","т",null,null,null,null,null,0]
[null,"411-0001","Вода","м3",null,null,null,null,null,0]
["265","ТЕР27-02-010-02","Установка бортовых камней бетонных: при других видах покрытий","100 м бортового камня",2.7355999999999998,{"$f":"G689/E689","v":205302.5},561625.51,{"$f":"I689/E689","v":1992.37},5450.32,567075.82999999996]
[null,"101-1805","Гвозди строительные","т",null,null,null,null,null,0]
[null,"102-0038","Брусья необрезные хвойных пород длиной: 4-6,5 м, все ширины, толщиной 100, 125 мм, IV сорта","м3",null,null,null,null,null,0]
["266","ТЦ_04.13.00.00_78_7842083836_15.02.2024_02\nАналог  ТССЦ-403-8023     19,93/18,59=2%","Камни бортовые БР100.20.8","шт",274,{"$f":"G692/E692","v":0},0,{"$f":"I692/E692","v":315},86308.64,86308.64]
["267","Прайс\nТех. часть ТЕР27. Автомобильные дороги, Приложение 27.3, п. 3.8а","Бетон  В15, (с учетом сечения k=0,86)","м3",13.88,{"$f":"G693/E693","v":0},0,{"$f":"I693/E693","v":8792.94},122045.99,{"$f":"G693+I693","v":122045.99}]
["268","ТССЦ-402-0004\nТех. часть ТЕР27. Автомобильные дороги, Приложение 27.3, п. 3.8б","Раствор готовый кладочный цементный марки: 100, (с учетом сечения k=0,33)","м3",5.4164999999999998E-2,{"$f":"G694/E694","v":0},0,{"$f":"I694/E694","v":5993.91},324.66000000000003,324.66000000000003]
[null,null,"Всего, руб. с НДС",null,null,null,{"$f":"SUM(G14:G694)","v":43052152.780000001},null,{"$f":"SUM(I14:I694)","v":26853774.949999999},{"$f":"SUM(J14:J694)","v":69905927.730000004}]
[null,null,"Всего, руб. без НДС",null,null,null,{"$f":"G695/1.2","v":35876793.979999997},null,{"$f":"I695/1.2","v":22378145.789999999},{"$f":"J695/1.2","v":58254939.780000001}]

{"sheet":"1632-2021-2.2.4,2.1.6-АР","index":8,"n_rows":161,"n_cols":10,"rows_kept":161,"cut":false,"hidden":false,"merged":[]}
[]
["Терминал по перевалке минеральных удобрений в морском торговом порту Усть-Луга. Береговые объекты терминала"]
["(наименование стройки)"]
["1632-2021-2.2.4,2.1.6-АР_07.04.023-П-01-02"]
["(локальная смета)"]
["на Архитектурные решения, 07.04.023 Пересыпная станция №4 (код SAP 01.02.004) код ГП 2.2.4"]
["(наименование работ и затрат, наименование объекта)"]
[null,"Основание:","1632-2021-2.2.4, 2.1.6-АР_2_0_RU_IFC"]
[]
["№ п/п","Обоснование","Наименование работ и затрат","Ед. изм.","Кол-во","Цена за ед.измерения работ, руб. с НДС","Всего, стоимость работ,руб. с НДС","Цена за ед.измерения материалов, руб. с НДС","Всего, стоимость материалов, руб. с НДС","Итого, руб. с НДС"]
["1","2","3","4","5",6,7,8,9,10]
["Раздел 2. Кровля",null,null,null,null,null,null,null,null,{"$f":"G12+I12","v":0}]
["Монтаж кровельного покрытия  из профнастила учтен в разделе КМ",null,null,null,null,null,null,null,null,0]
["1","ТЕР12-01-009-02","Устройство желобов: подвесных","100 м желобов",0.21,{"$f":"G14/E14","v":65794.52},13816.85,{"$f":"I14/E14","v":21890.48},4597,18413.849999999999]
[null,"101-0173","Гвозди проволочные оцинкованные для асбестоцементной кровли: 4,5х120 мм","т",null,null,null,null,null,0]
[null,"101-0788","Поковки оцинкованные, масса: 2,825 кг","т",null,null,null,null,null,0]
["2","ТЦ_12.1.01.00_78_7804606806_25.01.2024_02\nАналог ТССЦ-203-0960 5219,18/5114,28=2%","Желоб водосточный D185х3000","шт",7,{"$f":"G17/E17","v":0},0,{"$f":"I17/E17","v":1709.51},11966.56,11966.56]
["3","ТЦ_12.1.01.00_78_7804606806_25.01.2024_02\nАналог ТССЦ-301-5881 61,11/59,89=2%","Держатель желоба","шт",35,{"$f":"G18/E18","v":0},0,{"$f":"I18/E18","v":754.15},26395.39,26395.39]
["4","ТЕР12-01-012-01","Ограждение кровель перилами // прим. Устройство труб водосточных","100 м ограждения",1.22,{"$f":"G19/E19","v":16110.69},19655.04,{"$f":"I19/E19","v":402.7},491.3,20146.34]
[null,"101-1529","Электроды диаметром: 6 мм Э42","т",null,null,null,null,null,0]
[null,"101-1851","Резина прессованная","кг",null,null,null,null,null,0]
["5","ТЕР12-01-008-01","Устройство обделок на фасадах (наружные подоконники, пояски, балконы и др.): включая водосточные трубы, с изготовлением элементов труб// прим.","100 м2фасада (без вычета проемов)",12.48,{"$f":"G22/E22","v":27777.439999999999},346662.49,{"$f":"I22/E22","v":2212.63},27613.59,374276.08]
[null,"101-0195","Гвозди толевые круглые: 3,0х40 мм","т",null,null,null,null,null,0]
[null,"101-0788","Поковки оцинкованные, масса: 2,825 кг","т",null,null,null,null,null,0]
[null,"101-0795","Проволока канатная оцинкованная, диаметром: 3 мм","т",null,null,null,null,null,0]
["6","ТЕР12-01-008-02","Устройство обделок на фасадах (наружные подоконники, пояски, балконы и др.): без водосточных труб","100 м2фасада (без вычета проемов)",-12.48,{"$f":"G26/E26","v":10154.700000000001},-126730.62,{"$f":"I26/E26","v":164.84},-2057.16,-128787.78]
[null,"101-0195","Гвозди толевые круглые: 3,0х40 мм","т",null,null,null,null,null,0]
["7","ТЦ_12.1.01.00_78_7804606806_25.01.2024_02\nАналог ТССЦ-301-5867 217,71/213,27=2%","Труба водосточная D150х2000мм","шт",61,{"$f":"G28/E28","v":0},0,{"$f":"I28/E28","v":2084.17},127134.29,127134.29]
["8","ТЦ_12.1.01.00_78_7804606806_25.01.2024_02\nАналог ТССЦ-203-0960 5219,18/5114,28=2%","Колено гофрированное","шт",12,{"$f":"G29/E29","v":0},0,{"$f":"I29/E29","v":478.85},5746.25,5746.25]
["9","ТЦ_12.1.01.00_78_7804606806_25.01.2024_02\nАналог ТССЦ-115-0931  8,37/8,08=3%","Воронки выпускные D185/150","шт",6,{"$f":"G30/E30","v":0},0,{"$f":"I30/E30","v":808.07},4848.3999999999996,4848.3999999999996]
["10","ТЕР12-01-012-01","Ограждение кровель перилами // прим.","100 м ограждения",0.192,{"$f":"G31/E31","v":16131.41},3097.23,{"$f":"I31/E31","v":396.56},76.14,3173.37]
[null,"101-1529","Электроды диаметром: 6 мм Э42","т",null,null,null,null,null,0]
[null,"101-1851","Резина прессованная","кг",null,null,null,null,null,0]
["11","ТЦ_12.1.01.00_78_7804606806_25.01.2024_02\nАналог ТССЦ-101-7317  128,60/126,01=2%","Снегозадержатель трубчатый (  L=3000d в комплекте с креплением)","м",19.2,{"$f":"G34/E34","v":0},0,{"$f":"I34/E34","v":2407.36},46221.38,46221.38]
["12","ТЕР12-01-012-01","Ограждение кровель перилами","100 м ограждения",0.79,{"$f":"G35/E35","v":16113.13},12729.37,{"$f":"I35/E35","v":401.87},317.48,13046.85]
[null,"101-1529","Электроды диаметром: 6 мм Э42","т",null,null,null,null,null,0]
[null,"101-1851","Резина прессованная","кг",null,null,null,null,null,0]
["13",null,"Ограждение h=600 мм. ( учтено в разделе КМ)","м",79,{"$f":"G38/E38","v":0},0,{"$f":"I38/E38","v":0},0,0]
["Раздел 3. Окна",null,null,null,null,null,null,null,null,0]
["14","ТЕР10-01-034-03","Установка в жилых и общественных зданиях оконных блоков из ПВХ профилей: поворотных (откидных, поворотно-откидных) с площадью проема до 2 м2 одностворчатых","100 м2 проемов",0.14000000000000001,{"$f":"G40/E40","v":468380.71},65573.3,{"$f":"I40/E40","v":156174.79},21864.47,87437.77]
[null,"101-2052","Лента бутиловая","м",null,null,null,null,null,0]
[null,"101-2054","Лента бутиловая диффузионная","м",null,null,null,null,null,0]
[null,"101-2388","Герметик пенополиуретановый (пена монтажная) типа Makrofleks, Soudal в баллонах по 750 мл","шт.",null,null,null,null,null,0]
[null,"101-2789","Лента ПСУЛ","10 м",null,null,null,null,null,0]
[null,"101-4173","Дюбели монтажные 10х130 (10х132, 10х150) мм","10 шт.",null,null,null,null,null,0]
[null,"102-0303","Клинья пластиковые монтажные","100 шт.",null,null,null,null,null,0]
["15","ТЦ_07.1.02.00_78_7840318754_30.01.2024_02\nАналог ТССЦ-203-0978  4253,53/4168,26=2%","Оконный блок  1000х1400","шт",10,{"$f":"G47/E47","v":0},0,{"$f":"I47/E47","v":13609.7},136097,136097]
["16","ТЕР15-01-070-01","Облицовка: оконных проемов в наружных стенах откосной планкой из оцинкованной стали с полимерным покрытием с устройством водоотлива оконного из оцинкованной стали с полимерным покрытием","1 м2 проемов",14,{"$f":"G48/E48","v":3276.7},45873.73,{"$f":"I48/E48","v":1423.84},19933.73,65807.460000000006]
[null,"101-1691","Шурупы-саморезы 4,2х16 мм","100 шт.",null,null,null,null,null,0]
[null,"101-2409","Аквилон из оцинкованной стали с полимерным покрытием","п.м",null,null,null,null,null,0]
[null,"101-2410","Откосная планка шириной 250 мм из оцинкованной стали с полимерным покрытием","п.м",null,null,null,null,null,0]
[null,"101-2411","Водоотлив оконный шириной планки 250 мм из оцинкованной стали с полимерным покрытием","п.м",null,null,null,null,null,0]
["Раздел 4. Дверные проемы",null,null,null,null,null,null,null,null,0]
["17","ТЕР09-04-012-01","Установка металлических дверных блоков в готовые проемы","1 м2 проема",18.899999999999999,{"$f":"G54/E54","v":6003.16},113459.66,{"$f":"I54/E54","v":327.67},6193.02,119652.68]
[null,"101-1513","Электроды диаметром: 4 мм Э42","т",null,null,null,null,null,0]
[null,"101-1921","Пена монтажная: для герметизации стыков в баллончике емкостью 0,85 л","шт.",null,null,null,null,null,0]
[null,"204-0062","Детали закладные и накладные изготовленные: без применения сварки, гнутья, сверления (пробивки) отверстий поставляемые отдельно","т",null,null,null,null,null,0]
["18","ТССЦ-203-8146","Блок дверной стальной внутренний однопольный ДСВ, площадь 2,1 м2 (ГОСТ 31173-2003) // прим. утепленный ( п.1, п.2)","м2",6.3,{"$f":"G58/E58","v":0},0,{"$f":"I58/E58","v":17779.849999999999},112013.04,112013.04]
["19","ТССЦ-101-0892","Скобяные изделия при заполнении отдельными элементами дверей входных в здание: однопольных","компл.",9,{"$f":"G59/E59","v":0},0,{"$f":"I59/E59","v":1049.33},9443.9599999999991,9443.9599999999991]
["20","ТЕР09-04-012-02","Установка дверного доводчика к металлическим дверям","1 шт.",3,{"$f":"G60/E60","v":2614.06},7842.19,{"$f":"I60/E60","v":11.01},33.04,7875.23]
[null,"101-1513","Электроды диаметром: 4 мм Э42","т",null,null,null,null,null,0]
[null,"101-1845","Винты самонарезающие: с уплотнительной прокладкой 4,8х35 мм","100 шт.",null,null,null,null,null,0]
["21","ТССЦ-101-0961","Закрыватель дверной гидравлический рычажный в алюминиевом корпусе","шт.",3,{"$f":"G63/E63","v":0},0,{"$f":"I63/E63","v":4746.88},14240.64,14240.64]
["22","ТССЦ-101-6976","Замок электромагнитный универсальный сдвиговый AL-400S","шт.",3,{"$f":"G64/E64","v":0},0,{"$f":"I64/E64","v":14108.95},42326.86,42326.86]
["23","ТЦ_07.1.01.03_78_7841375755_25.01.2024_02\nАналог ТССЦ-203-8123  2466,49/2414,02=2%","Дверь стальная наружная 1000х2100     ( п.3, п. 3/1)","шт",6,{"$f":"G65/E65","v":0},0,{"$f":"I65/E65","v":25965.86},155795.14000000001,155795.14000000001]
["24","ТЕР09-04-013-01","Установка противопожарных дверей: однопольных глухих","1 м2 проема",23.1,{"$f":"G66/E66","v":5120.13},118275.01,{"$f":"I66/E66","v":675.06},15593.88,133868.89000000001]
[null,"101-1513","Электроды диаметром: 4 мм Э42","т",null,null,null,null,null,0]
[null,"101-1929","Болты анкерные","т",null,null,null,null,null,0]
[null,"101-3661","Пена монтажная: противопожарная полиуретановая NULLIFIRE (0,88 л)","шт.",null,null,null,null,null,0]
["25","ТЦ_07.1.01.03_78_7841375755_25.01.2024_02\nАналог ТССЦ-203-8118   2304,38/2255,09=2%","Дверь противопожарная металлическая: однопольная ДПС-01/30, размером 1000х2100 мм","шт",7,{"$f":"G70/E70","v":0},0,{"$f":"I70/E70","v":25965.86},181760.99,181760.99]
["26","ТЦ_07.1.01.03_78_7841375755_25.01.2024_02\nАналог ТССЦ-203-8123   2466,49/2414,02=2%","Дверь противопожарная металлическая: однопольная ДПС-01/60, размером 1000х2100 мм","шт",4,{"$f":"G71/E71","v":0},0,{"$f":"I71/E71","v":25965.86},103863.42,103863.42]
["Раздел 5. Полы ( Экспликация полов. Лист 2)",null,null,null,null,null,null,null,null,0]
["Тип 1.  S=62,87 м2",null,null,null,null,null,null,null,null,0]
["27","ТЕР11-01-009-01","Устройство тепло- и звукоизоляции сплошной из плит: или матов минераловатных или стекловолокнистых","100 м2 изолируемой поверхности",0.62870000000000004,{"$f":"G74/E74","v":67011.37},42130.05,{"$f":"I74/E74","v":25130.13},15799.31,57929.36]
[null,"104-0013","Маты прошивные из минеральной ваты: без обкладок М-125 (ГОСТ 21880-86), толщина 40 мм","м3",null,null,null,null,null,{"$f":"G75+I75","v":0}]
["28","ТЕР11-01-050-01","Устройство пароизоляции из полиэтиленовой пленки в один слой насухо","100 м2 поверхности",0.62870000000000004,{"$f":"G76/E76","v":7476.43},4700.43,{"$f":"I76/E76","v":19004.12},11947.89,16648.32]
[null,"113-0324","Пленка полиэтиленовая толщиной: 0,2-0,5 мм","м2",null,null,null,null,null,0]
["29","ТЕР11-01-011-03","Устройство стяжек: бетонных толщиной 20 мм","100 м2 стяжки",0.62870000000000004,{"$f":"G78/E78","v":83764.78},52662.92,{"$f":"I78/E78","v":95.98},60.34,52723.26]
[null,"411-0001","Вода","м3",null,null,null,null,null,0]
["30","ТЕР11-01-011-04","Устройство стяжек: на каждые 5 мм изменения толщины стяжки добавлять или исключать к расценке 11-01-011-03 // до толщ. 50 мм","100 м2 стяжки",0.62870000000000004,{"$f":"G80/E80","v":9679.15},6085.28,{"$f":"I80/E80","v":0},0,6085.28]
["31","ТЦ_59.1.04.01_47_4705078395_08.02.2024_02\nАналог ТССЦ-401-0008  699,49/623,42=2%","Бетон  В22,5","м3",3.206,{"$f":"G81/E81","v":0},0,{"$f":"I81/E81","v":5088.01},16312.16,16312.16]
["32","ТЕР06-01-015-10","Армирование подстилающих слоев и набетонок","1 т",0.1099,{"$f":"G82/E82","v":27724.75},3046.95,{"$f":"I82/E82","v":3006.46},330.41,3377.36]
[null,"101-0816","Проволока светлая диаметром: 1,1 мм","т",null,null,null,null,null,0]
["33","ТЦ_08.4.02.05_66_6686134976_08.02.2024_02\nАналог ТССЦ-101-3891 21,17/20,58=2%","Сетка арм. 100х100 4Вр1","м2",62.87,{"$f":"G84/E84","v":0},0,{"$f":"I84/E84","v":116.08},7297.73,7297.73]
["34","ТЕР11-01-020-03","Устройство покрытий поливинилацетатных: толщиной 3 мм // прим. покрытие полимерное","100 м2 покрытия",0.62870000000000004,{"$f":"G85/E85","v":180030.65},113185.27,{"$f":"I85/E85","v":147312.14000000001},92615.14,205800.41]
[null,"101-0430","Краски масляные и алкидные земляные, готовые к применению: сурик железный МА-15, ПФ-14","т",null,null,null,null,null,0]
[null,"101-0433","Краски масляные и алкидные земляные, готовые к применению: охра МА-15","т",null,null,null,null,null,0]
[null,"101-1305","Портландцемент общестроительного назначения бездобавочный, марки: 400","т",null,null,null,null,null,0]
[null,"101-1591","Смола каменноугольная для дорожного строительства","т",null,null,null,null,null,0]
[null,"101-2293","Кислота ортофосфорная: техническая, сорт I","т",null,null,null,null,null,0]
[null,"101-2358","Дисперсия поливинилацетатная непластифицированная марки Д50Н","кг",null,null,null,null,null,0]
[null,"113-0306","Маршалит","т",null,null,null,null,null,0]
[null,"408-0122","Песок природный для строительных: работ средний","м3",null,null,null,null,null,0]
[null,"411-0001","Вода","м3",null,null,null,null,null,0]
["Тип 1.1  S=26,1м2",null,null,null,null,null,null,null,null,0]
["35","ТЕР11-01-009-01","Устройство тепло- и звукоизоляции сплошной из плит: или матов минераловатных или стекловолокнистых","100 м2 изолируемой поверхности",0.26100000000000001,{"$f":"G96/E96","v":67012.03},17490.14,{"$f":"I96/E96","v":25126.09},6557.91,24048.05]
[null,"104-0013","Маты прошивные из минеральной ваты: без обкладок М-125 (ГОСТ 21880-86), толщина 40 мм","м3",null,null,null,null,null,0]
["36","ТЕР11-01-050-01","Устройство пароизоляции из полиэтиленовой пленки в один слой насухо","100 м2 поверхности",0.26100000000000001,{"$f":"G98/E98","v":7469},1949.41,{"$f":"I98/E98","v":19005.560000000001},4960.45,6909.86]
[null,"113-0324","Пленка полиэтиленовая толщиной: 0,2-0,5 мм","м2",null,null,null,null,null,0]
["37","ТЕР11-01-011-03","Устройство стяжек: бетонных толщиной 20 мм","100 м2 стяжки",0.26100000000000001,{"$f":"G100/E100","v":83766.44},21863.040000000001,{"$f":"I100/E100","v":93.56},24.42,21887.46]
[null,"411-0001","Вода","м3",null,null,null,null,null,0]
["38","ТЕР11-01-011-04","Устройство стяжек: на каждые 5 мм изменения толщины стяжки добавлять или исключать к расценке 11-01-011-03","100 м2 стяжки",0.26100000000000001,{"$f":"G102/E102","v":14525.25},3791.09,{"$f":"I102/E102","v":0},0,3791.09]
["39","ТЦ_59.1.04.01_47_4705078395_08.02.2024_02\nАналог ТССЦ-401-0008  699,49/623,42=2%","Бетон  В22,5","м3",1.73,{"$f":"G103/E103","v":0},0,{"$f":"I103/E103","v":5087.75},8801.81,8801.81]
["40","ТЕР06-01-015-10","Армирование подстилающих слоев и набетонок","1 т",4.5675E-2,{"$f":"G104/E104","v":27677.5},1264.17,{"$f":"I104/E104","v":3019.38},137.91,1402.08]
[null,"101-0816","Проволока светлая диаметром: 1,1 мм","т",null,null,null,null,null,0]
["41","ТЦ_08.4.02.05_66_6686134976_08.02.2024_02\nАналог ТССЦ-101-3891 21,17/20,58=2%","Сетка арм. 100х100 4Вр1","м2",26.1,{"$f":"G106/E106","v":0},0,{"$f":"I106/E106","v":116.08},3029.71,3029.71]
["42","ТЕР11-01-020-03","Устройство покрытий поливинилацетатных: толщиной 3 мм // прим. покрытие полимерное","100 м2 покрытия",0.26100000000000001,{"$f":"G107/E107","v":180038.08},46989.94,{"$f":"I107/E107","v":147310.88},38448.14,85438.080000000002]
[null,"101-0430","Краски масляные и алкидные земляные, готовые к применению: сурик железный МА-15, ПФ-14","т",null,null,null,null,null,0]
[null,"101-0433","Краски масляные и алкидные земляные, готовые к применению: охра МА-15","т",null,null,null,null,null,0]
[null,"101-1305","Портландцемент общестроительного назначения бездобавочный, марки: 400","т",null,null,null,null,null,0]
[null,"101-1591","Смола каменноугольная для дорожного строительства","т",null,null,null,null,null,0]
[null,"101-2293","Кислота ортофосфорная: техническая, сорт I","т",null,null,null,null,null,0]
[null,"101-2358","Дисперсия поливинилацетатная непластифицированная марки Д50Н","кг",null,null,null,null,null,0]
[null,"113-0306","Маршалит","т",null,null,null,null,null,0]
[null,"408-0122","Песок природный для строительных: работ средний","м3",null,null,null,null,null,0]
[null,"411-0001","Вода","м3",null,null,null,null,null,0]
["Тип 2.  S=521м2",null,null,null,null,null,null,null,null,0]
["43","ТЕР11-01-011-03","Устройство стяжек: бетонных толщиной 20 мм","100 м2 стяжки",5.21,{"$f":"G118/E118","v":83768.100000000006},436431.81,{"$f":"I118/E118","v":94.02},489.87,436921.68]
[null,"411-0001","Вода","м3",null,null,null,null,null,0]
["44","ТЕР11-01-011-04","Устройство стяжек: на каждые 5 мм изменения толщины стяжки добавлять или исключать к расценке 11-01-011-03","100 м2 стяжки",5.21,{"$f":"G120/E120","v":3226.34},16809.21,{"$f":"I120/E120","v":0},0,16809.21]
["45","ТЦ_59.1.04.01_47_4705078395_08.02.2024_02\nАналог ТССЦ-401-0008  699,49/623,42=2%","Бетон  В22,5","м3",15.943,{"$f":"G121/E121","v":0},0,{"$f":"I121/E121","v":5087.84},81115.47,81115.47]
["46","ТЕР11-01-020-03","Устройство покрытий поливинилацетатных: толщиной 3 мм // прим. покрытие полимерное","100 м2 покрытия",5.21,{"$f":"G122/E122","v":181832.69},947348.29,{"$f":"I122/E122","v":147311.84},767494.68,1714842.97]
[null,"101-0430","Краски масляные и алкидные земляные, готовые к применению: сурик железный МА-15, ПФ-14","т",null,null,null,null,null,0]
[null,"101-0433","Краски масляные и алкидные земляные, готовые к применению: охра МА-15","т",null,null,null,null,null,0]
[null,"101-1305","Портландцемент общестроительного назначения бездобавочный, марки: 400","т",null,null,null,null,null,0]
[null,"101-1591","Смола каменноугольная для дорожного строительства","т",null,null,null,null,null,0]
[null,"101-2293","Кислота ортофосфорная: техническая, сорт I","т",null,null,null,null,null,0]
[null,"101-2358","Дисперсия поливинилацетатная непластифицированная марки Д50Н","кг",null,null,null,null,null,0]
[null,"113-0306","Маршалит","т",null,null,null,null,null,0]
[null,"408-0122","Песок природный для строительных: работ средний","м3",null,null,null,null,null,0]
[null,"411-0001","Вода","м3",null,null,null,null,null,0]
["Тип 3.  S=188м2",null,null,null,null,null,null,null,null,0]
["47","ТЕР11-01-011-03","Устройство стяжек: бетонных толщиной 20 мм","100 м2 стяжки",1.82,{"$f":"G133/E133","v":92143.21},167700.64000000001,{"$f":"I133/E133","v":94.72},172.39,167873.03]
[null,"411-0001","Вода","м3",null,null,null,null,null,0]
["48","ТЕР11-01-011-04","Устройство стяжек: на каждые 5 мм изменения толщины стяжки добавлять или исключать к расценке 11-01-011-03","100 м2 стяжки",1.82,{"$f":"G135/E135","v":14518.75},26424.12,{"$f":"I135/E135","v":0},0,26424.12]
["49","ТЦ_59.1.04.01_47_4705078395_08.02.2024_02\nАналог ТССЦ-401-0008  699,49/623,42=2%","Бетон  В22,5","м3",12.067,{"$f":"G136/E136","v":0},0,{"$f":"I136/E136","v":5087.79},61394.35,61394.35]
["50","ТЕР06-01-015-10","Армирование подстилающих слоев и набетонок","1 т",0.31850000000000001,{"$f":"G137/E137","v":27716.39},8827.67,{"$f":"I137/E137","v":3008.45},958.19,9785.86]
[null,"101-0816","Проволока светлая диаметром: 1,1 мм","т",null,null,null,null,null,0]
["51","ТЦ_08.4.02.05_66_6686134976_08.02.2024_02\nАналог ТССЦ-101-3891 21,17/20,58=2%","Сетка арм. 100х100 4Вр1","м2",182,{"$f":"G139/E139","v":0},0,{"$f":"I139/E139","v":116.07},21124.639999999999,{"$f":"G139+I139","v":21124.639999999999}]
["52","ТЕР11-01-020-03","Устройство покрытий поливинилацетатных: толщиной 3 мм // прим. покрытие полимерное","100 м2 покрытия",1.82,{"$f":"G140/E140","v":196234.87},357147.46,{"$f":"I140/E140","v":147311.53},268106.98,625254.43999999994]
[null,"101-0430","Краски масляные и алкидные земляные, готовые к применению: сурик железный МА-15, ПФ-14","т",null,null,null,null,null,0]
[null,"101-0433","Краски масляные и алкидные земляные, готовые к применению: охра МА-15","т",null,null,null,null,null,0]
[null,"101-1305","Портландцемент общестроительного назначения бездобавочный, марки: 400","т",null,null,null,null,null,0]
[null,"101-1591","Смола каменноугольная для дорожного строительства","т",null,null,null,null,null,0]
[null,"101-2293","Кислота ортофосфорная: техническая, сорт I","т",null,null,null,null,null,0]
[null,"101-2358","Дисперсия поливинилацетатная непластифицированная марки Д50Н","кг",null,null,null,null,null,0]
[null,"113-0306","Маршалит","т",null,null,null,null,null,0]
[null,"408-0122","Песок природный для строительных: работ средний","м3",null,null,null,null,null,0]
[null,"411-0001","Вода","м3",null,null,null,null,null,0]
["Раздел 6. Отделка",null,null,null,null,null,null,null,null,0]
["Цоколь",null,null,null,null,null,null,null,null,0]
["53","ТЕР11-01-015-07","Шлифовка бетонных или металлоцементных покрытий // прим.","100 м2 покрытия",0.34110000000000001,{"$f":"G152/E152","v":189576.14},64664.42,{"$f":"I152/E152","v":181.09},61.77,64726.19]
[null,"101-2109","Карборунд","кг",null,null,null,null,null,0]
[null,"411-0001","Вода","м3",null,null,null,null,null,0]
["Окраска конструкций стен и потолков из профлиста, учтена в сметах к разделу КМ",null,null,null,null,null,null,null,null,0]
["Раздел 7. Перевозка",null,null,null,null,null,null,null,null,0]
["Товарный бетон - 62 км. ООО \"КДСК\"",null,null,null,null,null,null,null,null,0]
["54",null,"Товарный бетон","т",80.718000000000004,{"$f":"G158/E158","v":0},0,{"$f":"I158/E158","v":0},0,0]
["55","ТССЦпг-03-33-01-032","Перевозка бетонных смесей и строительных растворов, готовых к употреблению, автобетоносмесителем 6 м3: до 32 км; класс груза 1","1 т груза",80.718000000000004,{"$f":"G159/E159","v":0},0,{"$f":"I159/E159","v":2601.84},210015.29,210015.29]
[null,null,"Всего, руб. с НДС",null,null,null,{"$f":"SUM(G13:G159)","v":2960766.56},null,{"$f":"SUM(I13:I159)","v":2689766.77},{"$f":"SUM(J13:J159)","v":5650533.3300000001}]
[null,null,"Всего, руб. без НДС",null,null,null,{"$f":"G160/1.2","v":2467305.4700000002},null,{"$f":"I160/1.2","v":2241472.31},{"$f":"J160/1.2","v":4708777.78}]

{"sheet":"1632-2021-2.2.5,2.1.13 -АР","index":9,"n_rows":221,"n_cols":10,"rows_kept":221,"cut":false,"hidden":false,"merged":[]}
[]
["Терминал по перевалке минеральных удобрений в морском торговом порту Усть-Луга. Береговые объекты терминала"]
["(наименование стройки)"]
["1632-2021-2.2.5,2.1.13-АР_07.04.024_07.04.052-П-00-01"]
["(локальная смета)"]
["на Архитектурные решения, 07.04.024 Пересыпная станция №5 (код SAP 01.02.019) код ГП 2.2.5\n07.04.052 Конвейерная галерея №13 (код SAP 01.02.009) код ГП 2.1.13"]
["(наименование работ и затрат, наименование объекта)"]
[null,"Основание:","1632-2021-2.2.5,2.1.13-АР  07.04.024_07.04.052-П-00-00"]
[]
["№ п/п","Обоснование","Наименование работ и затрат","Ед. изм.","Кол-во","Цена за ед.измерения работ, руб. с НДС","Всего, стоимость работ,руб. с НДС","Цена за ед.измерения материалов, руб. с НДС","Всего, стоимость материалов, руб. с НДС","Итого, руб. с НДС"]
["1","2","3","4","5",6,7,8,9,10]
["Раздел 2. Кровля"]
["Устройство кровли из профлиста см. в разделе КМ"]
["1","ТЕР12-01-009-02","Устройство желобов: подвесных","100 м желобов",0.74,{"$f":"G14/E14","v":65798.42},48690.83,{"$f":"I14/E14","v":21888.16},16197.24,{"$f":"G14+I14","v":64888.07}]
[null,"101-0173","Гвозди проволочные оцинкованные для асбестоцементной кровли: 4,5х120 мм","т",null,null,null,null,null,0]
[null,"101-0788","Поковки оцинкованные, масса: 2,825 кг","т",null,null,null,null,null,0]
["2","ТЦ_12.1.01.00_78_7804606806_25.01.2024_02\nАналог  ТССЦ-101-5465  31,79/31,06=2%","Желоб водосточный D185х3000","шт",25,{"$f":"G17/E17","v":0},0,{"$f":"I17/E17","v":1709.45},42736.28,42736.28]
["3","ТЦ_12.1.01.00_78_7804606806_25.01.2024_02\nАналог  ТССЦ-101-5466  4,57/4,46=2%","Держатель желоба","шт",123,{"$f":"G18/E18","v":0},0,{"$f":"I18/E18","v":754.15},92760.24,92760.24]
["4","ТЕР12-01-012-01","Ограждение кровель перилами // прим. Устройство труб водосточных","100 м ограждения",1.1599999999999999,{"$f":"G19/E19","v":16110.54},18688.23,{"$f":"I19/E19","v":402.48},466.88,19155.11]
[null,"101-1529","Электроды диаметром: 6 мм Э42","т",null,null,null,null,null,0]
[null,"101-1851","Резина прессованная","кг",null,null,null,null,null,0]
["5","ТЕР12-01-008-01","Устройство обделок на фасадах (наружные подоконники, пояски, балконы и др.): включая водосточные трубы, с изготовлением элементов труб// прим.","100 м2фасада (без вычета проемов)",19.532,{"$f":"G22/E22","v":27777.31},542546.32999999996,{"$f":"I22/E22","v":2212.73},43218.96,585765.29]
[null,"101-0195","Гвозди толевые круглые: 3,0х40 мм","т",null,null,null,null,null,0]
[null,"101-0788","Поковки оцинкованные, масса: 2,825 кг","т",null,null,null,null,null,0]
[null,"101-0795","Проволока канатная оцинкованная, диаметром: 3 мм","т",null,null,null,null,null,0]
["6","ТЦ_12.1.01.00_78_7804606806_25.01.2024_02\nАналог ТССЦ-301-5867 217,71/213,27=2%","Труба водосточная D150х2000мм","шт",58,{"$f":"G26/E26","v":0},0,{"$f":"I26/E26","v":2084.1799999999998},120882.37,120882.37]
["7","ТЦ_12.1.01.00_78_7804606806_25.01.2024_02\nАналог  ТССЦ-101-5466  4,57/4,46=2%","Крепление трубы","шт",193,{"$f":"G27/E27","v":0},0,{"$f":"I27/E27","v":314.88},60770.879999999997,60770.879999999997]
["8","ТЦ_12.1.01.00_78_7804606806_25.01.2024_02\nАналог ТССЦ-115-0931  8,37/8,08=3%","Воронки выпускные D185/150","шт",9,{"$f":"G28/E28","v":0},0,{"$f":"I28/E28","v":807.99},7271.88,7271.88]
["9","ТЕР12-01-012-01","Ограждение кровель перилами // прим.","100 м ограждения",0.71,{"$f":"G29/E29","v":16113.77},11440.78,{"$f":"I29/E29","v":400.62},284.44,11725.22]
[null,"101-1529","Электроды диаметром: 6 мм Э42","т",null,null,null,null,null,0]
[null,"101-1851","Резина прессованная","кг",null,null,null,null,null,0]
["10","ТЦ_12.1.01.00_78_7804606806_25.01.2024_02\nАналог ТССЦ-101-7317  128,60/126,01=2%","Снегозадержатель трубчатый (L=3 м. в комплекте с креплением)","шт",24,{"$f":"G32/E32","v":0},0,{"$f":"I32/E32","v":2407.38},57777.08,57777.08]
["Раздел 3. Окна",null,null,null,null,null,null,null,null,0]
["11","ТЕР10-01-034-03","Установка в жилых и общественных зданиях оконных блоков из ПВХ профилей: поворотных (откидных, поворотно-откидных) с площадью проема до 2 м2 одностворчатых","100 м2 проемов",0.154,{"$f":"G34/E34","v":468375.13},72129.77,{"$f":"I34/E34","v":156174.81},24050.92,96180.69]
[null,"101-2052","Лента бутиловая","м",null,null,null,null,null,0]
[null,"101-2054","Лента бутиловая диффузионная","м",null,null,null,null,null,0]
[null,"101-2388","Герметик пенополиуретановый (пена монтажная) типа Makrofleks, Soudal в баллонах по 750 мл","шт.",null,null,null,null,null,0]
[null,"101-2789","Лента ПСУЛ","10 м",null,null,null,null,null,0]
[null,"101-4173","Дюбели монтажные 10х130 (10х132, 10х150) мм","10 шт.",null,null,null,null,null,0]
[null,"102-0303","Клинья пластиковые монтажные","100 шт.",null,null,null,null,null,0]
["12","ТЦ_07.1.02.00_78_7840318754_30.01.2024_02\nАналог ТССЦ-203-0978  4253,53/4168,26=2%","ОК-1.  1000х1400","шт",11,{"$f":"G41/E41","v":0},0,{"$f":"I41/E41","v":12489.21},137381.29,137381.29]
["13","ТЕР10-01-034-05","Установка в жилых и общественных зданиях оконных блоков из ПВХ профилей: поворотных (откидных, поворотно-откидных) с площадью проема до 2 м2 двухстворчатых","100 м2 проемов",0.1008,{"$f":"G42/E42","v":408223.02},41148.879999999997,{"$f":"I42/E42","v":5418617.3600000003},546196.63,587345.51]
[null,"101-2052","Лента бутиловая","м",null,null,null,null,null,0]
[null,"101-2054","Лента бутиловая диффузионная","м",null,null,null,null,null,0]
[null,"101-2388","Герметик пенополиуретановый (пена монтажная) типа Makrofleks, Soudal в баллонах по 750 мл","шт.",null,null,null,null,null,0]
[null,"101-2789","Лента ПСУЛ","10 м",null,null,null,null,null,0]
[null,"101-4173","Дюбели монтажные 10х130 (10х132, 10х150) мм","10 шт.",null,null,null,null,null,0]
[null,"102-0303","Клинья пластиковые монтажные","100 шт.",null,null,null,null,null,0]
[null,"203-0991","Блок оконный пластиковый: двустворчатый, с глухой и поворотно-откидной створкой, однокамерным стеклопакетом (24 мм), площадью до 2 м2","м2",null,null,null,null,null,0]
["14","ТЦ_07.1.02.00_78_7840318754_30.01.2024_02\nАналог ТССЦ-203-0978  4253,53/4168,26=2%","ОК-2.  1200х1400","шт",11,{"$f":"G50/E50","v":0},0,{"$f":"I50/E50","v":15738.32},173121.51,173121.51]
["15","ТЕР10-01-034-01","Установка в жилых и общественных зданиях оконных блоков из ПВХ профилей: глухих с площадью проема до  2 м2","100 м2 проемов",1.6799999999999999E-2,{"$f":"G51/E51","v":371881.55},6247.61,{"$f":"I51/E51","v":2953759.52},49623.16,55870.77]
[null,"101-2052","Лента бутиловая","м",null,null,null,null,null,0]
[null,"101-2054","Лента бутиловая диффузионная","м",null,null,null,null,null,0]
[null,"101-2388","Герметик пенополиуретановый (пена монтажная) типа Makrofleks, Soudal в баллонах по 750 мл","шт.",null,null,null,null,null,0]
[null,"101-2789","Лента ПСУЛ","10 м",null,null,null,null,null,0]
[null,"101-4173","Дюбели монтажные 10х130 (10х132, 10х150) мм","10 шт.",null,null,null,null,null,0]
[null,"102-0303","Клинья пластиковые монтажные","100 шт.",null,null,null,null,null,0]
[null,"203-0938","Блок оконный пластиковый: глухой, одностворчатый с однокамерным стеклопакетом (24 мм), площадью до 2 м2","м2",null,null,null,null,null,0]
["16","ТЦ_07.1.02.00_78_7840318754_30.01.2024_02\nАналог ТССЦ-203-0978  4253,53/4168,26=2%","ОК-2/1.  1200х1400","шт",1,{"$f":"G59/E59","v":0},0,{"$f":"I59/E59","v":8556.16},8556.16,8556.16]
["17","ТЕР15-01-070-01","Облицовка: оконных проемов в наружных стенах откосной планкой из оцинкованной стали с полимерным покрытием с устройством водоотлива оконного из оцинкованной стали с полимерным покрытием","1 м2 проемов",27.16,{"$f":"G60/E60","v":3276.69},88995.01,{"$f":"I60/E60","v":1423.81},38670.81,127665.82]
[null,"101-1691","Шурупы-саморезы 4,2х16 мм","100 шт.",null,null,null,null,null,0]
[null,"101-2409","Аквилон из оцинкованной стали с полимерным покрытием","п.м",null,null,null,null,null,0]
[null,"101-2410","Откосная планка шириной 250 мм из оцинкованной стали с полимерным покрытием","п.м",null,null,null,null,null,0]
[null,"101-2411","Водоотлив оконный шириной планки 250 мм из оцинкованной стали с полимерным покрытием","п.м",null,null,null,null,null,0]
["Раздел 4. Дверные проемы и ворота",null,null,null,null,null,null,null,null,0]
["18","ТЕР09-04-012-01","Установка металлических дверных блоков в готовые проемы","1 м2 проема",42.34,{"$f":"G66/E66","v":6003.16},254173.77,{"$f":"I66/E66","v":327.69},13874.31,268048.08]
[null,"101-1513","Электроды диаметром: 4 мм Э42","т",null,null,null,null,null,0]
[null,"101-1921","Пена монтажная: для герметизации стыков в баллончике емкостью 0,85 л","шт.",null,null,null,null,null,0]
[null,"204-0062","Детали закладные и накладные изготовленные: без применения сварки, гнутья, сверления (пробивки) отверстий поставляемые отдельно","т",null,null,null,null,null,0]
["19","ТЦ_07.1.01.03_78_7810347194_06.02.2024_02\nАналог ТССЦ-203-8123  2466,49/2414,02=2%","Дверь стальная  наружная утепленная 1200х2100 левого открывания","шт",2,{"$f":"G70/E70","v":0},0,{"$f":"I70/E70","v":29210.33},58420.66,58420.66]
["20","ТЦ_07.1.01.03_78_7810347194_06.02.2024_02\nАналог ТССЦ-203-8123  2466,49/2414,02=2%","Дверь стальная  наружная  1000х2100","шт",4,{"$f":"G71/E71","v":0},0,{"$f":"I71/E71","v":29209.97},116839.89,116839.89]
["21","ТЕР09-04-012-02","Установка дверного доводчика к металлическим дверям","1 шт.",6,{"$f":"G72/E72","v":2614.3000000000002},15685.82,{"$f":"I72/E72","v":10.78},64.650000000000006,15750.47]
[null,"101-1513","Электроды диаметром: 4 мм Э42","т",null,null,null,null,null,0]
[null,"101-1845","Винты самонарезающие: с уплотнительной прокладкой 4,8х35 мм","100 шт.",null,null,null,null,null,0]
["22","ТЕР09-04-013-01","Установка противопожарных дверей: однопольных глухих","1 м2 проема",27.3,{"$f":"G75/E75","v":5120.16},139780.34,{"$f":"I75/E75","v":675.03},18428.22,{"$f":"G75+I75","v":158208.56}]
[null,"101-1513","Электроды диаметром: 4 мм Э42","т",null,null,null,null,null,0]
[null,"101-1929","Болты анкерные","т",null,null,null,null,null,0]
[null,"101-3661","Пена монтажная: противопожарная полиуретановая NULLIFIRE (0,88 л)","шт.",null,null,null,null,null,0]
["23","ТЦ_07.1.01.03_78_7841375755_25.01.2024_02\nАналог  ТССЦ-203-8118   2304,38/2255,09=2%","Дверь противопожарная металлическая: однопольная ДПС-01/30, размером 1000х2100 мм  (левая, правая)","шт",5,{"$f":"G79/E79","v":0},0,{"$f":"I79/E79","v":25965.86},129829.28,129829.28]
["24","ТЦ_07.1.01.03_78_7841375755_25.01.2024_02\nАналог  ТССЦ-203-8123   2466,49/2414,02=2%","Дверь противопожарная металлическая: однопольная ДПС-01/60, размером 1000х2100 мм  (левая, правая)","шт",8,{"$f":"G80/E80","v":0},0,{"$f":"I80/E80","v":25965.86},207726.85,207726.85]
["25","ТЕР15-01-070-02","Облицовка: дверных проемов в наружных стенах откосной планкой из оцинкованной стали с полимерным покрытием с установкой наличников из оцинкованной стали с полимерным покрытием","1 м2 проемов",69.64,{"$f":"G81/E81","v":3593.9},250279.25,{"$f":"I81/E81","v":1660.71},115651.85,365931.1]
[null,"101-1691","Шурупы-саморезы 4,2х16 мм","100 шт.",null,null,null,null,null,0]
[null,"101-2409","Аквилон из оцинкованной стали с полимерным покрытием","п.м",null,null,null,null,null,0]
[null,"101-2410","Откосная планка шириной 250 мм из оцинкованной стали с полимерным покрытием","п.м",null,null,null,null,null,0]
[null,"101-2412","Наличники из оцинкованной стали с полимерным покрытием","п.м",null,null,null,null,null,0]
["Ворота",null,null,null,null,null,null,null,null,0]
["26","ТЕР09-04-011-01","Монтаж каркасов ворот большепролетных зданий, ангаров и др. без механизмов открывания","1 т конструкций",1.89,{"$f":"G87/E87","v":174277},329383.53000000003,{"$f":"I87/E87","v":8950.77},16916.95,346300.48]
[null,"101-0309","Канаты пеньковые пропитанные","т",null,null,null,null,null,0]
[null,"101-0324","Кислород технический: газообразный","м3",null,null,null,null,null,0]
[null,"101-0797","Проволока горячекатаная в мотках, диаметром 6,3-6,5 мм","т",null,null,null,null,null,0]
[null,"101-1019","Швеллеры № 40 из стали марки: Ст0","т",null,null,null,null,null,0]
[null,"101-1515","Электроды диаметром: 4 мм Э46","т",null,null,null,null,null,0]
[null,"101-1805","Гвозди строительные","т",null,null,null,null,null,0]
[null,"101-2278","Пропан-бутан, смесь техническая","кг",null,null,null,null,null,0]
[null,"101-2467","Растворитель марки: Р-4","т",null,null,null,null,null,0]
[null,"102-0023","Бруски обрезные хвойных пород длиной: 4-6,5 м, шириной 75-150 мм, толщиной 40-75 мм, I сорта","м3",null,null,null,null,null,0]
[null,"113-0021","Грунтовка: ГФ-021 красно-коричневая","т",null,null,null,null,null,0]
[null,"201-0756","Отдельные конструктивные элементы зданий и сооружений с преобладанием: горячекатаных профилей, средняя масса сборочной единицы от 0,1 до 0,5 т","т",null,null,null,null,null,0]
[null,"508-0097","Канат двойной свивки типа ТК, конструкции 6х19(1+6+12)+1 о.с., оцинкованный из проволок марки В, маркировочная группа: 1770 н/мм2, диаметром 5,5 мм","10 м",null,null,null,null,null,0]
["27","ТЕРм11-05-001-01","Механизм исполнительный, масса: до 20 кг","1 шт.",3,{"$f":"G100/E100","v":2196.5},6589.51,{"$f":"I100/E100","v":108.22},324.66000000000003,6914.17]
[null,"101-2039","Болты с гайками и шайбами оцинкованные, диаметр: 12 мм","кг",null,null,null,null,null,0]
[null,"999-9950","Вспомогательные ненормируемые ресурсы (2% от Оплаты труда рабочих)","руб",null,null,null,null,null,0]
["28","ТЦ_07.1.01.03_78_7841375755_26.01.2024_02\nАналог  ТССЦ-201-0253  5403,70/5341,14=2%","Ворота распашные металлические, утепленные , с калиткой 1000х2100мм, открыванием наружу 3000х3000мм EI60  (76*9,0 м2)/1000","шт",1,{"$f":"G103/E103","v":0},0,{"$f":"I103/E103","v":186741.55},186741.55,186741.55]
["29","ТЦ_07.1.01.03_78_7841375755_26.01.2024_02\nАналог  ТССЦ-201-0253  5403,70/5341,14=2%","Ворота распашные металлические, с калиткой 1000х2100 мм, открыванием наружу 2600х4000 мм EI60   (62*10,4 м2)/1000","шт",1,{"$f":"G104/E104","v":0},0,{"$f":"I104/E104","v":211042.43},211042.43,211042.43]
["30","ТЦ_07.1.01.03_78_7841375755_26.01.2024_02\nАналог  ТССЦ-201-0253  5403,70/5341,14=2%","Ворота распашные металлические, с калиткой 1000х2100мм, открыванием наружу 3000х3000мм EI60  (62*9,0м2)/1000","шт",1,{"$f":"G105/E105","v":0},0,{"$f":"I105/E105","v":186741.55},186741.55,186741.55]
["Раздел 5. Полы",null,null,null,null,null,null,null,null,0]
["Тип 1.  S=167,1 м2",null,null,null,null,null,null,null,null,0]
["31","ТЕР26-01-039-01","Изоляция покрытий и перекрытий изделиями из волокнистых и зернистых материалов насухо","1 м3 изоляции",7.8536999999999999,{"$f":"G108/E108","v":24040.01},188803.02,{"$f":"I108/E108","v":0},0,188803.02]
["32","ТССЦ-104-0111","Плиты или маты теплоизоляционные","м3",8.48,{"$f":"G109/E109","v":0},0,{"$f":"I109/E109","v":4694.58},39810,39810]
["33","ТЕР11-01-050-01","Устройство пароизоляции из полиэтиленовой пленки в один слой насухо","100 м2 поверхности",1.671,{"$f":"G110/E110","v":7475.11},12490.91,{"$f":"I110/E110","v":19003.71},31755.200000000001,44246.11]
[null,"113-0324","Пленка полиэтиленовая толщиной: 0,2-0,5 мм","м2",null,null,null,null,null,0]
["34","ТЕР11-01-011-03","Устройство стяжек: бетонных толщиной 20 мм","100 м2 стяжки",1.671,{"$f":"G112/E112","v":83768.490000000005},139977.15,{"$f":"I112/E112","v":93.71},156.59,140133.74]
[null,"411-0001","Вода","м3",null,null,null,null,null,0]
["35","ТЕР11-01-011-04","Устройство стяжек: на каждые 5 мм изменения толщины стяжки добавлять или исключать к расценке 11-01-011-03 // до толщ. 50 мм","100 м2 стяжки",1.671,{"$f":"G114/E114","v":9680.25},16175.69,{"$f":"I114/E114","v":0},0,16175.69]
["36","ТЦ_59.1.04.01_47_4705078395_08.02.2024_02\nАналог ТССЦ-401-0008  699,49/623,42=2%","Бетон  В22,5","м3",8.5220000000000002,{"$f":"G115/E115","v":0},0,{"$f":"I115/E115","v":5087.8100000000004},43358.31,43358.31]
["37","ТЕР06-01-015-10","Армирование подстилающих слоев и набетонок","1 т",0.29199999999999998,{"$f":"G116/E116","v":27712.84},8092.15,{"$f":"I116/E116","v":3010.89},879.18,8971.33]
[null,"101-0816","Проволока светлая диаметром: 1,1 мм","т",null,null,null,null,null,0]
["38","ТЦ_08.4.02.05_66_6686134976_08.02.2024_02\nАналог ТССЦ-101-3891 21,17/20,58=2%","Сетка арм. 100х100 4Вр1","м2",167.1,{"$f":"G118/E118","v":0},0,{"$f":"I118/E118","v":116.07},19395.02,19395.02]
["39","ТЕР11-01-020-03","Устройство покрытий поливинилацетатных: толщиной 3 мм // прим. покрытие полимерное","100 м2 покрытия",1.671,{"$f":"G119/E119","v":180031.9},300833.3,{"$f":"I119/E119","v":147311.64000000001},246157.75,546991.05000000005]
[null,"101-0430","Краски масляные и алкидные земляные, готовые к применению: сурик железный МА-15, ПФ-14","т",null,null,null,null,null,0]
[null,"101-0433","Краски масляные и алкидные земляные, готовые к применению: охра МА-15","т",null,null,null,null,null,0]
[null,"101-1305","Портландцемент общестроительного назначения бездобавочный, марки: 400","т",null,null,null,null,null,0]
[null,"101-1591","Смола каменноугольная для дорожного строительства","т",null,null,null,null,null,0]
[null,"101-2293","Кислота ортофосфорная: техническая, сорт I","т",null,null,null,null,null,0]
[null,"101-2358","Дисперсия поливинилацетатная непластифицированная марки Д50Н","кг",null,null,null,null,null,0]
[null,"113-0306","Маршалит","т",null,null,null,null,null,0]
[null,"408-0122","Песок природный для строительных: работ средний","м3",null,null,null,null,null,0]
[null,"411-0001","Вода","м3",null,null,null,null,null,0]
["Тип 2.  S=399,75 м2",null,null,null,null,null,null,null,null,0]
["40","ТЕР11-01-011-03","Устройство стяжек: бетонных толщиной 20 мм","100 м2 стяжки",3.9975000000000001,{"$f":"G130/E130","v":83768},334862.58,{"$f":"I130/E130","v":94.15},376.38,335238.96000000002]
[null,"411-0001","Вода","м3",null,null,null,null,null,0]
["41","ТЕР11-01-011-04","Устройство стяжек: на каждые 5 мм изменения толщины стяжки добавлять или исключать к расценке 11-01-011-03 // до 100 мм","100 м2 стяжки",3.9975000000000001,{"$f":"G132/E132","v":25812.83},103186.8,{"$f":"I132/E132","v":0},0,103186.8]
["42","ТЦ_59.1.04.01_47_4705078395_08.02.2024_02\nАналог ТССЦ-401-0008  699,49/623,42=2%","Бетон  В22,5","м3",40.774999999999999,{"$f":"G133/E133","v":0},0,{"$f":"I133/E133","v":5087.84},207456.77,207456.77]
["43","ТЕР11-01-020-03","Устройство покрытий поливинилацетатных: толщиной 3 мм // прим. покрытие полимерное","100 м2 покрытия",3.9975000000000001,{"$f":"G134/E134","v":180031.84},719677.28,{"$f":"I134/E134","v":147312.01},588879.76,1308557.04]
[null,"101-0430","Краски масляные и алкидные земляные, готовые к применению: сурик железный МА-15, ПФ-14","т",null,null,null,null,null,0]
[null,"101-0433","Краски масляные и алкидные земляные, готовые к применению: охра МА-15","т",null,null,null,null,null,0]
[null,"101-1305","Портландцемент общестроительного назначения бездобавочный, марки: 400","т",null,null,null,null,null,0]
[null,"101-1591","Смола каменноугольная для дорожного строительства","т",null,null,null,null,null,0]
[null,"101-2293","Кислота ортофосфорная: техническая, сорт I","т",null,null,null,null,null,{"$f":"G139+I139","v":0}]
[null,"101-2358","Дисперсия поливинилацетатная непластифицированная марки Д50Н","кг",null,null,null,null,null,0]
[null,"113-0306","Маршалит","т",null,null,null,null,null,0]
[null,"408-0122","Песок природный для строительных: работ средний","м3",null,null,null,null,null,0]
[null,"411-0001","Вода","м3",null,null,null,null,null,0]
["Тип 3.  S=924,75 м2",null,null,null,null,null,null,null,null,0]
["44","ТЕР11-01-011-03","Устройство стяжек: бетонных толщиной 20 мм","100 м2 стяжки",9.2475000000000005,{"$f":"G145/E145","v":83767.990000000005},774644.45,{"$f":"I145/E145","v":93.98},869.12,775513.57]
[null,"411-0001","Вода","м3",null,null,null,null,null,0]
["45","ТЕР11-01-011-04","Устройство стяжек: на каждые 5 мм изменения толщины стяжки добавлять или исключать к расценке 11-01-011-03","100 м2 стяжки",9.2475000000000005,{"$f":"G147/E147","v":3226.69},29838.83,{"$f":"I147/E147","v":0},0,29838.83]
["46","ТЦ_59.1.04.01_47_4705078395_08.02.2024_02\nАналог ТССЦ-401-0008  699,49/623,42=2%","Бетон  В22,5","м3",28.297000000000001,{"$f":"G148/E148","v":0},0,{"$f":"I148/E148","v":5087.8500000000004},143970.79999999999,143970.79999999999]
["47","ТЕР11-01-020-03","Устройство покрытий поливинилацетатных: толщиной 3 мм // прим. покрытие полимерное","100 м2 покрытия",9.2475000000000005,{"$f":"G149/E149","v":180031.69},1664843.06,{"$f":"I149/E149","v":147312.1},1362268.65,3027111.71]
[null,"101-0430","Краски масляные и алкидные земляные, готовые к применению: сурик железный МА-15, ПФ-14","т",null,null,null,null,null,0]
[null,"101-0433","Краски масляные и алкидные земляные, готовые к применению: охра МА-15","т",null,null,null,null,null,0]
[null,"101-1305","Портландцемент общестроительного назначения бездобавочный, марки: 400","т",null,null,null,null,null,0]
[null,"101-1591","Смола каменноугольная для дорожного строительства","т",null,null,null,null,null,0]
[null,"101-2293","Кислота ортофосфорная: техническая, сорт I","т",null,null,null,null,null,0]
[null,"101-2358","Дисперсия поливинилацетатная непластифицированная марки Д50Н","кг",null,null,null,null,null,0]
[null,"113-0306","Маршалит","т",null,null,null,null,null,0]
[null,"408-0122","Песок природный для строительных: работ средний","м3",null,null,null,null,null,0]
[null,"411-0001","Вода","м3",null,null,null,null,null,0]
["Тип 4.  S=77,8 м2",null,null,null,null,null,null,null,null,0]
["48","ТЕР11-01-015-07","Шлифовка бетонных или металлоцементных покрытий // прим.","100 м2 покрытия",0.77800000000000002,{"$f":"G160/E160","v":191487.42},148977.21,{"$f":"I160/E160","v":179.11},139.35,149116.56]
[null,"101-2109","Карборунд","кг",null,null,null,null,null,0]
[null,"411-0001","Вода","м3",null,null,null,null,null,0]
["49","ТЕР11-01-015-08","Железнение цементных покрытий // прим.","100 м2 покрытия",0.77800000000000002,{"$f":"G163/E163","v":26260.639999999999},20430.78,{"$f":"I163/E163","v":537.33000000000004},418.04,20848.82]
[null,"101-1305","Портландцемент общестроительного назначения бездобавочный, марки: 400","т",null,null,null,null,null,0]
[null,"411-0001","Вода","м3",null,null,null,null,null,0]
["Раздел 6. Отделка",null,null,null,null,null,null,null,null,0]
["Цоколь",null,null,null,null,null,null,null,null,0]
["50","ТЕР11-01-015-07","Шлифовка бетонных или металлоцементных покрытий // прим. затирка поверхности цоколя","100 м2 покрытия",2.5880000000000001,{"$f":"G168/E168","v":191487.37},495569.32,{"$f":"I168/E168","v":179.85},465.45,496034.77]
[null,"101-2109","Карборунд","кг",null,null,null,null,null,0]
[null,"411-0001","Вода","м3",null,null,null,null,null,0]
["51","ТЕР15-04-015-02","Окраска фасадов с люлек с подготовкой поверхности: силикатная // прим.","100 м2 фасада",258.8,{"$f":"G171/E171","v":71765.100000000006},18572808.690000001,{"$f":"I171/E171","v":8107.43},2098203.5,20671012.190000001]
[null,"101-1757","Ветошь","кг",null,null,null,null,null,0]
[null,"101-1841","Краски силикатные зеленая и красная","т",null,null,null,null,null,0]
[null,"113-0043","Жидкость: гидрофобизирующая ГКЖ-10","т",null,null,null,null,null,0]
[null,"113-0368","Стекло жидкое калийное","т",null,null,null,null,null,0]
[null,"402-0083","Раствор готовый отделочный тяжелый,: цементно-известковый 1:1:6","м3",null,null,null,null,null,0]
[null,"409-0639","Пемза шлаковая (щебень пористый из металлургического шлака), марка 600, фракция 5-10 мм","м3",null,null,null,null,null,0]
[null,"411-0001","Вода","м3",null,null,null,null,null,0]
["Окраска конструкций стен и потолков из профлиста, учтена в сметах к разделу КМ",null,null,null,null,null,null,null,null,0]
["Раздел 7. Отмостка",null,null,null,null,null,null,null,null,0]
["52","ТЕР01-02-005-01","Уплотнение грунта пневматическими трамбовками, группа грунтов: 1-2","100 м3 уплотненного грунта",0.16439999999999999,{"$f":"G181/E181","v":32794.53},5391.42,{"$f":"I181/E181","v":0},0,5391.42]
["53","ТЕР27-04-001-04","Устройство подстилающих и выравнивающих слоев оснований: из щебня","100 м3 материала основания (в плотном теле)",0.32879999999999998,{"$f":"G182/E182","v":206243.61},67812.899999999994,{"$f":"I182/E182","v":187.86},61.77,67874.67]
[null,"411-0001","Вода","м3",null,null,null,null,null,0]
["54","ТССЦ-408-0015","Щебень из природного камня для строительных работ марка: 800, фракция 20-40 мм","м3",41.43,{"$f":"G184/E184","v":0},0,{"$f":"I184/E184","v":3394.18},140620.73000000001,140620.73000000001]
["55","ТЕР26-01-041-05","Изоляция изделиями из пенопласта насухо холодных поверхностей покрытий и перекрытий // прим.","1 м3 изоляции",5.48,{"$f":"G185/E185","v":21222.58},116299.74,{"$f":"I185/E185","v":0},0,116299.74]
["56","ТССЦ-104-0313","Плиты теплоизоляционные: из экструзионного вспененного полистирола ПЕНОПЛЭКС-45 // толщ. 50 мм","м3",5.64,{"$f":"G186/E186","v":0},0,{"$f":"I186/E186","v":17158.759999999998},96775.43,96775.43]
["57","ТЕР06-01-013-01","Устройство подливки толщиной  20 мм // прим. бетонное основание","100 м2 подливки под оборудование",1.0960000000000001,{"$f":"G187/E187","v":97759.61},107144.53,{"$f":"I187/E187","v":2743.36},3006.72,110151.25]
[null,"101-1805","Гвозди строительные","т",null,null,null,null,null,0]
[null,"102-0053","Доски обрезные хвойных пород длиной: 4-6,5 м, шириной 75-150 мм, толщиной 25 мм, III сорта","м3",null,null,null,null,null,0]
[null,"102-0061","Доски обрезные хвойных пород длиной: 4-6,5 м, шириной 75-150 мм, толщиной 44 мм и более, III сорта","м3",null,null,null,null,null,0]
["58","ТЕР06-01-013-02","На каждые 10 мм изменения толщины добавлять или исключать к расценке 06-01-013-01 // до 60 мм","100 м2 подливки под оборудование",1.0960000000000001,{"$f":"G191/E191","v":112072.8},122831.79,{"$f":"I191/E191","v":2680.45},2937.77,125769.56]
[null,"101-1805","Гвозди строительные","т",null,null,null,null,null,0]
[null,"102-0053","Доски обрезные хвойных пород длиной: 4-6,5 м, шириной 75-150 мм, толщиной 25 мм, III сорта","м3",null,null,null,null,null,0]
[null,"102-0061","Доски обрезные хвойных пород длиной: 4-6,5 м, шириной 75-150 мм, толщиной 44 мм и более, III сорта","м3",null,null,null,null,null,0]
["59","ТЦ_59.1.04.01_78_7806468968_26.06.2024_02\nАналог ТССЦ-401-0006  661,66/586,34=2%","Бетон  В15","м3",6.7080000000000002,{"$f":"G195/E195","v":0},0,{"$f":"I195/E195","v":4352.7299999999996},29198.12,29198.12]
["60","ТЕР06-01-015-10","Армирование подстилающих слоев и набетонок","1 т",0.38030000000000003,{"$f":"G196/E196","v":27718.880000000001},10541.49,{"$f":"I196/E196","v":3010.62},1144.94,11686.43]
[null,"101-0816","Проволока светлая диаметром: 1,1 мм","т",null,null,null,null,null,0]
["61","ТЦ_08.4.02.05_78_7816723705_16.02.2024_02\nАналог ТССЦ-101-3891 21,17/20,58=2%","Сетка арм. 100х100 6Вр1","м2",109.6,{"$f":"G198/E198","v":0},0,{"$f":"I198/E198","v":583.59},63961.48,63961.48]
["62","ТЕР11-01-019-01","Устройство покрытий асфальтобетонных: литых толщиной 25 мм","100 м2 покрытия",1.0960000000000001,{"$f":"G199/E199","v":60525.66},66336.12,{"$f":"I199/E199","v":18805.060000000001},20610.349999999999,86946.47]
[null,"101-0073","Битумы нефтяные строительные марки: БН-90/10","т",null,null,null,null,null,0]
[null,"101-0322","Керосин для технических целей марок КТ-1, КТ-2","т",null,null,null,null,null,0]
[null,"102-0085","Бруски обрезные хвойных пород длиной: 2-3,75 м, шириной 75-150 мм, толщиной 40-75 мм, III сорта","м3",null,null,null,null,null,0]
[null,"410-1020","Асфальт литой: для покрытий тротуаров","м3",null,null,null,null,null,{"$f":"G203+I203","v":0}]
["63","ТЕР27-06-011-01","Устройство швов расширения // прим.температурно-усадочный","1000 м2 покрытия",0.1096,{"$f":"G204/E204","v":13749.54},1506.95,{"$f":"I204/E204","v":3027.83},331.85,1838.8]
[null,"101-1556","Битумы нефтяные дорожные марки: БНД-60/90, БНД 90/130","т",null,null,null,null,null,0]
[null,"102-0137","Доски необрезные хвойных пород длиной: 2-3,75 м, все ширины, толщиной 32-40 мм, III сорта","м3",null,null,null,null,null,0]
["64","ТЕР06-01-068-03","Устройство деформационных швов в емкостных сооружениях с применением: герметика","100 м шва",1.0960000000000001,{"$f":"G207/E207","v":49430.31},54175.62,{"$f":"I207/E207","v":145888.37},159893.65,214069.27]
[null,"101-0198","Герметик марки: 51-Г-10","кг",null,null,null,null,null,0]
[null,"101-1701","Гермит (шнур диаметром 40 мм)","кг",null,null,null,null,null,0]
["65","ТЕР11-01-044-02","Нарезка швов в бетоне: с заполнением швов герметиком при устройстве полимерных наливных полов // прим.","100 м",43.84,{"$f":"G210/E210","v":37154.949999999997},1628873.02,{"$f":"I210/E210","v":743.48},32594.15,1661467.17]
[null,"101-0215","Герметик высыхающий марки 51-Г-13","кг",null,null,null,null,null,0]
["Раздел 8. Перевозка материалов",null,null,null,null,null,null,null,null,0]
["Перевозка материалов ( металл 140 км. ОП \"МКМ-СПб\")",null,null,null,null,null,null,null,null,0]
["66",null,"металлопрокат, трубопрокат и металлоконструкции","т",109.892,{"$f":"G214/E214","v":0},0,{"$f":"I214/E214","v":0},0,0]
["67","ТССЦпг-03-02-01-140","Перевозка строительных грузов (кроме массовых навалочных, перевозимых автомобилями-самосвалами, а также бетонных и железобетонных изделий, стеновых и перегородочных материалов, лесоматериалов круглых и пиломатериалов, включенных в таблицу 03-01), бортовым автомобилем грузоподъемностью 5 т, на расстояние до 140 км I класс груза","1 т груза",109.892,{"$f":"G215/E215","v":0},0,{"$f":"I215/E215","v":2312.63},254139.29,254139.29]
["68","ТССЦпг-01-01-02-015","Разгрузочные работы при автомобильных перевозках: металлических конструкций массой до 1 т","1 т груза",109.892,{"$f":"G216/E216","v":0},0,{"$f":"I216/E216","v":540.91},59442.06,59442.06]
["Товарный бетон - 62 км. ООО \"КДСК\"",null,null,null,null,null,null,null,null,0]
["69",null,"Товарный бетон","т",206.54,{"$f":"G218/E218","v":0},0,{"$f":"I218/E218","v":0},0,0]
["70","ТССЦпг-03-33-01-032","Перевозка бетонных смесей и строительных растворов, готовых к употреблению, автобетоносмесителем 6 м3: до 32 км; класс груза 1","1 т груза",206.54,{"$f":"G219/E219","v":0},0,{"$f":"I219/E219","v":3470.11},716716.53,716716.53]
[null,null,"Всего, руб. с НДС",null,null,null,{"$f":"SUM(G13:G219)","v":27537904.460000001},null,{"$f":"SUM(I13:I219)","v":9048564.2899999991},{"$f":"SUM(J13:J219)","v":36586468.75}]
[null,null,"Всего, руб. без НДС",null,null,null,{"$f":"G220/1.2","v":22948253.719999999},null,{"$f":"I220/1.2","v":7540470.2400000002},{"$f":"J220/1.2","v":30488723.960000001}]

{"sheet":"2-1632-2021-1.1,1.2,2.1.0-АР","index":10,"n_rows":228,"n_cols":10,"rows_kept":228,"cut":false,"hidden":false,"merged":[]}
[]
["Терминал по перевалке минеральных удобрений в морском торговом порту Усть-Луга. Береговые объекты терминала"]
["(наименование стройки)"]
["1632-2021-1.1,1.2,2.1.0-АР_07.02.011_П-00-01"]
["(локальная смета)"]
["на Архитектурные решения, 07.02.011 Здание трансбордера код ГП 1.2"]
["(наименование работ и затрат, наименование объекта)"]
[null,"Основание:","1632-2021-1.1,1.2,2.1.0-АР_2_0_RU_IFC"]
[]
["№ п/п","Обоснование","Наименование работ и затрат","Ед. изм.","Кол-во","Цена за ед.измерения работ, руб. с НДС","Всего, стоимость работ,руб. с НДС","Цена за ед.измерения материалов, руб. с НДС","Всего, стоимость материалов, руб. с НДС","Итого, руб. с НДС"]
["1","2","3","4","5",6,7,8,9,10]
["Учтено в разделе КМ"]
["Раздел 2. Перегородки. Трансбордер, (Спецификации по шифру 1632-2021-1.1,1.2,2.1.0-АР, Приложение к письму  ООО “Морстройтехнология” вх. №9С01-8000370513-MST-ETU-LET-ENG-00384 от 19.02.2024 г.)"]
["П1",null,null,null,null,null,null,null,null,{"$f":"G14+I14","v":0}]
["1","ТЕР10-05-002-02","Устройство перегородок из гипсокартонных листов (ГКЛ) по системе «КНАУФ» с одинарным металлическим каркасом и двухслойной обшивкой с обеих сторон (С 112): с одним дверным проемом","100 м2 перегородок (за вычетом проемов)",0.76849999999999996,{"$f":"G15/E15","v":296152.32000000001},227593.06,{"$f":"I15/E15","v":44059.54},33859.760000000002,261452.82]
[null,"101-2430","Грунтовка: «Тифенгрунд», КНАУФ","кг",null,null,null,null,null,{"$f":"G16+I16","v":0}]
[null,"101-2437","Шпаклевка «Унифлот», КНАУФ","кг",null,null,null,null,null,0]
[null,"101-2438","Шпаклевка «Фугенфюллер», КНАУФ","кг",null,null,null,null,null,0]
[null,"101-2474","Лента бумажная для повышения трещиностойкости стыков ГКЛ и ГВЛ","м",null,null,null,null,null,0]
[null,"101-2480","Лента разделительная для сопряжения потолка из ЛГК со стеной","100 м",null,null,null,null,null,0]
[null,"101-2485","Лента эластичная самоклеящаяся для профилей направляющих «Дихтунгсбанд»: 50/30000 мм","м",null,null,null,null,null,0]
[null,"101-2583","Шуруп самонарезающий: (TN) 3,5/25 мм","100 шт.",null,null,null,null,null,0]
[null,"101-2584","Шуруп самонарезающий: (TN) 3,5/35 мм","100 шт.",null,null,null,null,null,0]
[null,"101-2589","Дюбель-гвоздь 6/39 мм","100 шт.",null,null,null,null,null,0]
[null,"101-2590","Дюбель с шурупом 6/35 мм","100 шт.",null,null,null,null,null,0]
[null,"201-0786","Профиль направляющий: ПН-2 50/40/0,6","м",null,null,null,null,null,0]
[null,"201-0805","Профиль стоечный: ПС-2 50/50/0,6","м",null,null,null,null,null,0]
[null,"201-0812","Верхний уголок для крепления несущих элементов двери 100х123 мм","100 шт.",null,null,null,null,null,0]
[null,"201-0814","Нижний уголок для крепления несущих элементов двери 100х123 мм","100 шт.",null,null,null,null,null,0]
[null,"201-0832","Бруски деревянные: 50*50 мм","м",null,null,null,null,null,0]
["2","ТЦ_01.6.01.02_78_7802348846_13.02.2024_02\nАналог  ТССЦ-101-2512    18,24/17,33=2%","Лист ГКЛВ-А-УК-3000-1200-12,5 мм, (2 листа, hобщ.=25 мм)","м2",172.53,{"$f":"G31/E31","v":0},0,{"$f":"I31/E31","v":179.14},30907.63,30907.63]
["3","ТЦ_01.6.01.02_78_7802348846_22.02.2024_02\nАналог   ТССЦ-101-2509  11,37/12,56=2%","Лист ГКЛ-А-УК-3000-1200-12,5 мм, (2 листа, hобщ.=25 мм)","м2",172.53,{"$f":"G32/E32","v":0},0,{"$f":"I32/E32","v":179.77},31015.37,31015.37]
["4","ТССЦ-104-0150","Плиты из минеральной ваты: на синтетическом связующем М-75, (минеральные маты группы НГ с плотностью 40 кг/м³, h=75 мм, прим.)","м3",5.94,{"$f":"G33/E33","v":0},0,{"$f":"I33/E33","v":5850.24},34750.43,34750.43]
["П2",null,null,null,null,{"$f":"G34/E34","v":{"$error":"#DIV/0!"}},0,{"$f":"I34/E34","v":{"$error":"#DIV/0!"}},0,0]
["5","ТЕР10-05-002-02","Устройство перегородок из гипсокартонных листов (ГКЛ) по системе «КНАУФ» с одинарным металлическим каркасом и двухслойной обшивкой с обеих сторон (С 112): с одним дверным проемом","100 м2 перегородок (за вычетом проемов)",2.02,{"$f":"G35/E35","v":296152.21000000002},598227.47,{"$f":"I35/E35","v":44059.07},88999.32,687226.79]
[null,"101-2430","Грунтовка: «Тифенгрунд», КНАУФ","кг",null,null,null,null,null,0]
[null,"101-2437","Шпаклевка «Унифлот», КНАУФ","кг",null,null,null,null,null,0]
[null,"101-2438","Шпаклевка «Фугенфюллер», КНАУФ","кг",null,null,null,null,null,0]
[null,"101-2474","Лента бумажная для повышения трещиностойкости стыков ГКЛ и ГВЛ","м",null,null,null,null,null,0]
[null,"101-2480","Лента разделительная для сопряжения потолка из ЛГК со стеной","100 м",null,null,null,null,null,0]
[null,"101-2485","Лента эластичная самоклеящаяся для профилей направляющих «Дихтунгсбанд»: 50/30000 мм","м",null,null,null,null,null,0]
[null,"101-2583","Шуруп самонарезающий: (TN) 3,5/25 мм","100 шт.",null,null,null,null,null,0]
[null,"101-2584","Шуруп самонарезающий: (TN) 3,5/35 мм","100 шт.",null,null,null,null,null,0]
[null,"101-2589","Дюбель-гвоздь 6/39 мм","100 шт.",null,null,null,null,null,0]
[null,"101-2590","Дюбель с шурупом 6/35 мм","100 шт.",null,null,null,null,null,0]
[null,"201-0786","Профиль направляющий: ПН-2 50/40/0,6","м",null,null,null,null,null,0]
[null,"201-0805","Профиль стоечный: ПС-2 50/50/0,6","м",null,null,null,null,null,0]
[null,"201-0812","Верхний уголок для крепления несущих элементов двери 100х123 мм","100 шт.",null,null,null,null,null,0]
[null,"201-0814","Нижний уголок для крепления несущих элементов двери 100х123 мм","100 шт.",null,null,null,null,null,0]
[null,"201-0832","Бруски деревянные: 50*50 мм","м",null,null,null,null,null,0]
["6","ТЦ_01.6.01.02_77_9706006145_22.02.2024_02\nАналог  ТССЦ-101-2511   14,79/13,95=2%","Лист ГКЛВО-А-УК-3000-1200-12,5 мм, (2 листа, hобщ.=25 мм)","м2",906.98,{"$f":"G51/E51","v":0},0,{"$f":"I51/E51","v":302.43},274300,274300]
["7","ТССЦ-104-0150","Плиты из минеральной ваты: на синтетическом связующем М-75, (минеральные маты группы НГ с плотностью 40 кг/м³, h=100 мм, прим.)","м3",20.81,{"$f":"G52/E52","v":0},0,{"$f":"I52/E52","v":5850.35},121745.75,121745.75]
["П3",null,null,null,null,{"$f":"G53/E53","v":{"$error":"#DIV/0!"}},0,{"$f":"I53/E53","v":{"$error":"#DIV/0!"}},0,0]
["8","ТЕР10-05-010-02","Облицовка стен по системе «КНАУФ» по одинарному металлическому каркасу из ПН и ПС профилей гипсокартонными листами в два слоя (С 626): с дверным проемом","100 м2 стен (за вычетом проемов)",1.25,{"$f":"G54/E54","v":182946.73},228683.41,{"$f":"I54/E54","v":41139.69},51424.61,280108.02]
[null,"101-2430","Грунтовка: «Тифенгрунд», КНАУФ","кг",null,null,null,null,null,0]
[null,"101-2435","Клей «Перлфикс», КНАУФ","кг",null,null,null,null,null,0]
[null,"101-2437","Шпаклевка «Унифлот», КНАУФ","кг",null,null,null,null,null,0]
[null,"101-2438","Шпаклевка «Фугенфюллер», КНАУФ","кг",null,null,null,null,null,0]
[null,"101-2474","Лента бумажная для повышения трещиностойкости стыков ГКЛ и ГВЛ","м",null,null,null,null,null,0]
[null,"101-2480","Лента разделительная для сопряжения потолка из ЛГК со стеной","100 м",null,null,null,null,null,0]
[null,"101-2486","Лента эластичная самоклеящаяся для профилей направляющих «Дихтунгсбанд»: 70/30000 мм","м",null,null,null,null,null,0]
[null,"101-2583","Шуруп самонарезающий: (TN) 3,5/25 мм","100 шт.",null,null,null,null,null,0]
[null,"101-2584","Шуруп самонарезающий: (TN) 3,5/35 мм","100 шт.",null,null,null,null,null,0]
[null,"101-2590","Дюбель с шурупом 6/35 мм","100 шт.",null,null,null,null,null,0]
[null,"201-0793","Профиль направляющий: ПН-4 75/40/0,6","м",null,null,null,null,null,0]
[null,"201-0807","Профиль стоечный: ПС-4 75/50/0,6","м",null,null,null,null,null,0]
[null,"201-0834","Бруски деревянные: 75*50 мм","м",null,null,null,null,null,0]
["9","ТЦ_01.6.01.02_78_7802348846_22.02.2024_02\nАналог  ТССЦ-101-2512    18,24/17,33=2%","Лист ГКЛ-А-УК-3000-1200-12,5 мм, (2 листа, hобщ.=25 мм)","м2",281.25,{"$f":"G68/E68","v":0},0,{"$f":"I68/E68","v":179.77},50559.8,50559.8]
["10","ТЕР26-01-036-02","Изоляция изделиями из волокнистых и зернистых материалов с креплением на клее и дюбелями холодных поверхностей: внутренних стен и перегородок","100 м2 поверхности",1.25,{"$f":"G69/E69","v":26675.23},33344.04,{"$f":"I69/E69","v":403.38},504.23,33848.269999999997]
[null,"113-8076","Клей для приклеивания минеральной ваты типа \"BOLIX ZW\"","кг",null,null,null,null,null,0]
[null,"411-0001","Вода","м3",null,null,null,null,null,0]
["11","ТССЦ-104-0150","Плиты из минеральной ваты: на синтетическом связующем М-75, (минеральные маты группы НГ с плотностью 40 кг/м³, h=100 мм, прим.)","м3",12.88,{"$f":"G72/E72","v":0},0,{"$f":"I72/E72","v":5850.31},75351.98,75351.98]
["12","ТССЦ-101-2797","Дюбель распорный с металлическим стержнем: 10х150 мм, (9 шт./м² при двухслойном утепл.)","10 шт.",112.5,{"$f":"G73/E73","v":0},0,{"$f":"I73/E73","v":73.400000000000006},8257.36,8257.36]
["Раздел 3. Установка дверных блоков и ворот. Трансбордер, (Спецификации по шифру 1632-2021-1.1,1.2,2.1.0-АР, Приложение к письму  ООО “Морстройтехнология” вх. №9С01-8000370513-MST-ETU-LET-ENG-00384 от 19.02.2024 г.)",null,null,null,null,{"$f":"G74/E74","v":{"$error":"#DIV/0!"}},0,{"$f":"I74/E74","v":{"$error":"#DIV/0!"}},0,0]
["Установка дверных блоков",null,null,null,null,{"$f":"G75/E75","v":{"$error":"#DIV/0!"}},0,{"$f":"I75/E75","v":{"$error":"#DIV/0!"}},0,0]
["13","ТЕР09-04-012-01","Установка металлических дверных блоков в готовые проемы","1 м2 проема",39.9,{"$f":"G76/E76","v":6003.17},239526.58,{"$f":"I76/E76","v":327.67},13074.15,252600.73]
[null,"101-1513","Электроды диаметром: 4 мм Э42","т",null,null,null,null,null,0]
[null,"101-1921","Пена монтажная: для герметизации стыков в баллончике емкостью 0,85 л","шт.",null,null,null,null,null,0]
[null,"204-0062","Детали закладные и накладные изготовленные: без применения сварки, гнутья, сверления (пробивки) отверстий поставляемые отдельно","т",null,null,null,null,null,0]
["14","ТЦ_07.1.01.03_78_7841375755_27.02.2024_02","Дверной блок однопольный, металлический, остекленный, правая (7 эл.) левая (2 эл.) навеска 1000Х2100(h), с доводчиком","шт",4,{"$f":"G80/E80","v":0},0,{"$f":"I80/E80","v":33506.370000000003},134025.48000000001,{"$f":"G80+I80","v":134025.48000000001}]
["15","ТЦ_07.1.01.03_78_7841375755_27.02.2024_02","Дверной блок однопольный, металлический, остекленный, утеплённый, правая (14 эл.) левая (1 эл.) навеска 1000Х2100(h), с доводчиком","шт",15,{"$f":"G81/E81","v":0},0,{"$f":"I81/E81","v":33506.370000000003},502595.54,502595.54]
["16","ТЕР09-04-012-02","Установка дверного доводчика к металлическим дверям","1 шт.",19,{"$f":"G82/E82","v":2614.54},49676.31,{"$f":"I82/E82","v":10.66},202.56,49878.87]
[null,"101-1513","Электроды диаметром: 4 мм Э42","т",null,null,null,null,null,0]
[null,"101-1845","Винты самонарезающие: с уплотнительной прокладкой 4,8х35 мм","100 шт.",null,null,null,null,null,0]
["17","ТЕР15-01-070-02","Облицовка: дверных проемов в наружных стенах откосной планкой из оцинкованной стали с полимерным покрытием с установкой наличников из оцинкованной стали с полимерным покрытием","1 м2 проемов",39.9,{"$f":"G85/E85","v":3593.89},143396.17000000001,{"$f":"I85/E85","v":1693.92},67587.360000000001,210983.53]
[null,"101-1691","Шурупы-саморезы 4,2х16 мм","100 шт.",null,null,null,null,null,0]
[null,"101-2409","Аквилон из оцинкованной стали с полимерным покрытием","п.м",null,null,null,null,null,0]
[null,"101-2410","Откосная планка шириной 250 мм из оцинкованной стали с полимерным покрытием","п.м",null,null,null,null,null,0]
[null,"101-2412","Наличники из оцинкованной стали с полимерным покрытием","п.м",null,null,null,null,null,0]
["18","ТЕР09-04-013-03","Установка противопожарных дверей: однопольных остекленных","1 м2 проема",27.3,{"$f":"G90/E90","v":5120.16},139780.34,{"$f":"I90/E90","v":675.03},18428.22,158208.56]
[null,"101-1513","Электроды диаметром: 4 мм Э42","т",null,null,null,null,null,0]
[null,"101-1929","Болты анкерные","т",null,null,null,null,null,0]
[null,"101-3661","Пена монтажная: противопожарная полиуретановая NULLIFIRE (0,88 л)","шт.",null,null,null,null,null,0]
["19","ТЦ_07.1.01.03_78_7841375755_27.02.2024_02","Дверной блок однопольный, металлический, остекленный, противопожарный, правая навеска 1000Х2100(h), EIS 60, с доводчиком и уплотнением\nпритворов","шт",5,{"$f":"G94/E94","v":0},0,{"$f":"I94/E94","v":35533.360000000001},177666.79,177666.79]
["20","ТЦ_07.1.01.03_78_7841375755_27.02.2024_02","Дверной блок однопольный, металлический, остекленный, противопожарный, правая\nнавеска1000Х2100(h), EIS 30, с доводчиком и уплотнением притворов","шт",8,{"$f":"G95/E95","v":0},0,{"$f":"I95/E95","v":35533.360000000001},284266.87,284266.87]
["21","ТЕР15-01-070-02","Облицовка: дверных проемов в наружных стенах откосной планкой из оцинкованной стали с полимерным покрытием с установкой наличников из оцинкованной стали с полимерным покрытием","1 м2 проемов",27.3,{"$f":"G96/E96","v":3593.93},98114.3,{"$f":"I96/E96","v":1693.88},46242.93,144357.23000000001]
[null,"101-1691","Шурупы-саморезы 4,2х16 мм","100 шт.",null,null,null,null,null,0]
[null,"101-2409","Аквилон из оцинкованной стали с полимерным покрытием","п.м",null,null,null,null,null,0]
[null,"101-2410","Откосная планка шириной 250 мм из оцинкованной стали с полимерным покрытием","п.м",null,null,null,null,null,0]
[null,"101-2412","Наличники из оцинкованной стали с полимерным покрытием","п.м",null,null,null,null,null,0]
["22","ТЕР10-01-039-03","Установка блоков в наружных и внутренних дверных проемах: в перегородках и деревянных нерубленых стенах, площадь проема до 3 м2","100 м2 проемов",0.15959999999999999,{"$f":"G101/E101","v":256114.85},40875.93,{"$f":"I101/E101","v":22187.53},3541.13,44417.06]
[null,"101-1705","Пакля пропитанная","кг",null,null,null,null,null,0]
[null,"101-1805","Гвозди строительные","т",null,null,null,null,null,0]
[null,"102-0053","Доски обрезные хвойных пород длиной: 4-6,5 м, шириной 75-150 мм, толщиной 25 мм, III сорта","м3",null,null,null,null,null,0]
["23","ТЦ_11.2.02.01_78_7810851080_06.03.2024_02","Дверной блок однопольный, деревянный, глухой, правая навеска 800Х2100(h)","шт",2,{"$f":"G105/E105","v":0},0,{"$f":"I105/E105","v":13187.64},26375.279999999999,26375.279999999999]
["24","ТЦ_11.2.02.01_78_7810424032_06.03.2024_02","Дверной блок однопольный, деревянный, глухой, правая навеска 1000Х2100(h), с доводчиком","шт",6,{"$f":"G106/E106","v":0},0,{"$f":"I106/E106","v":16826.45},100958.7,100958.7]
["25","ТЕР09-04-012-02","Установка дверного доводчика к металлическим дверям // прим.","1 шт.",6,{"$f":"G107/E107","v":2614.3000000000002},15685.82,{"$f":"I107/E107","v":10.78},64.650000000000006,15750.47]
[null,"101-1513","Электроды диаметром: 4 мм Э42","т",null,null,null,null,null,0]
[null,"101-1845","Винты самонарезающие: с уплотнительной прокладкой 4,8х35 мм","100 шт.",null,null,null,null,null,0]
["26","ТССЦ-101-6899","Доводчик дверной гидравлический TS-68 с зубчатым приводом (нагрузка до 90 кг)","шт.",6,{"$f":"G110/E110","v":0},0,{"$f":"I110/E110","v":2893.24},17359.41,17359.41]
["27","ТЕР10-01-039-05","Установка люков в перекрытиях, площадь проема до 2 м2","100 м2 проемов",3.8399999999999997E-2,{"$f":"G111/E111","v":287798.7},11051.47,{"$f":"I111/E111","v":22109.64},849.01,11900.48]
[null,"101-1482","Шурупы с полукруглой головкой: 5х70 мм","т",null,null,null,null,null,0]
[null,"101-1705","Пакля пропитанная","кг",null,null,null,null,null,0]
[null,"402-0087","Раствор готовый отделочный тяжелый,: известковый 1:2,0","м3",null,null,null,null,null,0]
["28","ТЦ_11.2.02.01_78_7804356514_06.03.2024_02","Лаз металлический, противопожарный, 800Х1600(h), EIS 60, с доводчиком и уплотнением притворов. Низ 500 мм от пола","шт",3,{"$f":"G115/E115","v":0},0,{"$f":"I115/E115","v":14652.93},43958.79,43958.79]
["29","ТЕР09-04-012-02","Установка дверного доводчика к металлическим дверям // прим.","1 шт.",3,{"$f":"G116/E116","v":2614.06},7842.19,{"$f":"I116/E116","v":11.01},33.04,7875.23]
[null,"101-1513","Электроды диаметром: 4 мм Э42","т",null,null,null,null,null,0]
[null,"101-1845","Винты самонарезающие: с уплотнительной прокладкой 4,8х35 мм","100 шт.",null,null,null,null,null,0]
["30","ТССЦ-101-6899","Доводчик дверной гидравлический TS-68 с зубчатым приводом (нагрузка до 90 кг)","шт.",3,{"$f":"G119/E119","v":0},0,{"$f":"I119/E119","v":2893.24},8679.7099999999991,8679.7099999999991]
["Установка ворот",null,null,null,null,{"$f":"G120/E120","v":{"$error":"#DIV/0!"}},0,{"$f":"I120/E120","v":{"$error":"#DIV/0!"}},0,0]
["31","ТЕР09-04-011-01","Монтаж каркасов ворот большепролетных зданий, ангаров и др. без механизмов открывания","1 т конструкций",6.6070000000000002,{"$f":"G121/E121","v":174276.9},1151447.45,{"$f":"I121/E121","v":8950.9500000000007},59138.94,1210586.3899999999]
[null,"101-0309","Канаты пеньковые пропитанные","т",null,null,null,null,null,0]
[null,"101-0324","Кислород технический: газообразный","м3",null,null,null,null,null,0]
[null,"101-0797","Проволока горячекатаная в мотках, диаметром 6,3-6,5 мм","т",null,null,null,null,null,0]
[null,"101-1019","Швеллеры № 40 из стали марки: Ст0","т",null,null,null,null,null,0]
[null,"101-1515","Электроды диаметром: 4 мм Э46","т",null,null,null,null,null,0]
[null,"101-1805","Гвозди строительные","т",null,null,null,null,null,0]
[null,"101-2278","Пропан-бутан, смесь техническая","кг",null,null,null,null,null,0]
[null,"101-2467","Растворитель марки: Р-4","т",null,null,null,null,null,0]
[null,"102-0023","Бруски обрезные хвойных пород длиной: 4-6,5 м, шириной 75-150 мм, толщиной 40-75 мм, I сорта","м3",null,null,null,null,null,0]
[null,"113-0021","Грунтовка: ГФ-021 красно-коричневая","т",null,null,null,null,null,0]
[null,"201-0756","Отдельные конструктивные элементы зданий и сооружений с преобладанием: горячекатаных профилей, средняя масса сборочной единицы от 0,1 до 0,5 т","т",null,null,null,null,null,0]
[null,"508-0097","Канат двойной свивки типа ТК, конструкции 6х19(1+6+12)+1 о.с., оцинкованный из проволок марки В, маркировочная группа: 1770 н/мм2, диаметром 5,5 мм","10 м",null,null,null,null,null,0]
["32","ТЕРм11-05-001-01","Механизм исполнительный, масса: до 20 кг","1 шт.",8,{"$f":"G134/E134","v":2196.5},17572.02,{"$f":"I134/E134","v":108.1},864.81,18436.830000000002]
[null,"101-2039","Болты с гайками и шайбами оцинкованные, диаметр: 12 мм","кг",null,null,null,null,null,0]
[null,"999-9950","Вспомогательные ненормируемые ресурсы (2% от Оплаты труда рабочих)","руб",null,null,null,null,null,0]
["33","ТЦ_08.1.06.01_78_7814075047_25.06.2024_02","Ворота распашные с калиткой, металлические, утеплённые, 2950Х3000(h), (вес=55,6 кг/м²)","шт",1,{"$f":"G137/E137","v":0},0,{"$f":"I137/E137","v":385573.21},385573.21,385573.21]
["34","ТЦ_11.2.02.01_77_7751024400_06.03.2024_02","Ворота распашные, металлические,\nостекленные, утеплённые, 4400Х4500(h), (вес=42,44 кг/м²)","шт",1,{"$f":"G138/E138","v":0},0,{"$f":"I138/E138","v":441297.45},441297.45,441297.45]
["35","ТЦ_08.1.06.01_78_7819033805_06.03.2024_02","Ворота складчатые, металлические,\n5000Х4500(h), (вес=42,44 кг/м²)","шт",5,{"$f":"G139/E139","v":0},0,{"$f":"I139/E139","v":460041.13},2300205.65,2300205.65]
["36","ТЦ_08.1.06.01_78_7814075047_25.06.2024_02","Ворота распашные, металлические, с калиткой, остекленные, утеплённые, 3000Х3000(h), (вес=55,6 кг/м²)","шт",1,{"$f":"G140/E140","v":0},0,{"$f":"I140/E140","v":393284.67},393284.67,393284.67]
["Раздел 4. Установка оконных блоков. Трансбордер, (Спецификации по шифру 1632-2021-1.1,1.2,2.1.0-АР, Приложение к письму  ООО “Морстройтехнология” вх. №9С01-8000370513-MST-ETU-LET-ENG-00384 от 19.02.2024 г.)",null,null,null,null,{"$f":"G141/E141","v":{"$error":"#DIV/0!"}},0,{"$f":"I141/E141","v":{"$error":"#DIV/0!"}},0,0]
["37","ТЕР10-01-034-03","Установка в жилых и общественных зданиях оконных блоков из ПВХ профилей: поворотных (откидных, поворотно-откидных) с площадью проема до 2 м2 одностворчатых","100 м2 проемов",0.17599999999999999,{"$f":"G142/E142","v":468368.13},82432.789999999994,{"$f":"I142/E142","v":156177.16},27487.18,109919.97]
[null,"101-2052","Лента бутиловая","м",null,null,null,null,null,0]
[null,"101-2054","Лента бутиловая диффузионная","м",null,null,null,null,null,{"$f":"G144+I144","v":0}]
[null,"101-2388","Герметик пенополиуретановый (пена монтажная) типа Makrofleks, Soudal в баллонах по 750 мл","шт.",null,null,null,null,null,0]
[null,"101-2789","Лента ПСУЛ","10 м",null,null,null,null,null,0]
[null,"101-4173","Дюбели монтажные 10х130 (10х132, 10х150) мм","10 шт.",null,null,null,null,null,0]
[null,"102-0303","Клинья пластиковые монтажные","100 шт.",null,null,null,null,null,0]
["38","ТЦ_59.1.09.04_78_7816539174_26.02.2024_02\nАналог  ТССЦ-203-0946    5029,91/4929,41=2%","ОК-4. Оп-П-1600х1000-ОЛ (6М1)-ПОТ-ГОСТ 34914-2022 (оконный блок из ПВХ профилей с поворотно-откидными створками и одинарным\nстеклом)","м2",17.600000000000001,{"$f":"G149/E149","v":0},0,{"$f":"I149/E149","v":11033.12},194182.94,194182.94]
["39","ТЕР15-01-070-01","Облицовка: оконных проемов в наружных стенах откосной планкой из оцинкованной стали с полимерным покрытием с устройством водоотлива оконного из оцинкованной стали с полимерным покрытием","1 м2 проемов",17.600000000000001,{"$f":"G150/E150","v":3276.75},57670.78,{"$f":"I150/E150","v":1423.83},25059.39,82730.17]
[null,"101-1691","Шурупы-саморезы 4,2х16 мм","100 шт.",null,null,null,null,null,0]
[null,"101-2409","Аквилон из оцинкованной стали с полимерным покрытием","п.м",null,null,null,null,null,0]
[null,"101-2410","Откосная планка шириной 250 мм из оцинкованной стали с полимерным покрытием","п.м",null,null,null,null,null,0]
[null,"101-2411","Водоотлив оконный шириной планки 250 мм из оцинкованной стали с полимерным покрытием","п.м",null,null,null,null,null,0]
["40","ТЕР09-03-022-04","Монтаж оконных фонарных покрытий из поликарбонатных и акриловых плит с боковыми планками, профилями и резиновыми прокладками","100 м2",4.04,{"$f":"G155/E155","v":326838.45},1320427.3500000001,{"$f":"I155/E155","v":550.09},2222.36,1322649.71]
[null,"101-0309","Канаты пеньковые пропитанные","т",null,null,null,null,null,0]
[null,"101-0797","Проволока горячекатаная в мотках, диаметром 6,3-6,5 мм","т",null,null,null,null,null,0]
[null,"101-1019","Швеллеры № 40 из стали марки: Ст0","т",null,null,null,null,null,0]
[null,"101-1714","Болты с гайками и шайбами строительные","т",null,null,null,null,null,0]
[null,"101-1805","Гвозди строительные","т",null,null,null,null,null,0]
[null,"101-2467","Растворитель марки: Р-4","т",null,null,null,null,null,0]
[null,"113-0021","Грунтовка: ГФ-021 красно-коричневая","т",null,null,null,null,null,0]
[null,"508-0097","Канат двойной свивки типа ТК, конструкции 6х19(1+6+12)+1 о.с., оцинкованный из проволок марки В, маркировочная группа: 1770 н/мм2, диаметром 5,5 мм","10 м",null,null,null,null,null,0]
["41","ТЦ_25.3.06.01_47_4707044627_25.01.2024_02\nАналог  ТССЦ-101-5003    83,19/81,49=2%","Профилированный монолитный поликарбонат (прозрачный) 2000х1150х1 мм  Royal Plast  МП20(У)","м2",424.2,{"$f":"G164/E164","v":0},0,{"$f":"I164/E164","v":751.29},318696.94,318696.94]
["Раздел 5. Полы. Трансбордер, (Спецификации по шифру 1632-2021-1.1,1.2,2.1.0-АР, Приложение к письму  ООО “Морстройтехнология” вх. №9С01-8000370513-MST-ETU-LET-ENG-00384 от 19.02.2024 г.)",null,null,null,null,{"$f":"G165/E165","v":{"$error":"#DIV/0!"}},0,{"$f":"I165/E165","v":{"$error":"#DIV/0!"}},0,0]
["Тип 3.  S=181,4 м2",null,null,null,null,{"$f":"G166/E166","v":{"$error":"#DIV/0!"}},0,{"$f":"I166/E166","v":{"$error":"#DIV/0!"}},0,0]
["42","ТЕР11-01-015-07","Шлифовка бетонных или металлоцементных покрытий","100 м2 покрытия",1.8140000000000001,{"$f":"G167/E167","v":191488.79},347360.66,{"$f":"I167/E167","v":179.77},326.10000000000002,347686.76]
[null,"101-2109","Карборунд","кг",null,null,null,null,null,0]
[null,"411-0001","Вода","м3",null,null,null,null,null,0]
["43","ТЕР11-01-052-01","Устройство полимерных наливных полов из полиуретана: с толщиной покрытия 2 мм, (упрочнение полиуретан. составами h=1 мм, прим.)","100 м2 пола",1.8140000000000001,{"$f":"G170/E170","v":58942.59},106921.86,{"$f":"I170/E170","v":102114.69},185236.04,292157.90000000002]
[null,"101-5869","Покрытие полиуретановое монолитное \"Полиплан 1001\"","кг",null,null,null,null,null,0]
[null,"101-5870","Грунтовка полиуретановая \"Праймер 1101\"","кг",null,null,null,null,null,0]
[null,"113-0659","Финишлак 105","кг",null,null,null,null,null,0]
["Устройство кровли из кровельного профлиста учтено в разделе КМ",null,null,null,null,{"$f":"G174/E174","v":{"$error":"#DIV/0!"}},0,{"$f":"I174/E174","v":{"$error":"#DIV/0!"}},0,0]
["Цоколь",null,null,null,null,{"$f":"G175/E175","v":{"$error":"#DIV/0!"}},0,{"$f":"I175/E175","v":{"$error":"#DIV/0!"}},0,0]
["44","ТЕР11-01-015-07","Шлифовка бетонных или металлоцементных покрытий, (затирка поверхности цоколя, прим.)","100 м2 покрытия",0.871,{"$f":"G176/E176","v":191486.6},166784.82999999999,{"$f":"I176/E176","v":179.78},156.59,166941.42000000001]
[null,"101-2109","Карборунд","кг",null,null,null,null,null,0]
[null,"411-0001","Вода","м3",null,null,null,null,null,0]
["45","ТЕР15-04-015-02","Окраска фасадов с люлек с подготовкой поверхности: силикатная, (прим.)","100 м2 фасада",0.87119999999999997,{"$f":"G179/E179","v":71763.789999999994},62520.61,{"$f":"I179/E179","v":8107.86},7063.57,69584.179999999993]
[null,"101-1757","Ветошь","кг",null,null,null,null,null,0]
[null,"101-1841","Краски силикатные зеленая и красная","т",null,null,null,null,null,0]
[null,"113-0043","Жидкость: гидрофобизирующая ГКЖ-10","т",null,null,null,null,null,0]
[null,"113-0368","Стекло жидкое калийное","т",null,null,null,null,null,0]
[null,"402-0083","Раствор готовый отделочный тяжелый,: цементно-известковый 1:1:6","м3",null,null,null,null,null,0]
[null,"409-0639","Пемза шлаковая (щебень пористый из металлургического шлака), марка 600, фракция 5-10 мм","м3",null,null,null,null,null,0]
[null,"411-0001","Вода","м3",null,null,null,null,null,0]
["Раздел 8. Отмостка",null,null,null,null,{"$f":"G187/E187","v":{"$error":"#DIV/0!"}},0,{"$f":"I187/E187","v":{"$error":"#DIV/0!"}},0,0]
["46","ТЕР27-04-001-04","Устройство подстилающих и выравнивающих слоев оснований: из щебня, (подготовка из щебня h=90 мм)","100 м3 материала основания (в плотном теле)",0.15679999999999999,{"$f":"G188/E188","v":206258.42},32341.32,{"$f":"I188/E188","v":192.41},30.17,32371.49]
[null,"411-0001","Вода","м3",null,null,null,null,null,0]
["47","ТССЦ-408-0015","Щебень из природного камня для строительных работ марка: 800, фракция 20-40 мм","м3",19.760000000000002,{"$f":"G190/E190","v":0},0,{"$f":"I190/E190","v":3394.17},67068.759999999995,67068.759999999995]
["48","ТЕР27-04-001-01","Устройство подстилающих и выравнивающих слоев оснований: из песка, (подготовка из песка h=150 мм)","100 м3 материала основания (в плотном теле)",0.26135999999999998,{"$f":"G191/E191","v":132371.9},34596.720000000001,{"$f":"I191/E191","v":131.93},34.479999999999997,34631.199999999997]
[null,"411-0001","Вода","м3",null,null,null,null,null,0]
["49","ТССЦ-408-0123","Песок природный для строительных: работ средний с крупностью зерен размером свыше 5 мм - до 5% по массе","м3",28.749600000000001,{"$f":"G193/E193","v":0},0,{"$f":"I193/E193","v":954.44},27439.77,27439.77]
["50","ТЕР06-01-001-20","Устройство ленточных фундаментов: бетонных","100 м3 бетона, бутобетона и железобетона в деле",0.17424000000000001,{"$f":"G194/E194","v":775664.26},135151.74,{"$f":"I194/E194","v":37282.660000000003},6496.13,141647.87]
[null,"101-0797","Проволока горячекатаная в мотках, диаметром 6,3-6,5 мм","т",null,null,null,null,null,0]
[null,"101-1668","Рогожа","м2",null,null,null,null,null,0]
[null,"101-1805","Гвозди строительные","т",null,null,null,null,null,0]
[null,"102-0061","Доски обрезные хвойных пород длиной: 4-6,5 м, шириной 75-150 мм, толщиной 44 мм и более, III сорта","м3",null,null,null,null,null,0]
[null,"203-0511","Щиты: из досок толщиной 25 мм","м2",null,null,null,null,null,0]
[null,"405-0253","Известь строительная: негашеная комовая, сорт I","т",null,null,null,null,null,0]
[null,"411-0001","Вода","м3",null,null,null,null,null,0]
["51","Прайс\nАналог  ТССЦ-401-0307    713,38/652,56=2%","Бетон  В15","м3",17.771999999999998,{"$f":"G202/E202","v":0},0,{"$f":"I202/E202","v":8792.92},156267.76999999999,156267.76999999999]
["52","ТЕР06-01-015-10","Армирование подстилающих слоев и набетонок","1 т",0.48,{"$f":"G203/E203","v":27716.67},13304,{"$f":"I203/E203","v":3007.79},1443.74,14747.74]
[null,"101-0816","Проволока светлая диаметром: 1,1 мм","т",null,null,null,null,null,0]
["53","ТЦ_08.4.02.05_78_7816587756_08.02.2024_02\nАналог  ТССЦ-101-3891    21,17/20,58=2%","Сетка арматурная 5Вр1 яч. 100х100 , (вес=2,75 кг/м²)","м2",174.24,{"$f":"G205/E205","v":0},0,{"$f":"I205/E205","v":209.5},36503.040000000001,36503.040000000001]
["54","ТЕР06-01-013-01","Устройство подливки толщиной  20 мм, (бетонная отмостка, hср.=(30+130)/2=80 мм, прим.)","100 м2 подливки под оборудование",1.7423999999999999,{"$f":"G206/E206","v":97758.6},170334.58,{"$f":"I206/E206","v":2743.85},4780.88,175115.46]
[null,"101-1805","Гвозди строительные","т",null,null,null,null,null,0]
[null,"102-0053","Доски обрезные хвойных пород длиной: 4-6,5 м, шириной 75-150 мм, толщиной 25 мм, III сорта","м3",null,null,null,null,null,{"$f":"G208+I208","v":0}]
[null,"102-0061","Доски обрезные хвойных пород длиной: 4-6,5 м, шириной 75-150 мм, толщиной 44 мм и более, III сорта","м3",null,null,null,null,null,0]
["55","ТЕР06-01-013-02","На каждые 10 мм изменения толщины добавлять или исключать к расценке 06-01-013-01, (добавить 60 мм)","100 м2 подливки под оборудование",1.7423999999999999,{"$f":"G210/E210","v":164239.5},286170.90999999997,{"$f":"I210/E210","v":4021.78},7007.55,293178.46000000002]
[null,"101-1805","Гвозди строительные","т",null,null,null,null,null,0]
[null,"102-0053","Доски обрезные хвойных пород длиной: 4-6,5 м, шириной 75-150 мм, толщиной 25 мм, III сорта","м3",null,null,null,null,null,0]
[null,"102-0061","Доски обрезные хвойных пород длиной: 4-6,5 м, шириной 75-150 мм, толщиной 44 мм и более, III сорта","м3",null,null,null,null,null,0]
["56","Прайс\nАналог  ТССЦ-401-0307    713,38/652,56=2%","Бетон  В15","м3",14.218,{"$f":"G214/E214","v":0},0,{"$f":"I214/E214","v":8792.9500000000007},125018.23,125018.23]
["57","ТЕР27-06-011-01","Устройство швов расширения, (температурно-усадочный, прим.)","1000 м2 покрытия",0.17424000000000001,{"$f":"G215/E215","v":13776.92},2400.4899999999998,{"$f":"I215/E215","v":3025.83},527.22,2927.71]
[null,"101-1556","Битумы нефтяные дорожные марки: БНД-60/90, БНД 90/130","т",null,null,null,null,null,0]
[null,"102-0137","Доски необрезные хвойных пород длиной: 2-3,75 м, все ширины, толщиной 32-40 мм, III сорта","м3",null,null,null,null,null,0]
["58","ТЕР11-01-015-08","Железнение цементных покрытий","100 м2 покрытия",1.7423999999999999,{"$f":"G218/E218","v":26257.82},45751.62,{"$f":"I218/E218","v":537.55999999999995},936.64,46688.26]
[null,"101-1305","Портландцемент общестроительного назначения бездобавочный, марки: 400","т",null,null,null,null,null,0]
[null,"411-0001","Вода","м3",null,null,null,null,null,0]
["59","ТЕР27-02-010-02","Установка бортовых камней бетонных: при других видах покрытий","100 м бортового камня",1.7423999999999999,{"$f":"G221/E221","v":204621.77},356532.97,{"$f":"I221/E221","v":1991.92},3470.73,360003.7]
[null,"101-1805","Гвозди строительные","т",null,null,null,null,null,0]
[null,"102-0038","Брусья необрезные хвойных пород длиной: 4-6,5 м, все ширины, толщиной 100, 125 мм, IV сорта","м3",null,null,null,null,null,0]
["60","ТЦ_04.13.00.00_78_7842083836_15.02.2024_02\nАналог  ТССЦ-403-8023     19,93/18,59=2%","Камни бортовые БР100.20.8","шт",174,{"$f":"G224/E224","v":0},0,{"$f":"I224/E224","v":308.89999999999998},53748.959999999999,53748.959999999999]
["61","Прайс\nТех. часть ТЕР27. Автомобильные дороги, Приложение 27.3, п. 3.8а","Бетон  В15, (с учетом сечения k=0,86)","м3",8.8409999999999993,{"$f":"G225/E225","v":0},0,{"$f":"I225/E225","v":8792.91},77738.11,77738.11]
["62","ТССЦ-402-0004\nТех. часть ТЕР27. Автомобильные дороги, Приложение 27.3, п. 3.8б","Раствор готовый кладочный цементный марки: 100, (с учетом сечения k=0,33)","м3",3.4500000000000003E-2,{"$f":"G226/E226","v":0},0,{"$f":"I226/E226","v":5995.94},206.86,206.86]
[null,null,"Всего, руб. с НДС",null,null,null,{"$f":"SUM(G15:G226)","v":6223519.79},null,{"$f":"SUM(I15:I226)","v":7157100.7400000002},{"$f":"SUM(J15:J226)","v":13380620.529999999}]
[null,null,"Всего, руб. без НДС",null,null,null,{"$f":"G227/1.2","v":5186266.49},null,{"$f":"I227/1.2","v":5964250.6200000001},{"$f":"J227/1.2","v":11150517.109999999}]

{"sheet":"1632-2021-2.2.3-АР","index":11,"n_rows":227,"n_cols":10,"rows_kept":227,"cut":false,"hidden":false,"merged":[]}
[]
["Терминал по перевалке минеральных удобрений в морском торговом порту Усть-Луга. Береговые объекты терминала"]
["(наименование стройки)"]
["1632-2021-2.2.3-АР_07.04.022-П-00-00"]
["(локальная смета)"]
["на Архитектурные решения, Пересыпная станция № 3"]
["(наименование работ и затрат, наименование объекта)"]
[null,"Основание:","1632-2021-2.2.3-АР_2_0_RU_IFC"]
[]
["№ п/п","Обоснование","Наименование работ и затрат","Ед. изм.","Кол-во","Цена за ед.измерения работ, руб. с НДС","Всего, стоимость работ,руб. с НДС","Цена за ед.измерения материалов, руб. с НДС","Всего, стоимость материалов, руб. с НДС","Итого, руб. с НДС"]
["1","2","3","4","5",6,7,8,9,10]
["Раздел 2. Кровля",null,null,null,null,null,null,null,null,{"$f":"G12+I12","v":0}]
["Монтаж кровельного покрытия  из профнастила учтен в разделе КМ",null,null,null,null,null,null,null,null,0]
["Кровля плоская",null,null,null,null,null,null,null,null,0]
["1","ТЕР11-01-009-02","Устройство тепло- и звукоизоляции сплошной из плит: древесноволокнистых // прим. ЦСП","100 м2 изолируемой поверхности",4.54,{"$f":"G15/E15","v":36149.78},164120.01,{"$f":"I15/E15","v":0},0,164120.01]
["2","ТЦ_01.6.01.10_78_7810994931_08.02.2024_02","ЦСП 13200х1200х8","м2",935.24,{"$f":"G16/E16","v":0},0,{"$f":"I16/E16","v":496.75},464584.39,{"$f":"G16+I16","v":464584.39}]
["3","ТЕР12-01-002-09","Устройство кровель плоских из наплавляемых материалов: в два слоя","100 м2 кровли",4.54,{"$f":"G17/E17","v":34049.769999999997},154585.94,{"$f":"I17/E17","v":1974.08},8962.32,163548.26]
[null,"101-2278","Пропан-бутан, смесь техническая","кг",null,null,null,null,null,0]
["4","ТЦ_12.0.00.00_78_7826181040_08.02.2024_02","Техноэласт Пламя Стоп","м2",517.55999999999995,{"$f":"G19/E19","v":0},0,{"$f":"I19/E19","v":527.11},272810.7,272810.7]
["5","ТЦ_12.0.00.00_78_7826181040_08.02.2024_02","Техноэласт ЭПП","м2",526.64,{"$f":"G20/E20","v":0},0,{"$f":"I20/E20","v":417.88},220072.65,220072.65]
["6","ТЕР12-01-009-02","Устройство желобов: подвесных","100 м желобов",0.32700000000000001,{"$f":"G21/E21","v":65794.429999999993},21514.78,{"$f":"I21/E21","v":21888.53},7157.55,28672.33]
[null,"101-0173","Гвозди проволочные оцинкованные для асбестоцементной кровли: 4,5х120 мм","т",null,null,null,null,null,0]
[null,"101-0788","Поковки оцинкованные, масса: 2,825 кг","т",null,null,null,null,null,0]
["7","ТЦ_12.1.01.00_78_7804606806_25.01.2024_02","Желоб водосточный D185х3000","шт",11,{"$f":"G24/E24","v":0},0,{"$f":"I24/E24","v":1709.47},18804.14,18804.14]
["8","ТЦ_12.1.01.00_78_7804606806_25.01.2024_02","Держатель желоба","шт",54.5,{"$f":"G25/E25","v":0},0,{"$f":"I25/E25","v":754.15},41101.21,41101.21]
["9","ТЕР12-01-008-01","Устройство обделок на фасадах (наружные подоконники, пояски, балконы и др.): включая водосточные трубы, с изготовлением элементов труб// прим.","100 м2фасада (без вычета проемов)",4.54,{"$f":"G26/E26","v":27777.279999999999},126108.86,{"$f":"I26/E26","v":2212.69},10045.6,136154.46]
[null,"101-0195","Гвозди толевые круглые: 3,0х40 мм","т",null,null,null,null,null,0]
[null,"101-0788","Поковки оцинкованные, масса: 2,825 кг","т",null,null,null,null,null,0]
[null,"101-0795","Проволока канатная оцинкованная, диаметром: 3 мм","т",null,null,null,null,null,0]
["10","ТЕР12-01-008-02","Устройство обделок на фасадах (наружные подоконники, пояски, балконы и др.): без водосточных труб","100 м2фасада (без вычета проемов)",-4.54,{"$f":"G30/E30","v":10154.68},-46102.23,{"$f":"I30/E30","v":164.84},-748.36,-46850.59]
[null,"101-0195","Гвозди толевые круглые: 3,0х40 мм","т",null,null,null,null,null,0]
["11","ТЦ_12.1.01.00_78_7804606806_25.01.2024_02","Труба водосточная D150х2000мм","шт",49,{"$f":"G32/E32","v":0},0,{"$f":"I32/E32","v":2084.1799999999998},102124.72,102124.72]
["12","ТЦ_12.1.01.00_78_7804606806_25.01.2024_02","Крепление трубы","шт",98,{"$f":"G33/E33","v":0},0,{"$f":"I33/E33","v":314.87},30857.48,30857.48]
["13","ТЦ_12.1.01.00_78_7804606806_25.01.2024_02","Колено гофрированное","шт",16,{"$f":"G34/E34","v":0},0,{"$f":"I34/E34","v":478.84},7661.43,7661.43]
["14","ТЦ_12.1.01.00_78_7804606806_25.01.2024_02","Заглушка","шт",6,{"$f":"G35/E35","v":0},0,{"$f":"I35/E35","v":373.47},2240.81,2240.81]
["15","ТЦ_12.1.01.00_78_7804606806_25.01.2024_02","Воронки выпускные D185/150","шт",4,{"$f":"G36/E36","v":0},0,{"$f":"I36/E36","v":808.02},3232.08,3232.08]
["16","ТЕР12-01-012-01","Ограждение кровель перилами // прим.","100 м ограждения",0.26,{"$f":"G37/E37","v":16107.35},4187.91,{"$f":"I37/E37","v":402.08},104.54,4292.45]
[null,"101-1529","Электроды диаметром: 6 мм Э42","т",null,null,null,null,null,0]
[null,"101-1851","Резина прессованная","кг",null,null,null,null,null,0]
["17","ТЦ_12.1.01.00_78_7804606806_25.01.2024_02","Снегозадержатель трубчатый (L=3 м. в комплекте с креплением)","шт",8.6666670000000003,{"$f":"G40/E40","v":0},0,{"$f":"I40/E40","v":2407.39},20864.009999999998,20864.009999999998]
["Раздел 3. Окна"]
["18","ТЕР10-01-034-05","Установка в жилых и общественных зданиях оконных блоков из ПВХ профилей: поворотных (откидных, поворотно-откидных) с площадью проема до 2 м2 двухстворчатых","100 м2 проемов",0.1512,{"$f":"G42/E42","v":408216.34},61722.31,{"$f":"I42/E42","v":128138.1},19374.48,81096.789999999994]
[null,"101-2052","Лента бутиловая","м",null,null,null,null,null,0]
[null,"101-2054","Лента бутиловая диффузионная","м",null,null,null,null,null,0]
[null,"101-2388","Герметик пенополиуретановый (пена монтажная) типа Makrofleks, Soudal в баллонах по 750 мл","шт.",null,null,null,null,null,0]
[null,"101-2789","Лента ПСУЛ","10 м",null,null,null,null,null,0]
[null,"101-4173","Дюбели монтажные 10х130 (10х132, 10х150) мм","10 шт.",null,null,null,null,null,0]
[null,"102-0303","Клинья пластиковые монтажные","100 шт.",null,null,null,null,null,0]
["19","ТЦ_07.1.02.00_78_7840318754_30.01.2024_02","ОК-1.  1200х1400","шт",9,{"$f":"G49/E49","v":0},0,{"$f":"I49/E49","v":15738.26},141644.37,141644.37]
["20","ТЕР10-01-034-03","Установка в жилых и общественных зданиях оконных блоков из ПВХ профилей: поворотных (откидных, поворотно-откидных) с площадью проема до 2 м2 одностворчатых","100 м2 проемов",0.23799999999999999,{"$f":"G50/E50","v":468378.07},111473.98,{"$f":"I50/E50","v":156176.26},37169.949999999997,148643.93]
[null,"101-2052","Лента бутиловая","м",null,null,null,null,null,0]
[null,"101-2054","Лента бутиловая диффузионная","м",null,null,null,null,null,0]
[null,"101-2388","Герметик пенополиуретановый (пена монтажная) типа Makrofleks, Soudal в баллонах по 750 мл","шт.",null,null,null,null,null,0]
[null,"101-2789","Лента ПСУЛ","10 м",null,null,null,null,null,0]
[null,"101-4173","Дюбели монтажные 10х130 (10х132, 10х150) мм","10 шт.",null,null,null,null,null,0]
[null,"102-0303","Клинья пластиковые монтажные","100 шт.",null,null,null,null,null,0]
["21","ТЦ_07.1.02.00_78_7840318754_30.01.2024_02","ОК-2.  1000х1400","шт",17,{"$f":"G57/E57","v":0},0,{"$f":"I57/E57","v":13609.67},231364.41,231364.41]
["22","ТЕР15-01-070-01","Облицовка: оконных проемов в наружных стенах откосной планкой из оцинкованной стали с полимерным покрытием с устройством водоотлива оконного из оцинкованной стали с полимерным покрытием","1 м2 проемов",38.92,{"$f":"G58/E58","v":3276.74},127530.71,{"$f":"I58/E58","v":1423.83},55415.45,182946.16]
[null,"101-1691","Шурупы-саморезы 4,2х16 мм","100 шт.",null,null,null,null,null,0]
[null,"101-2409","Аквилон из оцинкованной стали с полимерным покрытием","п.м",null,null,null,null,null,0]
[null,"101-2410","Откосная планка шириной 250 мм из оцинкованной стали с полимерным покрытием","п.м",null,null,null,null,null,0]
[null,"101-2411","Водоотлив оконный шириной планки 250 мм из оцинкованной стали с полимерным покрытием","п.м",null,null,null,null,null,0]
["Раздел 4. Дверные проемы и ворота"]
["23","ТЕР09-04-012-01","Установка металлических дверных блоков в готовые проемы","1 м2 проема",13.335000000000001,{"$f":"G64/E64","v":6003.1},80051.3,{"$f":"I64/E64","v":327.69},4369.6899999999996,84420.99]
[null,"101-1513","Электроды диаметром: 4 мм Э42","т",null,null,null,null,null,0]
[null,"101-1921","Пена монтажная: для герметизации стыков в баллончике емкостью 0,85 л","шт.",null,null,null,null,null,0]
[null,"204-0062","Детали закладные и накладные изготовленные: без применения сварки, гнутья, сверления (пробивки) отверстий поставляемые отдельно","т",null,null,null,null,null,0]
["24","ТЦ_07.1.01.03_78_7810842826_14.05.2025_02","Дверь стальная внутренняя, наружная  1000х2100","шт",5,{"$f":"G68/E68","v":0},0,{"$f":"I68/E68","v":19154.21},95771.06,95771.06]
["25","ТЦ_07.1.01.03_78_7810842826_14.05.2025_02","Дверь стальная внутренняя, наружная 1350х2100","шт",1,{"$f":"G69/E69","v":0},0,{"$f":"I69/E69","v":26097.57},26097.57,26097.57]
["26","ТЕР09-04-013-01","Установка противопожарных дверей: однопольных глухих","1 м2 проема",27.3,{"$f":"G70/E70","v":5120.16},139780.29,{"$f":"I70/E70","v":675.03},18428.27,158208.56]
[null,"101-1513","Электроды диаметром: 4 мм Э42","т",null,null,null,null,null,0]
[null,"101-1929","Болты анкерные","т",null,null,null,null,null,0]
[null,"101-3661","Пена монтажная: противопожарная полиуретановая NULLIFIRE (0,88 л)","шт.",null,null,null,null,null,0]
["27","ТЦ_07.1.01.03_78_7810842826_14.05.2025_02","Дверь противопожарная металлическая: однопольная ДПС-01/60, размером 1000х2100 мм","шт",13,{"$f":"G74/E74","v":0},0,{"$f":"I74/E74","v":19154.21},249004.73,249004.73]
["28","ТЕР15-01-070-02","Облицовка: дверных проемов в наружных стенах откосной планкой из оцинкованной стали с полимерным покрытием с установкой наличников из оцинкованной стали с полимерным покрытием","1 м2 проемов",14.335000000000001,{"$f":"G75/E75","v":3593.9},51518.559999999998,{"$f":"I75/E75","v":1660.7},23806.13,75324.69]
[null,"101-1691","Шурупы-саморезы 4,2х16 мм","100 шт.",null,null,null,null,null,0]
[null,"101-2409","Аквилон из оцинкованной стали с полимерным покрытием","п.м",null,null,null,null,null,0]
[null,"101-2410","Откосная планка шириной 250 мм из оцинкованной стали с полимерным покрытием","п.м",null,null,null,null,null,0]
[null,"101-2412","Наличники из оцинкованной стали с полимерным покрытием","п.м",null,null,null,null,null,0]
["Ворота"]
["29","ТЕР09-04-011-01","Монтаж каркасов ворот большепролетных зданий, ангаров и др. без механизмов открывания","1 т конструкций",1.4219999999999999,{"$f":"G81/E81","v":174276.41},247821.05,{"$f":"I81/E81","v":8950.9},12728.18,{"$f":"G81+I81","v":260549.23}]
[null,"101-0309","Канаты пеньковые пропитанные","т",null,null,null,null,null,0]
[null,"101-0324","Кислород технический: газообразный","м3",null,null,null,null,null,0]
[null,"101-0797","Проволока горячекатаная в мотках, диаметром 6,3-6,5 мм","т",null,null,null,null,null,0]
[null,"101-1019","Швеллеры № 40 из стали марки: Ст0","т",null,null,null,null,null,0]
[null,"101-1515","Электроды диаметром: 4 мм Э46","т",null,null,null,null,null,0]
[null,"101-1805","Гвозди строительные","т",null,null,null,null,null,0]
[null,"101-2278","Пропан-бутан, смесь техническая","кг",null,null,null,null,null,0]
[null,"101-2467","Растворитель марки: Р-4","т",null,null,null,null,null,0]
[null,"102-0023","Бруски обрезные хвойных пород длиной: 4-6,5 м, шириной 75-150 мм, толщиной 40-75 мм, I сорта","м3",null,null,null,null,null,0]
[null,"113-0021","Грунтовка: ГФ-021 красно-коричневая","т",null,null,null,null,null,0]
[null,"201-0756","Отдельные конструктивные элементы зданий и сооружений с преобладанием: горячекатаных профилей, средняя масса сборочной единицы от 0,1 до 0,5 т","т",null,null,null,null,null,0]
[null,"508-0097","Канат двойной свивки типа ТК, конструкции 6х19(1+6+12)+1 о.с., оцинкованный из проволок марки В, маркировочная группа: 1770 н/мм2, диаметром 5,5 мм","10 м",null,null,null,null,null,0]
["30","ТЕРм11-05-001-01","Механизм исполнительный, масса: до 20 кг","1 шт.",2,{"$f":"G94/E94","v":2196.02},4392.03,{"$f":"I94/E94","v":108.23},216.46,4608.49]
[null,"101-2039","Болты с гайками и шайбами оцинкованные, диаметр: 12 мм","кг",null,null,null,null,null,0]
[null,"999-9950","Вспомогательные ненормируемые ресурсы (2% от Оплаты труда рабочих)","руб",null,null,null,null,null,0]
["31","ТЦ_01.16.00.00_78_7810842826_14.05.2025_02","Ворота распашные металлические, с порогом открыванием наружу,с калиткой EI60 3100х3100мм","шт",1,{"$f":"G97/E97","v":0},0,{"$f":"I97/E97","v":173704.24},173704.24,173704.24]
["32","ТЦ_01.16.00.00_78_7841375755_14.05.2025_02","Ворота распашные металлические, с порогом утепленные,  открыванием наружу  EI60 2600х2300мм","шт",1,{"$f":"G98/E98","v":0},0,{"$f":"I98/E98","v":111278.54},111278.54,111278.54]
["Раздел 5. Полы"]
["Тип 1.  S=331,8 м2"]
["33","ТЕР11-01-011-03","Устройство стяжек: бетонных толщиной 20 мм","100 м2 стяжки",3.3180000000000001,{"$f":"G101/E101","v":83767.740000000005},277941.34999999998,{"$f":"I101/E101","v":94.05},312.06,278253.40999999997]
[null,"411-0001","Вода","м3",null,null,null,null,null,0]
["34","ТЕР11-01-011-04","Устройство стяжек: на каждые 5 мм изменения толщины стяжки добавлять или исключать к расценке 11-01-011-03 // до толщ. 250 мм","100 м2 стяжки",3.3180000000000001,{"$f":"G103/E103","v":74212.41},246236.76,{"$f":"I103/E103","v":0},0,246236.76]
["35","ТЦ_59.1.04.01_47_4705078395_08.02.2024_02","Бетон  В22,5","м3",84.608999999999995,{"$f":"G104/E104","v":0},0,{"$f":"I104/E104","v":5087.84},430477.29,430477.29]
["36","ТЕР06-01-015-10","Армирование подстилающих слоев и набетонок","1 т",0.58099999999999996,{"$f":"G105/E105","v":27714.49},16102.12,{"$f":"I105/E105","v":3009.64},1748.6,17850.72]
[null,"101-0816","Проволока светлая диаметром: 1,1 мм","т",null,null,null,null,null,0]
["37","ТЦ_08.4.02.05_66_6686134976_08.02.2024_02","Сетка арм. 100х100 4Вр1","м2",331.8,{"$f":"G107/E107","v":0},0,{"$f":"I107/E107","v":116.07},38512.370000000003,38512.370000000003]
["38","ТЕР11-01-020-03","Устройство покрытий поливинилацетатных: толщиной 3 мм // прим. покрытие полимерное","100 м2 покрытия",3.3180000000000001,{"$f":"G108/E108","v":180031.38},597344.11,{"$f":"I108/E108","v":147312.06},488781.43,1086125.54]
[null,"101-0430","Краски масляные и алкидные земляные, готовые к применению: сурик железный МА-15, ПФ-14","т",null,null,null,null,null,0]
[null,"101-0433","Краски масляные и алкидные земляные, готовые к применению: охра МА-15","т",null,null,null,null,null,0]
[null,"101-1305","Портландцемент общестроительного назначения бездобавочный, марки: 400","т",null,null,null,null,null,0]
[null,"101-1591","Смола каменноугольная для дорожного строительства","т",null,null,null,null,null,0]
[null,"101-2293","Кислота ортофосфорная: техническая, сорт I","т",null,null,null,null,null,0]
[null,"101-2358","Дисперсия поливинилацетатная непластифицированная марки Д50Н","кг",null,null,null,null,null,0]
[null,"113-0306","Маршалит","т",null,null,null,null,null,0]
[null,"408-0122","Песок природный для строительных: работ средний","м3",null,null,null,null,null,0]
[null,"411-0001","Вода","м3",null,null,null,null,null,0]
["Тип 2.  S=12,1 м2"]
["39","ТЕР11-01-009-01","Устройство тепло- и звукоизоляции сплошной из плит: или матов минераловатных или стекловолокнистых","100 м2 изолируемой поверхности",0.121,{"$f":"G119/E119","v":67007.929999999993},8107.96,{"$f":"I119/E119","v":0},0,8107.96]
["40","ТССЦ-104-0496","Плиты минераловатные \"Руф Баттс\" ROCKWOOL","м3",1.25,{"$f":"G120/E120","v":0},0,{"$f":"I120/E120","v":15021.68},18777.099999999999,18777.099999999999]
["41","ТЕР11-01-050-01","Устройство пароизоляции из полиэтиленовой пленки в один слой насухо","100 м2 поверхности",0.121,{"$f":"G121/E121","v":7471.82},904.09,{"$f":"I121/E121","v":19003.72},2299.4499999999998,3203.54]
[null,"113-0324","Пленка полиэтиленовая толщиной: 0,2-0,5 мм","м2",null,null,null,null,null,0]
["42","ТЕР11-01-011-03","Устройство стяжек: бетонных толщиной 20 мм","100 м2 стяжки",0.121,{"$f":"G123/E123","v":83760.83},10135.06,{"$f":"I123/E123","v":94.05},11.38,10146.44]
[null,"411-0001","Вода","м3",null,null,null,null,null,0]
["43","ТЕР11-01-011-04","Устройство стяжек: на каждые 5 мм изменения толщины стяжки добавлять или исключать к расценке 11-01-011-03 // до 150 мм","100 м2 стяжки",0.121,{"$f":"G125/E125","v":41945.21},5075.37,{"$f":"I125/E125","v":0},0,5075.37]
["44","ТЦ_59.1.04.01_47_4705078395_08.02.2024_02","Бетон  В22,5","м3",1.851,{"$f":"G126/E126","v":0},0,{"$f":"I126/E126","v":5087.84},9417.6,9417.6]
["45","ТЕР06-01-015-10","Армирование подстилающих слоев и набетонок","1 т",2.1174999999999999E-2,{"$f":"G127/E127","v":27655.25},585.6,{"$f":"I127/E127","v":3009.68},63.73,649.33000000000004]
[null,"101-0816","Проволока светлая диаметром: 1,1 мм","т",null,null,null,null,null,0]
["46","ТЦ_08.4.02.05_66_6686134976_08.02.2024_02","Сетка арм. 100х100 4Вр1","м2",12.1,{"$f":"G129/E129","v":0},0,{"$f":"I129/E129","v":116.07},1404.45,1404.45]
["47","ТЕР11-01-020-03","Устройство покрытий поливинилацетатных: толщиной 3 мм // прим. покрытие полимерное","100 м2 покрытия",0.121,{"$f":"G130/E130","v":180022.23},21782.69,{"$f":"I130/E130","v":147312.07},17824.759999999998,39607.449999999997]
[null,"101-0430","Краски масляные и алкидные земляные, готовые к применению: сурик железный МА-15, ПФ-14","т",null,null,null,null,null,0]
[null,"101-0433","Краски масляные и алкидные земляные, готовые к применению: охра МА-15","т",null,null,null,null,null,0]
[null,"101-1305","Портландцемент общестроительного назначения бездобавочный, марки: 400","т",null,null,null,null,null,0]
[null,"101-1591","Смола каменноугольная для дорожного строительства","т",null,null,null,null,null,0]
[null,"101-2293","Кислота ортофосфорная: техническая, сорт I","т",null,null,null,null,null,0]
[null,"101-2358","Дисперсия поливинилацетатная непластифицированная марки Д50Н","кг",null,null,null,null,null,0]
[null,"113-0306","Маршалит","т",null,null,null,null,null,0]
[null,"408-0122","Песок природный для строительных: работ средний","м3",null,null,null,null,null,0]
[null,"411-0001","Вода","м3",null,null,null,null,null,0]
["Тип 3.  S=558,8 м2"]
["48","ТЕР11-01-011-03","Устройство стяжек: бетонных толщиной 20 мм","100 м2 стяжки",5.5880000000000001,{"$f":"G141/E141","v":83767.95},468095.3,{"$f":"I141/E141","v":94.05},525.54999999999995,468620.85]
[null,"411-0001","Вода","м3",null,null,null,null,null,0]
["49","ТЕР11-01-011-04","Устройство стяжек: на каждые 5 мм изменения толщины стяжки добавлять или исключать к расценке 11-01-011-03 // толщ. 30 мм","100 м2 стяжки",5.5880000000000001,{"$f":"G143/E143","v":3226.61},18030.29,{"$f":"I143/E143","v":0},0,18030.29]
["50","ТЦ_59.1.04.01_47_4705078395_08.02.2024_02","Бетон  В22,5","м3",17.099,{"$f":"G144/E144","v":0},0,{"$f":"I144/E144","v":5087.84},86997.02,{"$f":"G144+I144","v":86997.02}]
["51","ТЕР11-01-020-03","Устройство покрытий поливинилацетатных: толщиной 3 мм // прим. покрытие полимерное","100 м2 покрытия",5.5880000000000001,{"$f":"G145/E145","v":180031.49},1006015.98,{"$f":"I145/E145","v":147312.06},823179.81,1829195.79]
[null,"101-0430","Краски масляные и алкидные земляные, готовые к применению: сурик железный МА-15, ПФ-14","т",null,null,null,null,null,0]
[null,"101-0433","Краски масляные и алкидные земляные, готовые к применению: охра МА-15","т",null,null,null,null,null,0]
[null,"101-1305","Портландцемент общестроительного назначения бездобавочный, марки: 400","т",null,null,null,null,null,0]
[null,"101-1591","Смола каменноугольная для дорожного строительства","т",null,null,null,null,null,0]
[null,"101-2293","Кислота ортофосфорная: техническая, сорт I","т",null,null,null,null,null,0]
[null,"101-2358","Дисперсия поливинилацетатная непластифицированная марки Д50Н","кг",null,null,null,null,null,0]
[null,"113-0306","Маршалит","т",null,null,null,null,null,0]
[null,"408-0122","Песок природный для строительных: работ средний","м3",null,null,null,null,null,0]
[null,"411-0001","Вода","м3",null,null,null,null,null,0]
["Тип 4.  S=62,7 м2"]
["52","ТЕР11-01-015-07","Шлифовка бетонных или металлоцементных покрытий // прим.","100 м2 покрытия",0.627,{"$f":"G156/E156","v":191485.18},120061.21,{"$f":"I156/E156","v":180.13},112.94,120174.15]
[null,"101-2109","Карборунд","кг",null,null,null,null,null,0]
[null,"411-0001","Вода","м3",null,null,null,null,null,0]
["53","ТЕР11-01-015-08","Железнение цементных покрытий // прим.","100 м2 покрытия",0.627,{"$f":"G159/E159","v":26257.51},16463.46,{"$f":"I159/E159","v":537.69000000000005},337.13,16800.59]
[null,"101-1305","Портландцемент общестроительного назначения бездобавочный, марки: 400","т",null,null,null,null,null,0]
[null,"411-0001","Вода","м3",null,null,null,null,null,0]
["Тип 5.  S=32,8 м2"]
["54","ТЕР11-01-011-03","Устройство стяжек: бетонных толщиной 20 мм","100 м2 стяжки",0.32800000000000001,{"$f":"G163/E163","v":83765.27},27475.01,{"$f":"I163/E163","v":94.02},30.84,27505.85]
[null,"411-0001","Вода","м3",null,null,null,null,null,0]
["55","ТЕР11-01-011-04","Устройство стяжек: на каждые 5 мм изменения толщины стяжки добавлять или исключать к расценке 11-01-011-03 // толщ.250 мм","100 м2 стяжки",0.32800000000000001,{"$f":"G165/E165","v":74210.67},24341.1,{"$f":"I165/E165","v":0},0,24341.1]
["56","ТЦ_59.1.04.01_47_4705078395_08.02.2024_02","Бетон  В22,5","м3",8.3640000000000008,{"$f":"G166/E166","v":0},0,{"$f":"I166/E166","v":5087.84},42554.71,42554.71]
["57","ТЕР09-03-049-01","Монтаж съемных металлических полов из плит размером 500х500 мм: стальных штампованных","100 м2 пола",0.32800000000000001,{"$f":"G167/E167","v":1011383.35},331733.74,{"$f":"I167/E167","v":0},0,331733.74]
["58","ТЦ_11.2.09.08_77_7720563313_21.05.2025_02","Фальшпол 32 8 м2","компл.",1,{"$f":"G168/E168","v":0},0,{"$f":"I168/E168","v":643421.69999999995},643421.69999999995,643421.69999999995]
["Тип 6.  S=47 м2"]
["59","ТЕР11-01-009-01","Устройство тепло- и звукоизоляции сплошной из плит: или матов минераловатных или стекловолокнистых","100 м2 изолируемой поверхности",0.47,{"$f":"G170/E170","v":67007.98},31493.75,{"$f":"I170/E170","v":0},0,31493.75]
["60","ТССЦ-104-0496","Плиты минераловатные \"Руф Баттс\" ROCKWOOL","м3",4.84,{"$f":"G171/E171","v":0},0,{"$f":"I171/E171","v":15021.68},72704.94,72704.94]
["61","ТЕР11-01-050-01","Устройство пароизоляции из полиэтиленовой пленки в один слой насухо","100 м2 поверхности",0.47,{"$f":"G172/E172","v":7474.91},3513.21,{"$f":"I172/E172","v":19003.66},8931.7199999999993,12444.93]
[null,"113-0324","Пленка полиэтиленовая толщиной: 0,2-0,5 мм","м2",null,null,null,null,null,0]
["62","ТЕР06-01-015-10","Армирование подстилающих слоев и набетонок","1 т",8.2250000000000004E-2,{"$f":"G174/E174","v":27712.58},2279.36,{"$f":"I174/E174","v":3009.73},247.55,2526.91]
[null,"101-0816","Проволока светлая диаметром: 1,1 мм","т",null,null,null,null,null,0]
["63","ТЦ_08.4.02.05_66_6686134976_08.02.2024_02","Сетка арм. 100х100 4Вр1","м2",47,{"$f":"G176/E176","v":0},0,{"$f":"I176/E176","v":116.07},5455.34,5455.34]
["64","ТЕР11-01-011-03","Устройство стяжек: бетонных толщиной 20 мм","100 м2 стяжки",0.47,{"$f":"G177/E177","v":83767.55},39370.75,{"$f":"I177/E177","v":94.04},44.2,39414.949999999997]
[null,"411-0001","Вода","м3",null,null,null,null,null,0]
["65","ТЕР11-01-011-04","Устройство стяжек: на каждые 5 мм изменения толщины стяжки добавлять или исключать к расценке 11-01-011-03","100 м2 стяжки",0.47,{"$f":"G179/E179","v":33878.400000000001},15922.85,{"$f":"I179/E179","v":0},0,15922.85]
["66","ТЦ_59.1.04.01_47_4705078395_08.02.2024_02","Бетон  В22,5","м3",5.9930000000000003,{"$f":"G180/E180","v":0},0,{"$f":"I180/E180","v":5087.84},30491.439999999999,30491.439999999999]
["67","ТЕР11-01-020-03","Устройство покрытий поливинилацетатных: толщиной 3 мм // прим. покрытие полимерное","100 м2 покрытия",0.47,{"$f":"G181/E181","v":180031.49},84614.8,{"$f":"I181/E181","v":147312.06},69236.67,153851.47]
[null,"101-0430","Краски масляные и алкидные земляные, готовые к применению: сурик железный МА-15, ПФ-14","т",null,null,null,null,null,0]
[null,"101-0433","Краски масляные и алкидные земляные, готовые к применению: охра МА-15","т",null,null,null,null,null,0]
[null,"101-1305","Портландцемент общестроительного назначения бездобавочный, марки: 400","т",null,null,null,null,null,0]
[null,"101-1591","Смола каменноугольная для дорожного строительства","т",null,null,null,null,null,0]
[null,"101-2293","Кислота ортофосфорная: техническая, сорт I","т",null,null,null,null,null,0]
[null,"101-2358","Дисперсия поливинилацетатная непластифицированная марки Д50Н","кг",null,null,null,null,null,0]
[null,"113-0306","Маршалит","т",null,null,null,null,null,0]
[null,"408-0122","Песок природный для строительных: работ средний","м3",null,null,null,null,null,0]
[null,"411-0001","Вода","м3",null,null,null,null,null,0]
["Раздел 6. Отделка"]
["Цоколь"]
["68","ТЕР11-01-015-07","Шлифовка бетонных или металлоцементных покрытий // прим. затирка поверхности цоколя","100 м2 покрытия",2.3363999999999998,{"$f":"G193/E193","v":175018.44},408913.09,{"$f":"I193/E193","v":180.14},420.88,409333.97]
[null,"101-2109","Карборунд","кг",null,null,null,null,null,0]
[null,"411-0001","Вода","м3",null,null,null,null,null,0]
["69","ТЕР15-04-015-02","Окраска фасадов с люлек с подготовкой поверхности: силикатная // прим.","100 м2 фасада",2.3363999999999998,{"$f":"G196/E196","v":71764.89},167671.5,{"$f":"I196/E196","v":8107.43},18942.2,186613.7]
[null,"101-1757","Ветошь","кг",null,null,null,null,null,0]
[null,"101-1841","Краски силикатные зеленая и красная","т",null,null,null,null,null,0]
[null,"113-0043","Жидкость: гидрофобизирующая ГКЖ-10","т",null,null,null,null,null,0]
[null,"113-0368","Стекло жидкое калийное","т",null,null,null,null,null,0]
[null,"402-0083","Раствор готовый отделочный тяжелый,: цементно-известковый 1:1:6","м3",null,null,null,null,null,0]
[null,"409-0639","Пемза шлаковая (щебень пористый из металлургического шлака), марка 600, фракция 5-10 мм","м3",null,null,null,null,null,0]
[null,"411-0001","Вода","м3",null,null,null,null,null,0]
["Окраска конструкций стен и потолков из профлиста, учтена в сметах к разделу КМ"]
["Раздел 7. Отмостка  ( 18,01+5,2+15,435*2+2,31+3+1,7+1,7+3,175+0,915+5,61-3,1+21,6+7+7+21,6, ширина 1м.п.)"]
["70","ТЕР27-04-001-04","Устройство подстилающих и выравнивающих слоев оснований: из щебня","100 м3 материала основания (в плотном теле)",0.37980000000000003,{"$f":"G206/E206","v":206248.63},78333.23,{"$f":"I206/E206","v":188.1},71.44,78404.67]
[null,"411-0001","Вода","м3",null,null,null,null,null,0]
["71","ТССЦ-408-0015","Щебень из природного камня для строительных работ марка: 800, фракция 20-40 мм","м3",47.85,{"$f":"G208/E208","v":0},0,{"$f":"I208/E208","v":3394.18},162411.32,{"$f":"G208+I208","v":162411.32}]
["72","ТЕР06-01-013-01","Устройство подливки толщиной  20 мм // прим. бетонное основание","100 м2 подливки под оборудование",1.2659,{"$f":"G209/E209","v":97758.18},123752.08,{"$f":"I209/E209","v":2743.28},3472.72,127224.8]
[null,"101-1805","Гвозди строительные","т",null,null,null,null,null,0]
[null,"102-0053","Доски обрезные хвойных пород длиной: 4-6,5 м, шириной 75-150 мм, толщиной 25 мм, III сорта","м3",null,null,null,null,null,0]
[null,"102-0061","Доски обрезные хвойных пород длиной: 4-6,5 м, шириной 75-150 мм, толщиной 44 мм и более, III сорта","м3",null,null,null,null,null,0]
["73","ТЕР06-01-013-02","На каждые 10 мм изменения толщины добавлять или исключать к расценке 06-01-013-01 // до 60 мм","100 м2 подливки под оборудование",1.2659,{"$f":"G213/E213","v":112070.12},141869.57,{"$f":"I213/E213","v":2681.21},3394.14,145263.71]
[null,"101-1805","Гвозди строительные","т",null,null,null,null,null,0]
[null,"102-0053","Доски обрезные хвойных пород длиной: 4-6,5 м, шириной 75-150 мм, толщиной 25 мм, III сорта","м3",null,null,null,null,null,0]
[null,"102-0061","Доски обрезные хвойных пород длиной: 4-6,5 м, шириной 75-150 мм, толщиной 44 мм и более, III сорта","м3",null,null,null,null,null,0]
["74","Прайс","Бетон  В15","м3",7.7469999999999999,{"$f":"G217/E217","v":0},0,{"$f":"I217/E217","v":8793.16},68120.600000000006,68120.600000000006]
["75","ТЕР06-01-015-10","Армирование подстилающих слоев и набетонок","1 т",0.2215,{"$f":"G218/E218","v":27712.69},6138.36,{"$f":"I218/E218","v":3009.66},666.64,6805]
[null,"101-0816","Проволока светлая диаметром: 1,1 мм","т",null,null,null,null,null,0]
["76","ТЦ_08.4.02.05_66_6686134976_08.02.2024_02","Сетка арм. 100х100 4Вр1","м2",126.59,{"$f":"G220/E220","v":0},0,{"$f":"I220/E220","v":116.07},14693.43,14693.43]
["77","ТЕР11-01-019-01","Устройство покрытий асфальтобетонных: литых толщиной 25 мм","100 м2 покрытия",1.2659,{"$f":"G221/E221","v":60525.1},76618.73,{"$f":"I221/E221","v":18805.25},23805.57,100424.3]
[null,"101-0073","Битумы нефтяные строительные марки: БН-90/10","т",null,null,null,null,null,0]
[null,"101-0322","Керосин для технических целей марок КТ-1, КТ-2","т",null,null,null,null,null,0]
[null,"102-0085","Бруски обрезные хвойных пород длиной: 2-3,75 м, шириной 75-150 мм, толщиной 40-75 мм, III сорта","м3",null,null,null,null,null,0]
[null,"410-1020","Асфальт литой: для покрытий тротуаров","м3",null,null,null,null,null,0]
[null,null,"Всего, руб. с НДС",null,null,null,{"$f":"SUM(G15:G225)","v":5625627.9800000004},null,{"$f":"SUM(I15:I225)","v":5500149.5199999996},{"$f":"SUM(J15:J225)","v":11125777.5}]
[null,null,"Всего, руб. без НДС",null,null,null,{"$f":"G226/1.2","v":4688023.32},null,{"$f":"I226/1.2","v":4583457.93},{"$f":"J226/1.2","v":9271481.25}]

{"sheet":"1-1632-2021-2.1.2,2.1.7-АР1","index":12,"n_rows":37,"n_cols":10,"rows_kept":37,"cut":false,"hidden":false,"merged":[]}
[]
["Терминал по перевалке минеральных удобрений в морском торговом порту Усть-Луга. Береговые объекты терминала"]
["(наименование стройки)"]
["1632-2021-2.1.2, 2.1.7-АР1_07.04.041-П-00-00"]
["(локальная смета)"]
["на Архитектурные решения, 07.04.041 Конвейерная галерея №2 (код SAP 01.02.010) код ГП 2.1.2"]
["(наименование работ и затрат, наименование объекта)"]
[null,"Основание:","1632-2021-2.1.2, 2.1.7-АР1_0_0_RU_IFС"]
[]
["№ п/п","Обоснование","Наименование работ и затрат","Ед. изм.","Кол-во","Цена за ед.измерения работ, руб. с НДС","Всего, стоимость работ,руб. с НДС","Цена за ед.измерения материалов, руб. с НДС","Всего, стоимость материалов, руб. с НДС","Итого, руб. с НДС"]
["1","2","3","4","5",6,7,8,9,10]
["Раздел 1. Кровля",null,null,null,null,null,null,null,null,{"$f":"G12+I12","v":0}]
["Монтаж кровельного покрытия  из профнастила учтен в разделе КМ",null,null,null,null,null,null,null,null,0]
["1632-2021-2.1.2, 2.1.7-АР1.  ( в осях 1-7 )",null,null,null,null,null,null,null,null,0]
["1","ТЕР11-01-009-02","Устройство тепло- и звукоизоляции сплошной из плит: древесноволокнистых // прим. ЦСП в 2 слоя","100 м2 изолируемой поверхности",1.4590000000000001,{"$f":"G15/E15","v":36149.370000000003},52741.93,{"$f":"I15/E15","v":0},0,52741.93]
["2","ТЦ_01.6.01.10_78_7810994931_08.02.2024_02","ЦСП 13200х1200х8","м2",300.55,{"$f":"G16/E16","v":0},0,{"$f":"I16/E16","v":496.75},149299.48000000001,149299.48000000001]
["3","ТЕР12-01-002-09","Устройство кровель плоских из наплавляемых материалов: в два слоя","100 м2 кровли",1.4590000000000001,{"$f":"G17/E17","v":34049.269999999997},49677.88,{"$f":"I17/E17","v":1974.08},2880.18,52558.06]
[null,"101-2278","Пропан-бутан, смесь техническая","кг",null,null,null,null,null,0]
["4","ТЦ_12.0.00.00_78_7826181040_08.02.2024_02","Техноэласт Пламя Стоп","м2",166.33,{"$f":"G19/E19","v":0},0,{"$f":"I19/E19","v":527.11},87674.09,87674.09]
["5","ТЦ_12.0.00.00_78_7802585999_08.02.2024_02","Техноэласт ЭПП","м2",169.24,{"$f":"G20/E20","v":0},0,{"$f":"I20/E20","v":417.88},70722.11,70722.11]
["Раздел 2. Дверные проемы"]
["1632-2021-2.1.2, 2.1.7-АР1.  ( в осях 1-7 )"]
["6","ТЕР09-04-012-01","Установка металлических дверных блоков в готовые проемы","1 м2 проема",6.3,{"$f":"G23/E23","v":5666.82},35700.99,{"$f":"I23/E23","v":327.69},2064.4299999999998,37765.42]
[null,"101-1513","Электроды диаметром: 4 мм Э42","т",null,null,null,null,null,0]
[null,"101-1921","Пена монтажная: для герметизации стыков в баллончике емкостью 0,85 л","шт.",null,null,null,null,null,0]
[null,"204-0062","Детали закладные и накладные изготовленные: без применения сварки, гнутья, сверления (пробивки) отверстий поставляемые отдельно","т",null,null,null,null,null,0]
["7","ТЦ_07.1.01.03_78_7841375755_25.01.2024_02","Дверь стальная наружная  (левая, правая) 1000х2100","шт",1,{"$f":"G27/E27","v":0},0,{"$f":"I27/E27","v":25965.83},25965.83,25965.83]
["8","ТЦ_07.1.01.03_78_7841375755_25.01.2024_02","Дверь стальная внутренняя  (правая) 1000х2100","шт",2,{"$f":"G28/E28","v":0},0,{"$f":"I28/E28","v":25965.83},51931.65,51931.65]
["9","ТССЦ-101-0961","Закрыватель дверной гидравлический рычажный в алюминиевом корпусе","шт.",3,{"$f":"G29/E29","v":0},0,{"$f":"I29/E29","v":4747.09},14241.28,14241.28]
["10","ТССЦ-101-6976","Замок электромагнитный универсальный сдвиговый AL-400S","шт.",3,{"$f":"G30/E30","v":0},0,{"$f":"I30/E30","v":14109.04},42327.12,42327.12]
["11","ТЕР15-01-070-02","Облицовка: дверных проемов в наружных стенах откосной планкой из оцинкованной стали с полимерным покрытием с установкой наличников из оцинкованной стали с полимерным покрытием","1 м2 проемов",6.3,{"$f":"G31/E31","v":3593.7},22640.29,{"$f":"I31/E31","v":1660.7},10462.41,33102.699999999997]
[null,"101-1691","Шурупы-саморезы 4,2х16 мм","100 шт.",null,null,null,null,null,0]
[null,"101-2409","Аквилон из оцинкованной стали с полимерным покрытием","п.м",null,null,null,null,null,0]
[null,"101-2410","Откосная планка шириной 250 мм из оцинкованной стали с полимерным покрытием","п.м",null,null,null,null,null,0]
[null,"101-2412","Наличники из оцинкованной стали с полимерным покрытием","п.м",null,null,null,null,null,0]
[null,null,"Всего, руб. с НДС",null,null,null,{"$f":"SUM(G12:G35)","v":160761.09},null,{"$f":"SUM(I12:I35)","v":457568.58},{"$f":"SUM(J12:J35)","v":618329.67000000004}]
[null,null,"Всего, руб. без НДС",null,null,null,{"$f":"G36/1.2","v":133967.57999999999},null,{"$f":"I36/1.2","v":381307.15},{"$f":"J36/1.2","v":515274.73}]

{"sheet":"1632-2021-2.1.11-АР","index":13,"n_rows":47,"n_cols":10,"rows_kept":47,"cut":false,"hidden":false,"merged":[]}
[]
["Терминал по перевалке минеральных удобрений в морском торговом порту Усть-Луга. Береговые объекты терминала"]
["(наименование стройки)"]
["1632-2021-2.1.11-АР_07.04.050-П-00-00"]
["(локальная смета)"]
["на Архитектурные решения, 07.04.050 Конвейерная галерея №11 (код SAP 01.02.008) код ГП 2.1.11"]
["(наименование работ и затрат, наименование объекта)"]
[null,"Основание:","1632-2021-2.1.11-АР_0_0_RU_IFC"]
[]
["№ п/п","Обоснование","Наименование работ и затрат","Ед. изм.","Кол-во","Цена за ед.измерения работ, руб. с НДС","Всего, стоимость работ,руб. с НДС","Цена за ед.измерения материалов, руб. с НДС","Всего, стоимость материалов, руб. с НДС","Итого, руб. с НДС"]
["1","2","3","4","5",6,7,8,9,10]
["Раздел 2. Дверные проемы",null,null,null,null,null,null,null,null,{"$f":"G12+I12","v":0}]
["6","ТЕР09-04-012-01","Установка металлических дверных блоков в готовые проемы","1 м2 проема",8.4,{"$f":"G13/E13","v":6003.1},50426.080000000002,{"$f":"I13/E13","v":327.69},2752.57,53178.65]
[null,"101-1513","Электроды диаметром: 4 мм Э42","т",null,null,null,null,null,{"$f":"G14+I14","v":0}]
[null,"101-1921","Пена монтажная: для герметизации стыков в баллончике емкостью 0,85 л","шт.",null,null,null,null,null,0]
[null,"204-0062","Детали закладные и накладные изготовленные: без применения сварки, гнутья, сверления (пробивки) отверстий поставляемые отдельно","т",null,null,null,null,null,0]
["7","ТЦ_07.1.01.03_50_5020088027_05.08.2024_02\nАналог ТССЦ-203-8146 1429,18/1397,12=2%","Дверь ДСН 1000-2100","шт",4,{"$f":"G17/E17","v":0},0,{"$f":"I17/E17","v":33091.199999999997},132364.78,132364.78]
["8","ТЕР15-01-070-02","Облицовка: дверных проемов в наружных стенах откосной планкой из оцинкованной стали с полимерным покрытием с установкой наличников из оцинкованной стали с полимерным покрытием","1 м2 проемов",8.4,{"$f":"G18/E18","v":3593.76},30187.57,{"$f":"I18/E18","v":1462.77},12287.26,42474.83]
[null,"101-1691","Шурупы-саморезы 4,2х16 мм","100 шт.",null,null,null,null,null,0]
[null,"101-2409","Аквилон из оцинкованной стали с полимерным покрытием","п.м",null,null,null,null,null,0]
[null,"101-2410","Откосная планка шириной 250 мм из оцинкованной стали с полимерным покрытием","п.м",null,null,null,null,null,0]
["Раздел 3. Снегозадерживающие устройства",null,null,null,null,{"$f":"G22/E22","v":{"$error":"#DIV/0!"}},0,{"$f":"I22/E22","v":{"$error":"#DIV/0!"}},0,0]
["9","ТЕР12-01-012-01","Ограждение кровель перилами","100 м ограждения",1.84,{"$f":"G23/E23","v":16112.14},29646.33,{"$f":"I23/E23","v":402.08},739.83,30386.16]
[null,"101-1529","Электроды диаметром: 6 мм Э42","т",null,null,null,null,null,0]
[null,"101-1851","Резина прессованная","кг",null,null,null,null,null,0]
["10","ТЦ_11.3.02.02_78_7804606806_25.01.2024_02\nАналог ТССЦ-101-7317  128,60/126,01=2%","Металлическое ограждение","м",184,{"$f":"G26/E26","v":0},0,{"$f":"I26/E26","v":1460.41},268714.53000000003,268714.53000000003]
["Раздел 4. Водосточная система",null,null,null,null,{"$f":"G27/E27","v":{"$error":"#DIV/0!"}},0,{"$f":"I27/E27","v":{"$error":"#DIV/0!"}},0,0]
["11","ТЕР12-01-009-02","Устройство желобов: подвесных","100 м желобов",1.86,{"$f":"G28/E28","v":65794.95},122378.61,{"$f":"I28/E28","v":427.46},795.08,123173.69]
[null,"101-0173","Гвозди проволочные оцинкованные для асбестоцементной кровли: 4,5х120 мм","т",null,null,null,null,null,0]
["12","ТЦ_12.1.01.05_78_7804550906_25.01.2024_02\nАналог ТССЦ-203-0960 5219,18/5114,28=2%","Водосточный желоб  д.185х3000","м",186,{"$f":"G30/E30","v":0},0,{"$f":"I30/E30","v":581.23},108108.05,108108.05]
["13","ТЦ_12.1.01.05_78_7804550906_25.01.2024_02\nАналог ТССЦ-203-0960 5219,18/5114,28=2%","185 мм Крюк желоба под профлист на болтовом\nсоединении RAL 7004\nМебельный болт М8х30 - 2 шт; Гайка М8 - 2 шт;\nШайба М8 - 2\nшт; Шайба уплотнительная - 2 шт","шт",186,{"$f":"G31/E31","v":0},0,{"$f":"I31/E31","v":769.33},143095.07,143095.07]
["14","ТЕР12-01-008-01","Устройство обделок на фасадах (наружные подоконники, пояски, балконы и др.): включая водосточные трубы, с изготовлением элементов труб","100 м2фасада (без вычета проемов)",4.4249999999999998,{"$f":"G32/E32","v":27777.14},122913.84,{"$f":"I32/E32","v":790.48},3497.86,126411.7]
[null,"101-0195","Гвозди толевые круглые: 3,0х40 мм","т",null,null,null,null,null,0]
[null,"101-0795","Проволока канатная оцинкованная, диаметром: 3 мм","т",null,null,null,null,null,0]
["15","ТЕР12-01-008-02","Устройство обделок на фасадах (наружные подоконники, пояски, балконы и др.): без водосточных труб","100 м2фасада (без вычета проемов)",-4.4249999999999998,{"$f":"G35/E35","v":10154.379999999999},-44933.14,{"$f":"I35/E35","v":164.84},-729.41,-45662.55]
[null,"101-0195","Гвозди толевые круглые: 3,0х40 мм","т",null,null,null,null,null,0]
["16","ТЦ_12.1.01.05_78_7804550906_25.01.2024_02\nАналог ТССЦ-203-0960 5219,18/5114,28=2%","150 мм Труба 3000 мм RAL 7004","м",228,{"$f":"G37/E37","v":0},0,{"$f":"I37/E37","v":708.24},161479.82999999999,161479.82999999999]
["17","ТЦ_12.1.01.05_78_7804550906_25.01.2024_02\nАналог ТССЦ-203-0960 5219,18/5114,28=2%","150 мм Охват на площадке (прут- 10х100мм;\nплощадка- 2,5х100х50мм) (черная полоса) RAL\n7004\nБолт 6х30 - 2 шт; Гайка М6 - 2 шт; Шайба М6 - 4\nшт","шт",228,{"$f":"G38/E38","v":0},0,{"$f":"I38/E38","v":321.08999999999997},73209.100000000006,73209.100000000006]
["18","ТЦ_12.1.01.05_78_7804550906_25.01.2024_02\nАналог ТССЦ-203-0960 5219,18/5114,28=2%","150 мм Труба 3000 мм RAL 7004","м",228,{"$f":"G39/E39","v":0},0,{"$f":"I39/E39","v":708.24},161479.82999999999,161479.82999999999]
["19","ТЦ_12.1.01.05_78_7804550906_25.01.2024_02\nАналог ТССЦ-203-0960 5219,18/5114,28=2%","150 мм Охват на площадке (прут- 10х100мм;\nплощадка- 2,5х100х50мм) (черная полоса) RAL\n7004\nБолт 6х30 - 2 шт; Гайка М6 - 2 шт; Шайба М6 - 4\nшт","шт",228,{"$f":"G40/E40","v":0},0,{"$f":"I40/E40","v":321.08999999999997},73209.100000000006,73209.100000000006]
["20","ТЕР16-07-002-01","Установка воронок водосточных","1 воронка",10,{"$f":"G41/E41","v":7449.09},74490.92,{"$f":"I41/E41","v":54.12},541.16999999999996,75032.09]
[null,"101-0311","Каболка","т",null,null,null,null,null,0]
[null,"101-1355","Цемент гипсоглиноземистый расширяющийся","т",null,null,null,null,null,0]
[null,"101-1522","Электроды диаметром: 5 мм Э42А","т",null,null,null,null,null,0]
["21","ТЦ_12.1.01.05_78_7804550906_25.01.2024_02\nАналог ТССЦ-203-0960 5219,18/5114,28=2%","150 мм Воронка под желоб (верх 185мм.) RAL\n7004Водосточный желоб  д.185х3000","шт",10,{"$f":"G45/E45","v":0},0,{"$f":"I45/E45","v":824.19},8241.91,8241.91]
[null,null,"Всего, руб. с НДС",null,null,null,{"$f":"SUM(G12:G45)","v":385110.21},null,{"$f":"SUM(I12:I45)","v":1149786.56},{"$f":"SUM(J12:J45)","v":1534896.77}]
[null,null,"Всего, руб. без НДС",null,null,null,{"$f":"G46/1.2","v":320925.18},null,{"$f":"I46/1.2","v":958155.47},{"$f":"J46/1.2","v":1279080.6399999999}]

{"sheet":"1632-2021-2.1.2,2.1.7-АР3","index":14,"n_rows":41,"n_cols":10,"rows_kept":41,"cut":false,"hidden":false,"merged":[]}
[]
["Терминал по перевалке минеральных удобрений в морском торговом порту Усть-Луга. Береговые объекты терминала"]
["(наименование стройки)"]
["1632-2021-2.1.2, 2.1.7-АР3_07.04.041-П-00-00"]
["(локальная смета)"]
["на Архитектурные решения, 07.04.041 Конвейерная галерея №2 (код SAP 01.02.010) код ГП 2.1.2"]
["(наименование работ и затрат, наименование объекта)"]
[null,"Основание:","1632-2021-2.1.2, 2.1.7-АР1_0_0_RU_IFС"]
[]
["№ п/п","Обоснование","Наименование работ и затрат","Ед. изм.","Кол-во","Цена за ед.измерения работ, руб. с НДС","Всего, стоимость работ,руб. с НДС","Цена за ед.измерения материалов, руб. с НДС","Всего, стоимость материалов, руб. с НДС","Итого, руб. с НДС"]
["1","2","3","4","5",6,7,8,9,10]
["Раздел 2. Кровля",null,null,null,null,null,null,null,null,{"$f":"G12+I12","v":0}]
["Монтаж кровельного покрытия  из профнастила учтен в разделе КМ",null,null,null,null,null,null,null,null,0]
["1632-2021-2.1.2, 2.1.7-АР3.  ( в осях 15-23 )",null,null,null,null,null,null,null,null,0]
["1","ТЕР11-01-009-02","Устройство тепло- и звукоизоляции сплошной из плит: древесноволокнистых // прим. ЦСП в 2 слоя","100 м2 изолируемой поверхности",1.379,{"$f":"G15/E15","v":36149.480000000003},49850.13,{"$f":"I15/E15","v":0},0,49850.13]
["2","ТЦ_01.6.01.10_78_7810994931_08.02.2024_02","ЦСП 13200х1200х8","м2",284.07,{"$f":"G16/E16","v":0},0,{"$f":"I16/E16","v":496.75},141112.95999999999,141112.95999999999]
["3","ТЕР12-01-002-09","Устройство кровель плоских из наплавляемых материалов: в два слоя","100 м2 кровли",1.379,{"$f":"G17/E17","v":34049.35},46954.05,{"$f":"I17/E17","v":1974.08},2722.26,49676.31]
[null,"101-2278","Пропан-бутан, смесь техническая","кг",null,null,null,null,null,0]
["4","ТЦ_12.0.00.00_78_7826181040_08.02.2024_02","Техноэласт Пламя Стоп","м2",157.21,{"$f":"G19/E19","v":0},0,{"$f":"I19/E19","v":527.11},82866.850000000006,82866.850000000006]
["5","ТЦ_12.0.00.00_78_7802585999_08.02.2024_02","Техноэласт ЭПП","м2",159.96,{"$f":"G20/E20","v":0},0,{"$f":"I20/E20","v":417.88},66844.19,66844.19]
["Раздел 3. Дверные проемы"]
["1632-2021-2.1.2, 2.1.7-АР3.  ( в осях 15-23 )"]
["6","ТЕР09-04-012-01","Установка металлических дверных блоков в готовые проемы","1 м2 проема",4.2,{"$f":"G23/E23","v":6003.1},25213.040000000001,{"$f":"I23/E23","v":327.69},1376.28,26589.32]
[null,"101-1513","Электроды диаметром: 4 мм Э42","т",null,null,null,null,null,0]
[null,"101-1921","Пена монтажная: для герметизации стыков в баллончике емкостью 0,85 л","шт.",null,null,null,null,null,0]
[null,"204-0062","Детали закладные и накладные изготовленные: без применения сварки, гнутья, сверления (пробивки) отверстий поставляемые отдельно","т",null,null,null,null,null,0]
["7","ТЦ_07.1.01.03_78_7841375755_25.01.2024_02","Дверь стальная наружная 1000х2100","шт",2,{"$f":"G27/E27","v":0},0,{"$f":"I27/E27","v":25965.83},51931.65,51931.65]
["8","ТЕР09-04-013-01","Установка противопожарных дверей: однопольных глухих","1 м2 проема",2.1,{"$f":"G28/E28","v":5119.79},10751.56,{"$f":"I28/E28","v":675.03},1417.56,12169.12]
[null,"101-1513","Электроды диаметром: 4 мм Э42","т",null,null,null,null,null,0]
[null,"101-1929","Болты анкерные","т",null,null,null,null,null,0]
[null,"101-3661","Пена монтажная: противопожарная полиуретановая NULLIFIRE (0,88 л)","шт.",null,null,null,null,null,0]
["9","ТЦ_07.1.01.03_78_7841375755_25.01.2024_02","Дверь противопожарная металлическая: однопольная ДПМ-01/30, размером 1000х2100 мм","шт",1,{"$f":"G32/E32","v":0},0,{"$f":"I32/E32","v":25965.83},25965.83,25965.83]
["10","ТССЦ-101-0961","Закрыватель дверной гидравлический рычажный в алюминиевом корпусе","шт.",3,{"$f":"G33/E33","v":0},0,{"$f":"I33/E33","v":4747.09},14241.28,14241.28]
["11","ТССЦ-101-6976","Замок электромагнитный универсальный сдвиговый AL-400S","шт.",3,{"$f":"G34/E34","v":0},0,{"$f":"I34/E34","v":14109.04},42327.12,42327.12]
["12","ТЕР15-01-070-02","Облицовка: дверных проемов в наружных стенах откосной планкой из оцинкованной стали с полимерным покрытием с установкой наличников из оцинкованной стали с полимерным покрытием","1 м2 проемов",6.3,{"$f":"G35/E35","v":3234.33},20376.259999999998,{"$f":"I35/E35","v":1660.7},10462.41,30838.67]
[null,"101-1691","Шурупы-саморезы 4,2х16 мм","100 шт.",null,null,null,null,null,0]
[null,"101-2409","Аквилон из оцинкованной стали с полимерным покрытием","п.м",null,null,null,null,null,0]
[null,"101-2410","Откосная планка шириной 250 мм из оцинкованной стали с полимерным покрытием","п.м",null,null,null,null,null,0]
[null,"101-2412","Наличники из оцинкованной стали с полимерным покрытием","п.м",null,null,null,null,null,0]
[null,null,"Всего, руб. с НДС",null,null,null,{"$f":"SUM(G15:G39)","v":153145.04},null,{"$f":"SUM(I15:I39)","v":441268.39},{"$f":"SUM(J15:J39)","v":594413.43000000005}]
[null,null,"Всего, руб. без НДС",null,null,null,{"$f":"G40/1.2","v":127620.87},null,{"$f":"I40/1.2","v":367723.66},{"$f":"J40/1.2","v":495344.53}]

{"sheet":"1632-2021-2.1.2,2.1.7-АР2","index":15,"n_rows":41,"n_cols":10,"rows_kept":41,"cut":false,"hidden":false,"merged":[]}
[]
["Терминал по перевалке минеральных удобрений в морском торговом порту Усть-Луга. Береговые объекты терминала"]
["(наименование стройки)"]
["1632-2021-2.1.2, 2.1.7-АР2-07.04.041-П-00-00"]
["(локальная смета)"]
["на Архитектурные решения, 07.04.041 Конвейерная галерея №2 (код SAP 01.02.010) код ГП 2.1.2"]
["(наименование работ и затрат, наименование объекта)"]
[null,"Основание:","1632-2021-2.1.2, 2.1.7-АР1_0_0_RU_IFС"]
[]
["№ п/п","Обоснование","Наименование работ и затрат","Ед. изм.","Кол-во","Цена за ед.измерения работ, руб. с НДС","Всего, стоимость работ,руб. с НДС","Цена за ед.измерения материалов, руб. с НДС","Всего, стоимость материалов, руб. с НДС","Итого, руб. с НДС"]
["1","2","3","4","5",6,7,8,9,10]
["Раздел 2. Кровля",null,null,null,null,null,null,null,null,{"$f":"G12+I12","v":0}]
["Монтаж кровельного покрытия  из профнастила учтен в разделе КМ",null,null,null,null,null,null,null,null,0]
["1632-2021-2.1.2, 2.1.7-АР2.  ( в осях 8-14 )",null,null,null,null,null,null,null,null,0]
["1","ТЕР11-01-009-02","Устройство тепло- и звукоизоляции сплошной из плит: древесноволокнистых // прим. ЦСП","100 м2 изолируемой поверхности",1.32,{"$f":"G15/E15","v":36149.120000000003},47716.84,{"$f":"I15/E15","v":0},0,47716.84]
["2","ТЦ_01.6.01.10_78_7810994931_08.02.2024_02\nАналог ТССЦ-101-5068 25,77/24,64=2%","ЦСП 13200х1200х8","м2",271.92,{"$f":"G16/E16","v":0},0,{"$f":"I16/E16","v":506.71},137783.67999999999,137783.67999999999]
["3","ТЕР12-01-002-09","Устройство кровель плоских из наплавляемых материалов: в два слоя","100 м2 кровли",1.32,{"$f":"G17/E17","v":34049.89},44945.86,{"$f":"I17/E17","v":1974.08},2605.7800000000002,47551.64]
[null,"101-2278","Пропан-бутан, смесь техническая","кг",null,null,null,null,null,0]
["4","ТЦ_12.0.00.00_78_7826181040_08.02.2024_02\nАналог ТССЦ-101-4724 26,31/25,55=2%","Техноэласт Пламя Стоп","м2",150.47999999999999,{"$f":"G19/E19","v":0},0,{"$f":"I19/E19","v":537.67999999999995},80910.67,80910.67]
["5","ТЦ_12.0.00.00_78_7802585999_08.02.2024_02\nАналог ТССЦ-101-4702 22,34/21,66=3%","Техноэласт ЭПП","м2",153.12,{"$f":"G20/E20","v":0},0,{"$f":"I20/E20","v":430.45},65909.83,65909.83]
["Раздел 3. Дверные проемы"]
["1632-2021-2.1.2, 2.1.7-АР2.  ( в осях 8-14 )"]
["6","ТЕР09-04-012-01","Установка металлических дверных блоков в готовые проемы","1 м2 проема",4.2,{"$f":"G23/E23","v":6003.1},25213.040000000001,{"$f":"I23/E23","v":327.69},1376.28,26589.32]
[null,"101-1513","Электроды диаметром: 4 мм Э42","т",null,null,null,null,null,0]
[null,"101-1921","Пена монтажная: для герметизации стыков в баллончике емкостью 0,85 л","шт.",null,null,null,null,null,0]
[null,"204-0062","Детали закладные и накладные изготовленные: без применения сварки, гнутья, сверления (пробивки) отверстий поставляемые отдельно","т",null,null,null,null,null,0]
["7","ТЦ_07.1.01.03_78_7841375755_25.01.2024_02","Дверь стальная наружная  (правая) 1000х2100","шт",2,{"$f":"G27/E27","v":0},0,{"$f":"I27/E27","v":25965.83},51931.65,51931.65]
["8","ТЕР09-04-013-01","Установка противопожарных дверей: однопольных глухих","1 м2 проема",2.1,{"$f":"G28/E28","v":5119.79},10751.56,{"$f":"I28/E28","v":675.03},1417.56,12169.12]
[null,"101-1513","Электроды диаметром: 4 мм Э42","т",null,null,null,null,null,0]
[null,"101-1929","Болты анкерные","т",null,null,null,null,null,0]
[null,"101-3661","Пена монтажная: противопожарная полиуретановая NULLIFIRE (0,88 л)","шт.",null,null,null,null,null,0]
["9","ТЦ_07.1.01.03_78_7841375755_25.01.2024_02","Дверь противопожарная металлическая: однопольная ДПМ-01/30, размером 1000х2100 мм","шт",1,{"$f":"G32/E32","v":0},0,{"$f":"I32/E32","v":25965.83},25965.83,25965.83]
["10","ТССЦ-101-0961","Закрыватель дверной гидравлический рычажный в алюминиевом корпусе","шт.",3,{"$f":"G33/E33","v":0},0,{"$f":"I33/E33","v":4747.09},14241.28,14241.28]
["11","ТССЦ-101-6976","Замок электромагнитный универсальный сдвиговый AL-400S","шт.",3,{"$f":"G34/E34","v":0},0,{"$f":"I34/E34","v":14109.04},42327.12,42327.12]
["12","ТЕР15-01-070-02","Облицовка: дверных проемов в наружных стенах откосной планкой из оцинкованной стали с полимерным покрытием с установкой наличников из оцинкованной стали с полимерным покрытием","1 м2 проемов",6.3,{"$f":"G35/E35","v":3306.2},20829.060000000001,{"$f":"I35/E35","v":1660.7},10462.41,31291.47]
[null,"101-1691","Шурупы-саморезы 4,2х16 мм","100 шт.",null,null,null,null,null,0]
[null,"101-2409","Аквилон из оцинкованной стали с полимерным покрытием","п.м",null,null,null,null,null,0]
[null,"101-2410","Откосная планка шириной 250 мм из оцинкованной стали с полимерным покрытием","п.м",null,null,null,null,null,0]
[null,"101-2412","Наличники из оцинкованной стали с полимерным покрытием","п.м",null,null,null,null,null,0]
[null,null,"Всего, руб. с НДС",null,null,null,{"$f":"SUM(G12:G39)","v":149456.35999999999},null,{"$f":"SUM(I12:I39)","v":434932.09},{"$f":"SUM(J12:J39)","v":584388.44999999995}]
[null,null,"Всего, руб. без НДС",null,null,null,{"$f":"G40/1.2","v":124546.97},null,{"$f":"I40/1.2","v":362443.41},{"$f":"J40/1.2","v":486990.38}]

{"sheet":"1632-2021-3.1-АС","index":16,"n_rows":129,"n_cols":10,"rows_kept":129,"cut":false,"hidden":false,"merged":[]}
[]
["Терминал по перевалке минеральных удобрений в морском торговом порту Усть-Луга. Береговые объекты терминала"]
["(наименование стройки)"]
["1632-2021-3.1-АС_07.03.010-П-00-00"]
["(локальная смета)"]
["на Архитектурно-строительные решения, 07.03.010 Крытый склад № 1 (код SAP 01.01.001) код ГП 3.1"]
["(наименование работ и затрат, наименование объекта)"]
[null,"Основание:","1632-2021-3.1-АС   Арх.№ 15788"]
[]
["№ п/п","Обоснование","Наименование работ и затрат","Ед. изм.","Кол-во","Цена за ед.измерения работ, руб. с НДС","Всего, стоимость работ,руб. с НДС","Цена за ед.измерения материалов, руб. с НДС","Всего, стоимость материалов, руб. с НДС","Итого, руб. с НДС"]
["1","2","3","4","5",6,7,8,9,10]
["Раздел 1. Кровля",null,null,null,null,null,null,null,null,{"$f":"G12+I12","v":0}]
["Кровельное покрытие  из профнастила ( Спецификация профнастила в осях А-Б, Б-В. лист.2.1)",null,null,null,null,null,null,null,null,0]
["Кровельное покрытие пристроек. ( Спецификация покрытия пристроек лист 2.3)",null,null,null,null,null,null,null,null,0]
["Сэндвич-панели толщ.200 мм",null,null,null,null,null,null,null,null,0]
["Снегозадержатель ( спецификация на стальные изделия лист. 22)",null,null,null,null,null,null,null,null,0]
["1","ТЕР12-01-012-01","Ограждение кровель перилами // прим.","100 м ограждения",16.7256,{"$f":"G17/E17","v":16112.16},269485.58,{"$f":"I17/E17","v":402.08},6725.05,276210.63]
[null,"101-1529","Электроды диаметром: 6 мм Э42","т",null,null,null,null,null,0]
[null,"101-1851","Резина прессованная","кг",null,null,null,null,null,0]
["2","ТЦ_08.3.08.02_77_7721040281_03.09.2024_02\nАналог ТССЦ-101-3716 5950,69/5786,99=2%","Сталь угловая 35х3","т",4.4734999999999996,{"$f":"G20/E20","v":0},0,{"$f":"I20/E20","v":89981.18},402530.82,402530.82]
["3","ТЦ_08.3.07.01_78_7814712017_03.09.2024_02\nАналог ТССЦ-101-4677 8181,64/7974,20=2%","Сталь полосовая 40х3","т",0.52507999999999999,{"$f":"G21/E21","v":0},0,{"$f":"I21/E21","v":103058.91},54114.17,54114.17]
["4","ТЦ_23.3.09.00_77_9718158840_03.09.2024_02\nАналог ТССЦ-103-2014 98,60/96,47=2%","Труба стальная электросварная прямошовная   д.20х1,8","т",2.70444,{"$f":"G22/E22","v":0},0,{"$f":"I22/E22","v":87539.09},236744.21,236744.21]
["5","ТЕР13-06-003-01","Очистка поверхности щетками","1 м2 очищаемой поверхности",562.70000000000005,{"$f":"G23/E23","v":1713.74},964319.46,{"$f":"I23/E23","v":0},0,964319.46]
["6","ТЕР13-06-004-01","Обеспыливание поверхности","1 м2 обеспыливаемой поверхности",562.70000000000005,{"$f":"G24/E24","v":195.96},110266.18,{"$f":"I24/E24","v":0},0,110266.18]
["7","ТЕР13-07-001-01","Обезжиривание поверхностей аппаратов и трубопроводов диаметром до 500 мм: бензином","100 м2 обезжириваемой поверхности",5.6269999999999998,{"$f":"G25/E25","v":17800.03},100160.77,{"$f":"I25/E25","v":2258.2199999999998},12707.02,112867.79]
[null,"101-0069","Бензин авиационный Б-70","т",null,null,null,null,null,0]
[null,"101-1757","Ветошь","кг",null,null,null,null,null,0]
["8","ТЕР13-03-002-04","Огрунтовка металлических поверхностей за один раз: грунтовкой ГФ-021","100 м2 окрашиваемой поверхности",5.6269999999999998,{"$f":"G28/E28","v":12829.12},72189.45,{"$f":"I28/E28","v":3168.88},17831.27,90020.72]
[null,"113-0021","Грунтовка: ГФ-021 красно-коричневая","т",null,null,null,null,null,0]
[null,"113-0077","Ксилол нефтяной марки А","т",null,null,null,null,null,0]
["9",null,"Порошковая окраска","м2",562.66999999999996,{"$f":"G31/E31","v":239.48},134749.35999999999,{"$f":"I31/E31","v":239.48},134749.35999999999,269498.71999999997]
["Фасонные элементы  ( спецификация лист 2.9)"]
["10","ТЕР12-01-010-01","Устройство мелких покрытий (брандмауэры, парапеты, свесы и т.п.) из листовой оцинкованной стали // фасонные элементы","100 м2 покрытия",13.829000000000001,{"$f":"G33/E33","v":234073.3},3236999.71,{"$f":"I33/E33","v":2396.06},33135.18,3270134.89]
[null,"101-0195","Гвозди толевые круглые: 3,0х40 мм","т",null,null,null,null,null,0]
[null,"101-0795","Проволока канатная оцинкованная, диаметром: 3 мм","т",null,null,null,null,null,0]
["11","ТЦ_08.3.05.00_66_6658410173_03.09.2024_02\nАналог ТССЦ-101-7554 7108,41/6921,07=2%","Прокат стальной тонколистовой AISI 304 толщ.1,5 мм (Ф32-116 шт., Ф33-26 шт.) S=241,6м2  ( 11,78 кг/м2)","т",3.2848999999999999,{"$f":"G36/E36","v":0},0,{"$f":"I36/E36","v":382197.3},1255479.9099999999,1255479.9099999999]
["12","ТЦ_08.3.05.00_77_7746342969_03.09.2024_02\nАналог ТССЦ-101-7554 7108,41/6921,07=2%","Прокат стальной тонколистовой AISI 304 толщ.0,7 мм  ( 5,6 кг/м2)","т",6.1826999999999996,{"$f":"G37/E37","v":0},0,{"$f":"I37/E37","v":365468.52},2259582.2000000002,2259582.2000000002]
["Раздел 2. Стены"]
["Стеновое ограждение из профнастила   ( Спецификация профнастила на стеновое ограждение Лист2.1, 2.2, 2.3)"]
["Раздел 3. Цокольная стена  ( спецификация лист 23)"]
["13","ТЕР06-01-035-01","Устройство поясов: в опалубке","100 м3 железобетона в деле",0.3624,{"$f":"G41/E41","v":2465704.86},893571.44,{"$f":"I41/E41","v":104357.45},37819.14,931390.58]
[null,"101-0797","Проволока горячекатаная в мотках, диаметром 6,3-6,5 мм","т",null,null,null,null,null,0]
[null,"101-1513","Электроды диаметром: 4 мм Э42","т",null,null,null,null,null,0]
[null,"101-1805","Гвозди строительные","т",null,null,null,null,null,0]
[null,"102-0061","Доски обрезные хвойных пород длиной: 4-6,5 м, шириной 75-150 мм, толщиной 44 мм и более, III сорта","м3",null,null,null,null,null,0]
[null,"203-0511","Щиты: из досок толщиной 25 мм","м2",null,null,null,null,null,0]
[null,"405-0253","Известь строительная: негашеная комовая, сорт I","т",null,null,null,null,null,0]
[null,"411-0001","Вода","м3",null,null,null,null,null,0]
["14","ТЦ_04.1.02.00_78_7806468968_22.05.2024_02\nАналог ТССЦ-401-0009 738,51/661,68=2%","Бетон кл. В25","м3",36.78,{"$f":"G49/E49","v":0},0,{"$f":"I49/E49","v":4224.96},155394.06,155394.06]
["15","ТЦ_59.1.08.04_78_7805706257_03.09.2024_02\nАналог ТССЦ-204-0110 10116,56/9871,18=2%","Сталь арматурная кл. А500С диам.10мм","т",3.2650000000000001,{"$f":"G50/E50","v":0},0,{"$f":"I50/E50","v":82911.17},270704.96999999997,270704.96999999997]
["16","ТЦ_59.1.08.04_78_7805706257_03.09.2024_02\nАналог ТССЦ-204-0001 6770,08/6590,31=2%","Сталь арматурная кл. А240 диам.6мм","т",0.11600000000000001,{"$f":"G51/E51","v":0},0,{"$f":"I51/E51","v":80591.12},9348.57,9348.57]
["17","ТЕР08-01-003-07","Гидроизоляция боковая обмазочная битумная в 2 слоя по выровненной поверхности бутовой кладки, кирпичу, бетону","100 м2 изолируемой поверхности",3.76,{"$f":"G52/E52","v":52864.88},198771.93,{"$f":"I52/E52","v":1591.9},5985.55,204757.48]
[null,"101-0073","Битумы нефтяные строительные марки: БН-90/10","т",null,null,null,null,null,0]
[null,"101-0322","Керосин для технических целей марок КТ-1, КТ-2","т",null,null,null,null,null,0]
[null,"101-1757","Ветошь","кг",null,null,null,null,null,0]
["18","ТЦ_01.2.03.05_78_7806100839_03.09.2024_02\nАналог ТССЦ-113-2227 10,06/9,76=2%","Праймер битумный  ( расход 0,25 кг/м2)","кг",94,{"$f":"G56/E56","v":0},0,{"$f":"I56/E56","v":183.13},17213.849999999999,17213.849999999999]
["19","ТЦ_59.1.12.00_77_7702521529_23.05.2024_02\nАналог ТССЦ-101-7066 191,65/187,83=2%","Битумно-полимерная мастика  (2 слоя)  расход 2,5кг/м2 в один слой толщ.1 мм","кг",1880,{"$f":"G57/E57","v":0},0,{"$f":"I57/E57","v":270.08999999999997},507761.66,507761.66]
["20","ТЕР07-05-039-01","Устройство герметизации горизонтальных и вертикальных стыков стеновых панелей прокладками на клее в один ряд// прим.","100 м шва",8.64,{"$f":"G58/E58","v":18653.689999999999},161167.88,{"$f":"I58/E58","v":0},0,161167.88]
["21","ТЦ_01.7.19.06_38_3849082746_22.05.2024_02\nАналог ТССЦ-101-3990 8,50/8,30=2%","Бентонитовый шнур","м.п",864,{"$f":"G59/E59","v":0},0,{"$f":"I59/E59","v":256.39999999999998},221530.73,221530.73]
["22","ТЕР41-01-013-05","Уплотнение деформационного шва прочими вертикальными уплотнениями: из резиновой диафрагмы","100 м уплотнения",0.18,{"$f":"G60/E60","v":239951.94},43191.35,{"$f":"I60/E60","v":775.89},139.66,43331.01]
[null,"204-0013","Горячекатаная арматурная сталь периодического профиля класса: А-II, диаметром 14 мм","т",null,null,null,null,null,0]
["23","ТЦ_01.7.19.06_38_3849082746_22.05.2024_02\nАналог ТССЦ-101-2954 4,21/4,12=2%","Уплотнитель \"Вилотерм\" д.70мм","м.п",18,{"$f":"G62/E62","v":0},0,{"$f":"I62/E62","v":60.21},1083.83,1083.83]
["24","ТССЦ-101-8043","Герметик УТ-37 для герметизации стыков  (плотность 1100кг/м3) // высокопрочный герметик","т",7.9200000000000007E-2,{"$f":"G63/E63","v":0},0,{"$f":"I63/E63","v":486163.89},38504.18,38504.18]
["25","ТЕР46-08-012-04","Установка анкеров в отверстия глубиной 100 мм с применением смесей серии MASTERFLOW, диаметр анкера: 16 мм // прим. 14 мм","100 шт.",55.2,{"$f":"G64/E64","v":23378.41},1290487.96,{"$f":"I64/E64","v":0},0,1290487.96]
["26","ТЦ_14.1.06.06_77_7723889433_22.05.2024_02\nАналог ТССЦ-509-4614 91,65/89,83=2%","Химический анкер Sormat ITH 410 Wi ( расход 10 мл. на 1 анкер)","шт",135,{"$f":"G65/E65","v":0},0,{"$f":"I65/E65","v":3262.55},440444.82,440444.82]
["Обетонирование опор на высоту 300 мм  (1632-2021-3.1-АС. Лист 23.)"]
["27","ТЕР46-01-008-01","Обетонирование: колонн  // прим.   ( S=(0,425+0,36)*2*0,3=0,471м2 )","1 м3",0.311,{"$f":"G67/E67","v":63812.67},19845.740000000002,{"$f":"I67/E67","v":10994.79},3419.38,23265.119999999999]
[null,"101-0797","Проволока горячекатаная в мотках, диаметром 6,3-6,5 мм","т",null,null,null,null,null,0]
[null,"101-1805","Гвозди строительные","т",null,null,null,null,null,0]
[null,"102-0060","Доски обрезные хвойных пород длиной: 4-6,5 м, шириной 75-150 мм, толщиной 44 мм и более, II сорта","м3",null,null,null,null,null,0]
[null,"203-0511","Щиты: из досок толщиной 25 мм","м2",null,null,null,null,null,0]
[null,"401-0065","Бетон тяжелый, крупность заполнителя: 20 мм, класс В12,5 (М150)","м3",null,null,null,null,null,0]
[null,"402-0012","Раствор готовый кладочный цементно-известковый марки: 25","м3",null,null,null,null,null,0]
[null,"405-0253","Известь строительная: негашеная комовая, сорт I","т",null,null,null,null,null,0]
[null,"411-0001","Вода","м3",null,null,null,null,null,0]
["Раздел 4. Монтаж металлоконструкций"]
["28","ТЕРм38-01-002-03","Монорельсы, балки и другие аналогичные конструкции промышленных зданий, сборка с помощью: лебедок электрических (с установкой и снятием их в процессе работы)","1 т конструкций",null,null,null,null,null,{"$f":"G77+I77","v":0}]
[null,"101-0324","Кислород технический: газообразный","м3",null,null,null,null,null,0]
[null,"101-1521","Электроды диаметром: 5 мм Э42","т",null,null,null,null,null,0]
[null,"101-2278","Пропан-бутан, смесь техническая","кг",null,null,null,null,null,0]
[null,"999-9950","Вспомогательные ненормируемые ресурсы (2% от Оплаты труда рабочих)","руб",null,null,null,null,null,0]
["29","ТЕР09-04-006-01","Монтаж фахверка // прим.","1 т конструкций",2.6709999999999998,{"$f":"G82/E82","v":83547.56},223155.54,{"$f":"I82/E82","v":2960.25},7906.82,231062.36]
[null,"101-0309","Канаты пеньковые пропитанные","т",null,null,null,null,null,0]
[null,"101-0324","Кислород технический: газообразный","м3",null,null,null,null,null,0]
[null,"101-0797","Проволока горячекатаная в мотках, диаметром 6,3-6,5 мм","т",null,null,null,null,null,0]
[null,"101-1019","Швеллеры № 40 из стали марки: Ст0","т",null,null,null,null,null,0]
[null,"101-1515","Электроды диаметром: 4 мм Э46","т",null,null,null,null,null,0]
[null,"101-1805","Гвозди строительные","т",null,null,null,null,null,0]
[null,"101-2278","Пропан-бутан, смесь техническая","кг",null,null,null,null,null,0]
[null,"101-2467","Растворитель марки: Р-4","т",null,null,null,null,null,0]
[null,"113-0021","Грунтовка: ГФ-021 красно-коричневая","т",null,null,null,null,null,0]
[null,"201-0756","Отдельные конструктивные элементы зданий и сооружений с преобладанием: горячекатаных профилей, средняя масса сборочной единицы от 0,1 до 0,5 т","т",null,null,null,null,null,0]
[null,"508-0097","Канат двойной свивки типа ТК, конструкции 6х19(1+6+12)+1 о.с., оцинкованный из проволок марки В, маркировочная группа: 1770 н/мм2, диаметром 5,5 мм","10 м",null,null,null,null,null,0]
["30","ТЦ_08.3.11.00_78_7811724832_03.09.2024_02\nАналог ТССЦ-101-1019 4515,56/4380,00=2%","Швеллеры стальные гнутые равнополочные 20П","т",4.2999999999999997E-2,{"$f":"G94/E94","v":0},0,{"$f":"I94/E94","v":132975.57999999999},5717.95,5717.95]
["31","ТЦ_08.3.08.02_78_7811229179_03.09.2024_02\nАналог ТССЦ-101-5451 4,79/4,65=2%","Сталь угловая L=50х3  AISI","т",1.452,{"$f":"G95/E95","v":0},0,{"$f":"I95/E95","v":85231.23},123755.74,123755.74]
["32","ТЦ_08.3.05.03_78_7811229179_03.09.2024_02\nАналог ТССЦ-101-1627 5514,76/5359,61=2%","Сталь листовая холоднокатаная 0,5 мм","т",1.177,{"$f":"G96/E96","v":0},0,{"$f":"I96/E96","v":91092.38},107215.73,107215.73]
["Раздел 5. Забирки проемов  (1632-2021-3.1-АС. Лист 37,38)"]
["33","ТЕР10-01-010-01","Установка элементов каркаса: из брусьев // щиты ЗБ1","1 м3 древесины в конструкции",25.855,{"$f":"G98/E98","v":46069.97},1191138.99,{"$f":"I98/E98","v":25674.84},663822.98,1854961.97]
[null,"101-0783","Поковки из квадратных заготовок, масса: 2,825 кг","т",null,null,null,null,null,0]
[null,"101-1591","Смола каменноугольная для дорожного строительства","т",null,null,null,null,null,0]
[null,"101-1714","Болты с гайками и шайбами строительные","т",null,null,null,null,null,0]
[null,"101-1742","Толь с крупнозернистой посыпкой гидроизоляционный марки ТГ-350","м2",null,null,null,null,null,0]
[null,"101-1805","Гвозди строительные","т",null,null,null,null,null,0]
[null,"102-0028","Бруски обрезные хвойных пород длиной: 4-6,5 м, шириной 75-150 мм, толщиной 100, 125 мм, II сорта","м3",null,null,null,null,null,0]
[null,"102-0060","Доски обрезные хвойных пород длиной: 4-6,5 м, шириной 75-150 мм, толщиной 44 мм и более, II сорта","м3",null,null,null,null,null,0]
[null,"102-0077","Доски необрезные хвойных пород длиной: 4-6,5 м, все ширины, толщиной 32-40 мм, III сорта","м3",null,null,null,null,null,0]
[null,"113-1777","Паста антисептическая","т",null,null,null,null,null,0]
["Закладные детали"]
["34","ТЕРм38-01-006-05","Сборка с помощью лебедок электрических (с установкой и снятием их в процессе работы): листовые конструкции массой до 0,5 т (бачки, течки, воронки, желоба, лотки и пр.)","1 т конструкций",2.5680000000000001,{"$f":"G109/E109","v":458183.7},1176615.75,{"$f":"I109/E109","v":78691.81},202080.57,1378696.32]
[null,"101-0324","Кислород технический: газообразный","м3",null,null,null,null,null,0]
[null,"101-1521","Электроды диаметром: 5 мм Э42","т",null,null,null,null,null,0]
[null,"101-2215","Сталь листовая горячекатаная марки Ст3 толщиной: 1 мм","т",null,null,null,null,null,0]
[null,"101-2278","Пропан-бутан, смесь техническая","кг",null,null,null,null,null,0]
[null,"999-9950","Вспомогательные ненормируемые ресурсы (2% от Оплаты труда рабочих)","руб",null,null,null,null,null,0]
["35","ТЕР06-01-015-06","Установка стальных конструкций, остающихся в теле бетона // прим. закладные детали щитов забирки","1 т",2.5680000000000001,{"$f":"G115/E115","v":120545.4},309560.58,{"$f":"I115/E115","v":1072.8800000000001},2755.15,312315.73]
[null,"101-1513","Электроды диаметром: 4 мм Э42","т",null,null,null,null,null,0]
["36","ТЦ_08.3.05.03_78_7810046550_03.09.2024_02\nАналог ТССЦ-101-1627 5514,76/5359,61=2%","Сталь листовая горячекатаная t=6","т",0.53200000000000003,{"$f":"G117/E117","v":0},0,{"$f":"I117/E117","v":87917.54},46772.13,46772.13]
["37","ТЦ_59.1.08.04_77_7811628889_23.05.2024_02\nАналог ТССЦ-204-0001 6770,08/6590,31=2%","Прокат арматурный  А240  д.20 мм","т",0.46800000000000003,{"$f":"G118/E118","v":0},0,{"$f":"I118/E118","v":91837.2},42979.81,42979.81]
["Антикоррозийная защита закладных деталей"]
["38","ТЕР13-03-002-04","Огрунтовка металлических поверхностей за один раз: грунтовкой ГФ-021","100 м2 окрашиваемой поверхности",0.74470000000000003,{"$f":"G120/E120","v":12827.46},9552.61,{"$f":"I120/E120","v":428.96},319.45,9872.06]
[null,"113-0077","Ксилол нефтяной марки А","т",null,null,null,null,null,0]
["39","ТЦ_01.1.00.00_78_7811634949_01.11.2024_02\nАналог ТССЦ-113-0021 18353,45/17895,65=2%","Грунтовка: ГФ-021 красно-коричневая","кг",8.9364000000000008,{"$f":"G122/E122","v":0},0,{"$f":"I122/E122","v":444.88},3975.6,3975.6]
["40","ТЕР13-03-004-26","Окраска металлических огрунтованных поверхностей: эмалью ПФ-115","100 м2 окрашиваемой поверхности",0.74470000000000003,{"$f":"G123/E123","v":7898.56},5882.06,{"$f":"I123/E123","v":133.99},99.78,5981.84]
[null,"101-1292","Уайт-спирит","т",null,null,null,null,null,0]
["41","ТЦ_01.13.00.00_78_7802348846_01.11.2024_02\nАналог ТССЦ-113-0246 25096,77/24506,75=2%","Эмаль ПФ-115 серая","кг",14.1493,{"$f":"G125/E125","v":0},0,{"$f":"I125/E125","v":605.36},8565.43,8565.43]
["Раздел 6. Перевозка материалов"]
["Перевозка материалов (металл 140 км. ОП \"МКМ-СПб\")"]
[null,null,"Всего, руб. с НДС",null,null,null,{"$f":"SUM(G14:G127)","v":10411112.34},null,{"$f":"SUM(I14:I127)","v":7338916.7300000004},{"$f":"SUM(J14:J127)","v":17750029.07}]
[null,null,"Всего, руб. без НДС",null,null,null,{"$f":"G128/1.2","v":8675926.9499999993},null,{"$f":"I128/1.2","v":6115763.9400000004},{"$f":"J128/1.2","v":14791690.890000001}]

{"sheet":"1632-2021-3.3-АР.СУБ","index":17,"n_rows":211,"n_cols":10,"rows_kept":211,"cut":false,"hidden":false,"merged":[]}
[]
["Терминал по перевалке минеральных удобрений в морском торговом порту Усть-Луга. Береговые объекты терминала"]
["(наименование стройки)"]
["1632-2021-3.3-АР.СУБ_07.03.012-П-01-02"]
["(локальная смета)"]
["на Архитектурные решения, 07.03.012 Купольный склад  (код SAP 01.01.005) код ГП 3.3.1"]
["(наименование работ и затрат, наименование объекта)"]
[null,"Основание:","632-2021-3.3-АР.СУБ_2_0_RU_IFC"]
[]
["№ п/п","Обоснование","Наименование работ и затрат","Ед. изм.","Кол-во","Цена за ед.измерения работ, руб. с НДС","Всего, стоимость работ,руб. с НДС","Цена за ед.измерения материалов, руб. с НДС","Всего, стоимость материалов, руб. с НДС","Итого, руб. с НДС"]
["1","2","3","4","5",6,7,8,9,10]
["Раздел 1. Ворота и дверные проемы (1632-2021-3.3-АР лист 03)",null,null,null,null,null,null,null,null,{"$f":"G12+I12","v":0}]
["Противопожарные двери",null,null,null,null,null,null,null,null,0]
["1","ТЕР09-04-013-01","Установка противопожарных дверей: однопольных глухих","1 м2 проема",34.020000000000003,{"$f":"G14/E14","v":5120.16},174187.85,{"$f":"I14/E14","v":675.03},22964.46,197152.31]
[null,"101-1513","Электроды диаметром: 4 мм Э42","т",null,null,null,null,null,0]
[null,"101-1929","Болты анкерные","т",null,null,null,null,null,0]
[null,"101-3661","Пена монтажная: противопожарная полиуретановая NULLIFIRE (0,88 л)","шт.",null,null,null,null,null,0]
["2","ТЦ_07.1.01.01_77_5020088027_10.01.2024_01\nАналог ТССЦ-203-8122 2128,34/2082,91=2%","Дверь противопожарная ДП 21-9 п EI-45 890х2090мм","шт",13,{"$f":"G18/E18","v":0},0,{"$f":"I18/E18","v":12931.16},168105.08,168105.08]
["3","ТЦ_07.1.01.01_77_5020088027_10.01.2024_01\nАналог ТССЦ-203-8122 2128,34/2082,91=2%","Дверь противопожарная ДП 21-9 л EI-45 890х2090мм","шт",5,{"$f":"G19/E19","v":0},0,{"$f":"I19/E19","v":12931.16},64655.8,64655.8]
["Металлические двери"]
["5","ТЕР09-04-012-01","Установка металлических дверных блоков в готовые проемы","1 м2 проема",44.16,{"$f":"G21/E21","v":6003.14},265098.69,{"$f":"I21/E21","v":327.69},14470.62,279569.31]
[null,"101-1513","Электроды диаметром: 4 мм Э42","т",null,null,null,null,null,0]
[null,"101-1921","Пена монтажная: для герметизации стыков в баллончике емкостью 0,85 л","шт.",null,null,null,null,null,0]
[null,"204-0062","Детали закладные и накладные изготовленные: без применения сварки, гнутья, сверления (пробивки) отверстий поставляемые отдельно","т",null,null,null,null,null,0]
["6","ТЦ_07.1.01.03_78_7810347194_10.01.2024_01\nАналог ТССЦ-203-8122 2128,34/2082,91=2%","Дверь металлическая ДН 21-9 п","шт",18,{"$f":"G25/E25","v":0},0,{"$f":"I25/E25","v":24299.4},437389.26,437389.26]
["7","ТЦ_07.1.01.03_78_7810347194_10.01.2024_01\nАналог ТССЦ-203-8122 2128,34/2082,91=2%","Дверь металлическая ДН 21-9 л","шт",13,{"$f":"G26/E26","v":0},0,{"$f":"I26/E26","v":24299.4},315892.24,315892.24]
["Ворота"]
["9","ТЕРм17-01-095-01","Ворота шторные с приводом подъема","1 шт.",12,{"$f":"G28/E28","v":121992.73},1463912.75,{"$f":"I28/E28","v":1486.28},17835.38,1481748.13]
[null,"201-0835","Подкладки металлические","кг",null,null,null,null,null,0]
[null,"999-9950","Вспомогательные ненормируемые ресурсы (2% от Оплаты труда рабочих)","руб",null,null,null,null,null,0]
["11","ТЕРм38-01-002-03","Монорельсы, балки и другие аналогичные конструкции промышленных зданий, сборка с помощью: лебедок электрических (с установкой и снятием их в процессе работы)","1 т конструкций",6.2596800000000004,{"$f":"G31/E31","v":66109.649999999994},413825.25,{"$f":"I31/E31","v":671.17},4201.33,418026.58]
[null,"101-0324","Кислород технический: газообразный","м3",null,null,null,null,null,0]
[null,"101-1521","Электроды диаметром: 5 мм Э42","т",null,null,null,null,null,0]
[null,"101-2278","Пропан-бутан, смесь техническая","кг",null,null,null,null,null,0]
[null,"999-9950","Вспомогательные ненормируемые ресурсы (2% от Оплаты труда рабочих)","руб",null,null,null,null,null,0]
["12","ТЦ_11.2.05.00_78_7804612905_18.11.2023_01","Ворота промышленные 6000х4500 в комплекте с эл. приводом","шт",12,{"$f":"G36/E36","v":0},0,{"$f":"I36/E36","v":510977.06},6131724.7599999998,6131724.7599999998]
["13","ТЦ_59.1.07.00_78_4716043676_15.08.2023_02","Швеллер 40П","т",6.5100670000000003,{"$f":"G37/E37","v":0},0,{"$f":"I37/E37","v":114326.37},744272.31,744272.31]
["Перевозка материалов (металл 140 км. ОП \"МКМ-СПб\")"]
["14",null,"Металлопрокат, трубопрокат и металлоконструкции","т",6.5100670000000003,{"$f":"G39/E39","v":0},0,{"$f":"I39/E39","v":0},0,0]
["15","ТССЦпг-03-02-01-140","Перевозка строительных грузов (кроме массовых навалочных, перевозимых автомобилями-самосвалами, а также бетонных и железобетонных изделий, стеновых и перегородочных материалов, лесоматериалов круглых и пиломатериалов, включенных в таблицу 03-01), бортовым автомобилем грузоподъемностью 5 т, на расстояние до 140 км I класс груза","1 т груза",6.5100670000000003,{"$f":"G40/E40","v":0},0,{"$f":"I40/E40","v":2312.63},15055.4,15055.4]
["16","ТССЦпг-01-01-02-015","Разгрузочные работы при автомобильных перевозках: металлических конструкций массой до 1 т","1 т груза",6.5100670000000003,{"$f":"G41/E41","v":0},0,{"$f":"I41/E41","v":405.57},2640.26,2640.26]
["Раздел 2. Полы (1632-2021-3.3-АР лист 6)"]
["17","ТЕР13-08-009-01","Шлифовка бетонных поверхностей","100 м2 шлифуемой поверхности",138.97200000000001,{"$f":"G43/E43","v":169720.95},23586459.190000001,{"$f":"I43/E43","v":126.4},17565.599999999999,23604024.789999999]
[null,"101-2109","Карборунд","кг",null,null,null,null,null,0]
["18","ТЕР13-03-006-02","Гидроизоляция поверхности бетонных и железобетонных конструкций в два слоя защитными покрытиями серии MASTERSEAL: горизонтальной","100 м2 поверхности",138.97200000000001,{"$f":"G45/E45","v":40037.47},5564087.1799999997,{"$f":"I45/E45","v":0},0,5564087.1799999997]
["19","ТЦ_01.7.08.05_78_5029069967_11.01.2023_02\nАналог ТССЦ-402-0195 89,08/87,28=2%","Гидроизоляционная проникающая смесь Пенетрон","кг",13897.2,{"$f":"G46/E46","v":0},0,{"$f":"I46/E46","v":586.08000000000004},8144841.6200000001,8144841.6200000001]
["20","ТССЦ-411-0001","Вода","м3",5558.88,{"$f":"G47/E47","v":0},0,{"$f":"I47/E47","v":26.87},149376.85,149376.85]
["Раздел 3. Ограждение крыши (1632-2021-3.3-АР лист 13)"]
["21","ТЕР12-01-012-01","Ограждение кровель перилами","100 м ограждения",8.0039999999999996,{"$f":"G49/E49","v":16112.1},128961.24,{"$f":"I49/E49","v":402.08},3218.26,132179.5]
[null,"101-1529","Электроды диаметром: 6 мм Э42","т",null,null,null,null,null,0]
[null,"101-1851","Резина прессованная","кг",null,null,null,null,null,0]
["22","ТЕРм38-01-004-06","Сборка с помощью лебедок электрических (с установкой и снятием их в процессе работы): лестницы прямолинейные и криволинейные с ограждением","1 т конструкций",3.8819400000000002,{"$f":"G52/E52","v":310474.96000000002},1205245.17,{"$f":"I52/E52","v":3037.13},11789.95,1217035.1200000001]
[null,"101-0324","Кислород технический: газообразный","м3",null,null,null,null,null,0]
[null,"101-1521","Электроды диаметром: 5 мм Э42","т",null,null,null,null,null,0]
[null,"101-2278","Пропан-бутан, смесь техническая","кг",null,null,null,null,null,0]
[null,"999-9950","Вспомогательные ненормируемые ресурсы (2% от Оплаты труда рабочих)","руб",null,null,null,null,null,0]
["23","ТЦ_59.1.08.04_47_7718134701_18.07.2023_02","Горячекатаная арматурная сталь гладкая класса А-I, диаметром: 16 мм","т",1.9449719999999999,{"$f":"G57/E57","v":0},0,{"$f":"I57/E57","v":76018.070000000007},147853.01999999999,147853.01999999999]
["24","ТЦ_59.1.08.04_47_7718134701_18.07.2023_02","Горячекатаная арматурная сталь гладкая класса А-I, диаметром: 14 мм","т",1.936968,{"$f":"G58/E58","v":0},0,{"$f":"I58/E58","v":76018.080000000002},147244.57999999999,147244.57999999999]
["Раздел 4. Лестница Л1  (1632-2021-3.3-АР лист 14)"]
["25","ТЕР09-03-029-01","Монтаж лестниц прямолинейных и криволинейных, пожарных с ограждением","1 т конструкций",2.0303300000000002,{"$f":"G60/E60","v":95934.39},194778.48,{"$f":"I60/E60","v":1289.47},2618.0500000000002,197396.53]
[null,"101-0309","Канаты пеньковые пропитанные","т",null,null,null,null,null,0]
[null,"101-0324","Кислород технический: газообразный","м3",null,null,null,null,null,0]
[null,"101-0797","Проволока горячекатаная в мотках, диаметром 6,3-6,5 мм","т",null,null,null,null,null,0]
[null,"101-1019","Швеллеры № 40 из стали марки: Ст0","т",null,null,null,null,null,0]
[null,"101-1515","Электроды диаметром: 4 мм Э46","т",null,null,null,null,null,0]
[null,"101-1805","Гвозди строительные","т",null,null,null,null,null,0]
[null,"101-2278","Пропан-бутан, смесь техническая","кг",null,null,null,null,null,0]
[null,"101-2467","Растворитель марки: Р-4","т",null,null,null,null,null,0]
[null,"102-0023","Бруски обрезные хвойных пород длиной: 4-6,5 м, шириной 75-150 мм, толщиной 40-75 мм, I сорта","м3",null,null,null,null,null,0]
[null,"113-0021","Грунтовка: ГФ-021 красно-коричневая","т",null,null,null,null,null,0]
[null,"201-0756","Отдельные конструктивные элементы зданий и сооружений с преобладанием: горячекатаных профилей, средняя масса сборочной единицы от 0,1 до 0,5 т","т",null,null,null,null,null,0]
[null,"508-0097","Канат двойной свивки типа ТК, конструкции 6х19(1+6+12)+1 о.с., оцинкованный из проволок марки В, маркировочная группа: 1770 н/мм2, диаметром 5,5 мм","10 м",null,null,null,null,null,0]
["26","ТССЦ-110-0009","Болты сборочные с гайками и шайбами по классу прочности: 10.9","т",2.639E-2,{"$f":"G73/E73","v":0},0,{"$f":"I73/E73","v":266840.09000000003},7041.91,7041.91]
["27","ТЕРм38-01-004-06","Сборка с помощью лебедок электрических (с установкой и снятием их в процессе работы): лестницы прямолинейные и криволинейные с ограждением","1 т конструкций",1.95224,{"$f":"G74/E74","v":310474.56},606120.86,{"$f":"I74/E74","v":3037.13},5929.21,612050.06999999995]
[null,"101-0324","Кислород технический: газообразный","м3",null,null,null,null,null,0]
[null,"101-1521","Электроды диаметром: 5 мм Э42","т",null,null,null,null,null,{"$f":"G76+I76","v":0}]
[null,"101-2278","Пропан-бутан, смесь техническая","кг",null,null,null,null,null,0]
[null,"999-9950","Вспомогательные ненормируемые ресурсы (2% от Оплаты труда рабочих)","руб",null,null,null,null,null,0]
["28","ТЦ_59.1.07.00_78_4716043676_15.08.2023_02","Уголок равнополочный 75*6","т",1.2843199999999999,{"$f":"G79/E79","v":0},0,{"$f":"I79/E79","v":104390.16},134070.37,134070.37]
["29","ТЦ_59.1.07.00_78_4716043676_15.08.2023_02","Прокат листовой 6мм","т",1.504E-2,{"$f":"G80/E80","v":0},0,{"$f":"I80/E80","v":89545.21},1346.76,1346.76]
["30","ТЦ_59.1.08.04_47_7718134701_18.07.2023_02","Горячекатаная арматурная сталь гладкая класса А-I, диаметром: 16 мм","т",0.23039999999999999,{"$f":"G81/E81","v":0},0,{"$f":"I81/E81","v":76018.06},17514.560000000001,17514.560000000001]
["31","ТЦ_59.1.07.00_78_7805793002_15.08.2023_02","Лист ПВЛ ПВ508","т",0.11287999999999999,{"$f":"G82/E82","v":0},0,{"$f":"I82/E82","v":154230.51},17409.54,17409.54]
["Перевозка материалов (металл 140 км. ОП \"МКМ-СПб\")"]
["32",null,"Металлопрокат, трубопрокат и металлоконструкции","т",1.4122399999999999,{"$f":"G84/E84","v":0},0,{"$f":"I84/E84","v":0},0,0]
["33","ТССЦпг-03-02-01-140","Перевозка строительных грузов (кроме массовых навалочных, перевозимых автомобилями-самосвалами, а также бетонных и железобетонных изделий, стеновых и перегородочных материалов, лесоматериалов круглых и пиломатериалов, включенных в таблицу 03-01), бортовым автомобилем грузоподъемностью 5 т, на расстояние до 140 км I класс груза","1 т груза",1.4122399999999999,{"$f":"G85/E85","v":0},0,{"$f":"I85/E85","v":2312.63},3265.99,3265.99]
["34","ТССЦпг-01-01-02-015","Разгрузочные работы при автомобильных перевозках: металлических конструкций массой до 1 т","1 т груза",1.4122399999999999,{"$f":"G86/E86","v":0},0,{"$f":"I86/E86","v":405.57},572.76,572.76]
["Антикоррозионная обработка"]
["35","ФЕР13-03-002-04","Огрунтовка металлических поверхностей за один раз: грунтовкой ГФ-021","100 м2",0.52710500000000005,{"$f":"G88/E88","v":6994.45},3686.81,{"$f":"I88/E88","v":142.57},75.150000000000006,3761.96]
[null,"14.5.09.02-0002","Ксилол нефтяной, марка А","т",null,null,null,null,null,0]
["36","ТЦ_14.2.00.00_78_7839431434_12.01.2024_02\nАналог ТССЦ-113-0021 18353,45/17895,65=3%","Грунтовка ИЗОЛЭП-mastic","кг",4.7,{"$f":"G90/E90","v":0},0,{"$f":"I90/E90","v":789.11},3708.81,3708.81]
["37","ФЕР13-03-004-26","Окраска металлических огрунтованных поверхностей: эмалью ПФ-115 (за 2 раза) К=2","100 м2",0.52710500000000005,{"$f":"G91/E91","v":2521.79},1329.25,{"$f":"I91/E91","v":116.18},61.24,1390.49]
[null,"14.5.09.11-0102","Уайт-спирит","кг",null,null,null,null,null,0]
["38","ТЦ_14.2.00.00_78_7839431434_12.01.2024_02\nАналог ТССЦ-113-0246 25096,77/24506,75=2%","ПОЛИТОН-УР(УФ)","кг",4.7,{"$f":"G93/E93","v":0},0,{"$f":"I93/E93","v":989.03},4648.4399999999996,4648.4399999999996]
["Раздел 5. Отбойник (1632-2021-3.3-АР лист 15-24шт)"]
["39","ТЕР09-03-040-01","Монтаж защитных ограждений оборудования","1 т конструкций",3.0575999999999999,{"$f":"G95/E95","v":176114.53},538487.78,{"$f":"I95/E95","v":3499.67},10700.6,549188.38]
[null,"101-0309","Канаты пеньковые пропитанные","т",null,null,null,null,null,0]
[null,"101-0797","Проволока горячекатаная в мотках, диаметром 6,3-6,5 мм","т",null,null,null,null,null,0]
[null,"101-1019","Швеллеры № 40 из стали марки: Ст0","т",null,null,null,null,null,0]
[null,"101-1714","Болты с гайками и шайбами строительные","т",null,null,null,null,null,0]
[null,"101-1805","Гвозди строительные","т",null,null,null,null,null,0]
[null,"101-2467","Растворитель марки: Р-4","т",null,null,null,null,null,0]
[null,"102-0023","Бруски обрезные хвойных пород длиной: 4-6,5 м, шириной 75-150 мм, толщиной 40-75 мм, I сорта","м3",null,null,null,null,null,0]
[null,"113-0021","Грунтовка: ГФ-021 красно-коричневая","т",null,null,null,null,null,0]
[null,"508-0097","Канат двойной свивки типа ТК, конструкции 6х19(1+6+12)+1 о.с., оцинкованный из проволок марки В, маркировочная группа: 1770 н/мм2, диаметром 5,5 мм","10 м",null,null,null,null,null,0]
["40","ТЕРм38-01-002-03","Монорельсы, балки и другие аналогичные конструкции промышленных зданий, сборка с помощью: лебедок электрических (с установкой и снятием их в процессе работы)","1 т конструкций",2.94,{"$f":"G105/E105","v":66109.41},194361.67,{"$f":"I105/E105","v":671.17},1973.25,196334.92]
[null,"101-0324","Кислород технический: газообразный","м3",null,null,null,null,null,0]
[null,"101-1521","Электроды диаметром: 5 мм Э42","т",null,null,null,null,null,0]
[null,"101-2278","Пропан-бутан, смесь техническая","кг",null,null,null,null,null,0]
[null,"999-9950","Вспомогательные ненормируемые ресурсы (2% от Оплаты труда рабочих)","руб",null,null,null,null,null,0]
["41","ТЦ_59.1.07.00_78_4716043676_15.08.2023_02","Прокат листовой 4мм","т",4.5600000000000002E-2,{"$f":"G110/E110","v":0},0,{"$f":"I110/E110","v":75180.039999999994},3428.21,3428.21]
["42","ТЦ_59.1.07.00_78_4716043676_15.08.2023_02","Прокат листовой 20мм","т",0.76319999999999999,{"$f":"G111/E111","v":0},0,{"$f":"I111/E111","v":105228.16},80310.13,80310.13]
["43","ТЦ_59.1.07.00_78_6670501081_12.01.2024_02","Труба 250х10 L=1500","шт",144,{"$f":"G112/E112","v":0},0,{"$f":"I112/E112","v":96967.96},13963386.41,13963386.41]
["Перевозка материалов (металл 140 км. ОП \"МКМ-СПб\")"]
["44",null,"Металлопрокат, трубопрокат и металлоконструкции","т",2.94,{"$f":"G114/E114","v":0},0,{"$f":"I114/E114","v":0},0,0]
["45","ТССЦпг-03-02-01-140","Перевозка строительных грузов (кроме массовых навалочных, перевозимых автомобилями-самосвалами, а также бетонных и железобетонных изделий, стеновых и перегородочных материалов, лесоматериалов круглых и пиломатериалов, включенных в таблицу 03-01), бортовым автомобилем грузоподъемностью 5 т, на расстояние до 140 км I класс груза","1 т груза",2.94,{"$f":"G115/E115","v":0},0,{"$f":"I115/E115","v":2312.64},6799.15,6799.15]
["46","ТССЦпг-01-01-02-015","Разгрузочные работы при автомобильных перевозках: металлических конструкций массой до 1 т","1 т груза",2.94,{"$f":"G116/E116","v":0},0,{"$f":"I116/E116","v":405.56},1192.3599999999999,1192.3599999999999]
["Антикоррозионная обработка"]
["47","ФЕР13-03-002-04","Огрунтовка металлических поверхностей за один раз: грунтовкой ГФ-021","100 м2",0.7056,{"$f":"G118/E118","v":6994.44},4935.28,{"$f":"I118/E118","v":142.57},100.6,5035.88]
[null,"14.5.09.02-0002","Ксилол нефтяной, марка А","т",null,null,null,null,null,0]
["48","ТЦ_14.2.00.00_78_7839431434_12.01.2024_02\nАналог ТССЦ-113-0021 18353,45/17895,65=3%","Грунтовка ИЗОЛЭП-mastic","кг",6.4,{"$f":"G120/E120","v":0},0,{"$f":"I120/E120","v":789.11},5050.29,5050.29]
["49","ФЕР13-03-004-26","Окраска металлических огрунтованных поверхностей: эмалью ПФ-115 (за 2 раза) К=2","100 м2",0.7056,{"$f":"G121/E121","v":5043.49},3558.69,{"$f":"I121/E121","v":232.38},163.97,3722.66]
[null,"14.5.09.11-0102","Уайт-спирит","кг",null,null,null,null,null,0]
["50","ТЦ_14.2.00.00_78_7839431434_12.01.2024_02\nАналог ТССЦ-113-0246 25096,77/24506,75=2%","ПОЛИТОН-УР(УФ)","кг",12.7,{"$f":"G123/E123","v":0},0,{"$f":"I123/E123","v":989.03},12560.68,12560.68]
["Колонны"]
["51","ТЕР09-03-002-01","Монтаж колонн одноэтажных и многоэтажных зданий и крановых эстакад высотой: до 25 м цельного сечения массой до 1,0 т","1 т конструкций",2.1902400000000002,{"$f":"G125/E125","v":31725.97},69487.490000000005,{"$f":"I125/E125","v":654.13},1432.7,70920.19]
[null,"101-0309","Канаты пеньковые пропитанные","т",null,null,null,null,null,0]
[null,"101-0324","Кислород технический: газообразный","м3",null,null,null,null,null,0]
[null,"101-0797","Проволока горячекатаная в мотках, диаметром 6,3-6,5 мм","т",null,null,null,null,null,0]
[null,"101-1019","Швеллеры № 40 из стали марки: Ст0","т",null,null,null,null,null,0]
[null,"101-1513","Электроды диаметром: 4 мм Э42","т",null,null,null,null,null,0]
[null,"101-1714","Болты с гайками и шайбами строительные","т",null,null,null,null,null,0]
[null,"101-1805","Гвозди строительные","т",null,null,null,null,null,0]
[null,"101-2278","Пропан-бутан, смесь техническая","кг",null,null,null,null,null,0]
[null,"101-2467","Растворитель марки: Р-4","т",null,null,null,null,null,0]
[null,"102-0023","Бруски обрезные хвойных пород длиной: 4-6,5 м, шириной 75-150 мм, толщиной 40-75 мм, I сорта","м3",null,null,null,null,null,0]
[null,"113-0021","Грунтовка: ГФ-021 красно-коричневая","т",null,null,null,null,null,0]
[null,"201-0756","Отдельные конструктивные элементы зданий и сооружений с преобладанием: горячекатаных профилей, средняя масса сборочной единицы от 0,1 до 0,5 т","т",null,null,null,null,null,0]
[null,"508-0097","Канат двойной свивки типа ТК, конструкции 6х19(1+6+12)+1 о.с., оцинкованный из проволок марки В, маркировочная группа: 1770 н/мм2, диаметром 5,5 мм","10 м",null,null,null,null,null,0]
["52","ТЕРм38-01-002-03","Монорельсы, балки и другие аналогичные конструкции промышленных зданий, сборка с помощью: лебедок электрических (с установкой и снятием их в процессе работы)","1 т конструкций",2.1059999999999999,{"$f":"G139/E139","v":66109.17},139225.92000000001,{"$f":"I139/E139","v":671.17},1413.49,140639.41]
[null,"101-0324","Кислород технический: газообразный","м3",null,null,null,null,null,{"$f":"G140+I140","v":0}]
[null,"101-1521","Электроды диаметром: 5 мм Э42","т",null,null,null,null,null,0]
[null,"101-2278","Пропан-бутан, смесь техническая","кг",null,null,null,null,null,0]
[null,"999-9950","Вспомогательные ненормируемые ресурсы (2% от Оплаты труда рабочих)","руб",null,null,null,null,null,0]
["53","ТЦ_59.1.07.00_78_7805793002_15.08.2023_02","Профиль гн. 80*5","т",1.89072,{"$f":"G144/E144","v":0},0,{"$f":"I144/E144","v":97966.32},185226.88,185226.88]
["54","ТЦ_59.1.07.00_78_7805793002_15.08.2023_02","Профиль гн. 80*4","т",0.29952000000000001,{"$f":"G145/E145","v":0},0,{"$f":"I145/E145","v":97966.31},29342.87,29342.87]
["Балки"]
["55","ТЕР09-03-002-12","Монтаж балок, ригелей перекрытия, покрытия и под установку оборудования многоэтажных зданий при высоте здания: до 25 м","1 т конструкций",3.1075200000000001,{"$f":"G147/E147","v":58573.63},182018.73,{"$f":"I147/E147","v":1828.15},5681.01,187699.74]
[null,"101-0309","Канаты пеньковые пропитанные","т",null,null,null,null,null,0]
[null,"101-0324","Кислород технический: газообразный","м3",null,null,null,null,null,0]
[null,"101-0797","Проволока горячекатаная в мотках, диаметром 6,3-6,5 мм","т",null,null,null,null,null,0]
[null,"101-1019","Швеллеры № 40 из стали марки: Ст0","т",null,null,null,null,null,0]
[null,"101-1513","Электроды диаметром: 4 мм Э42","т",null,null,null,null,null,0]
[null,"101-1714","Болты с гайками и шайбами строительные","т",null,null,null,null,null,0]
[null,"101-1805","Гвозди строительные","т",null,null,null,null,null,0]
[null,"101-2278","Пропан-бутан, смесь техническая","кг",null,null,null,null,null,0]
[null,"101-2467","Растворитель марки: Р-4","т",null,null,null,null,null,0]
[null,"102-0023","Бруски обрезные хвойных пород длиной: 4-6,5 м, шириной 75-150 мм, толщиной 40-75 мм, I сорта","м3",null,null,null,null,null,0]
[null,"113-0021","Грунтовка: ГФ-021 красно-коричневая","т",null,null,null,null,null,0]
[null,"201-0756","Отдельные конструктивные элементы зданий и сооружений с преобладанием: горячекатаных профилей, средняя масса сборочной единицы от 0,1 до 0,5 т","т",null,null,null,null,null,0]
[null,"508-0097","Канат двойной свивки типа ТК, конструкции 6х19(1+6+12)+1 о.с., оцинкованный из проволок марки В, маркировочная группа: 1770 н/мм2, диаметром 5,5 мм","10 м",null,null,null,null,null,0]
["56","ТЕРм38-01-002-03","Монорельсы, балки и другие аналогичные конструкции промышленных зданий, сборка с помощью: лебедок электрических (с установкой и снятием их в процессе работы)","1 т конструкций",2.988,{"$f":"G161/E161","v":63002.57},188251.68,{"$f":"I161/E161","v":671.17},2005.45,190257.13]
[null,"101-0324","Кислород технический: газообразный","м3",null,null,null,null,null,0]
[null,"101-1521","Электроды диаметром: 5 мм Э42","т",null,null,null,null,null,0]
[null,"101-2278","Пропан-бутан, смесь техническая","кг",null,null,null,null,null,0]
[null,"999-9950","Вспомогательные ненормируемые ресурсы (2% от Оплаты труда рабочих)","руб",null,null,null,null,null,0]
["57","ТЦ_59.1.07.00_78_7805793002_15.08.2023_02","Профиль гн. 80*4","т",1.53504,{"$f":"G166/E166","v":0},0,{"$f":"I166/E166","v":97966.33},150382.23000000001,150382.23000000001]
["58","ТЦ_59.1.07.00_78_4716043676_15.08.2023_02","Профиль гн. 60*4","т",1.5724800000000001,{"$f":"G167/E167","v":0},0,{"$f":"I167/E167","v":89488.28},140718.53,{"$f":"G167+I167","v":140718.53}]
["Связи"]
["59","ТЕР09-03-014-01","Монтаж связей и распорок из одиночных и парных уголков, гнутосварных профилей для пролетов: до 24 м при высоте здания до  25 м","1 т конструкций",0.24335999999999999,{"$f":"G169/E169","v":145782.04999999999},35477.519999999997,{"$f":"I169/E169","v":4739.3599999999997},1153.3699999999999,36630.89]
[null,"101-0309","Канаты пеньковые пропитанные","т",null,null,null,null,null,0]
[null,"101-0324","Кислород технический: газообразный","м3",null,null,null,null,null,0]
[null,"101-0797","Проволока горячекатаная в мотках, диаметром 6,3-6,5 мм","т",null,null,null,null,null,0]
[null,"101-1019","Швеллеры № 40 из стали марки: Ст0","т",null,null,null,null,null,0]
[null,"101-1513","Электроды диаметром: 4 мм Э42","т",null,null,null,null,null,0]
[null,"101-1714","Болты с гайками и шайбами строительные","т",null,null,null,null,null,0]
[null,"101-1805","Гвозди строительные","т",null,null,null,null,null,0]
[null,"101-2278","Пропан-бутан, смесь техническая","кг",null,null,null,null,null,0]
[null,"101-2467","Растворитель марки: Р-4","т",null,null,null,null,null,0]
[null,"102-0023","Бруски обрезные хвойных пород длиной: 4-6,5 м, шириной 75-150 мм, толщиной 40-75 мм, I сорта","м3",null,null,null,null,null,0]
[null,"113-0021","Грунтовка: ГФ-021 красно-коричневая","т",null,null,null,null,null,0]
[null,"201-0756","Отдельные конструктивные элементы зданий и сооружений с преобладанием: горячекатаных профилей, средняя масса сборочной единицы от 0,1 до 0,5 т","т",null,null,null,null,null,0]
[null,"508-0097","Канат двойной свивки типа ТК, конструкции 6х19(1+6+12)+1 о.с., оцинкованный из проволок марки В, маркировочная группа: 1770 н/мм2, диаметром 5,5 мм","10 м",null,null,null,null,null,0]
["60","ТЕРм38-01-002-03","Монорельсы, балки и другие аналогичные конструкции промышленных зданий, сборка с помощью: лебедок электрических (с установкой и снятием их в процессе работы)","1 т конструкций",0.23400000000000001,{"$f":"G183/E183","v":66104.36},15468.42,{"$f":"I183/E183","v":671.2},157.06,15625.48]
[null,"101-0324","Кислород технический: газообразный","м3",null,null,null,null,null,0]
[null,"101-1521","Электроды диаметром: 5 мм Э42","т",null,null,null,null,null,0]
[null,"101-2278","Пропан-бутан, смесь техническая","кг",null,null,null,null,null,0]
[null,"999-9950","Вспомогательные ненормируемые ресурсы (2% от Оплаты труда рабочих)","руб",null,null,null,null,null,0]
["61","ТЦ_59.1.07.00_78_4716043676_15.08.2023_02","Профиль гн. 50*4","т",0.24335999999999999,{"$f":"G188/E188","v":0},0,{"$f":"I188/E188","v":86840.15},21133.42,21133.42]
["Антикоррозионная обработка"]
["62","ФЕР13-03-002-04","Огрунтовка металлических поверхностей за один раз: грунтовкой ГФ-021","100 м2",1.54512,{"$f":"G190/E190","v":6994.45},10807.26,{"$f":"I190/E190","v":142.56},220.28,11027.54]
[null,"14.5.09.02-0002","Ксилол нефтяной, марка А","т",null,null,null,null,null,0]
["63","ТЦ_14.2.00.00_78_7839431434_12.01.2024_02\nАналог ТССЦ-113-0021 18353,45/17895,65=3%","Грунтовка ИЗОЛЭП-mastic","кг",13.9,{"$f":"G192/E192","v":0},0,{"$f":"I192/E192","v":789.11},10968.61,10968.61]
["64","ФЕР13-03-004-26","Окраска металлических огрунтованных поверхностей: эмалью ПФ-115 (за 2 раза) К=2","100 м2",1.54512,{"$f":"G193/E193","v":5043.55},7792.89,{"$f":"I193/E193","v":232.39},359.07,8151.96]
[null,"14.5.09.11-0102","Уайт-спирит","кг",null,null,null,null,null,0]
["65","ТЦ_14.2.00.00_78_7839431434_12.01.2024_02\nАналог ТССЦ-113-0246 25096,77/24506,75=2%","ПОЛИТОН-УР(УФ)","кг",27.8,{"$f":"G195/E195","v":0},0,{"$f":"I195/E195","v":989.03},27495.03,27495.03]
["Покрытия"]
["Перевозка материалов (металл 140 км. ОП \"МКМ-СПб\")"]
["73",null,"Металлопрокат, трубопрокат и металлоконструкции","т",7.8479999999999999,{"$f":"G198/E198","v":0},0,{"$f":"I198/E198","v":0},0,0]
["74","ТССЦпг-03-02-01-140","Перевозка строительных грузов (кроме массовых навалочных, перевозимых автомобилями-самосвалами, а также бетонных и железобетонных изделий, стеновых и перегородочных материалов, лесоматериалов круглых и пиломатериалов, включенных в таблицу 03-01), бортовым автомобилем грузоподъемностью 5 т, на расстояние до 140 км I класс груза","1 т груза",7.8479999999999999,{"$f":"G199/E199","v":0},0,{"$f":"I199/E199","v":2312.63},18149.55,18149.55]
["75","ТССЦпг-01-01-02-015","Разгрузочные работы при автомобильных перевозках: металлических конструкций массой до 1 т","1 т груза",7.8479999999999999,{"$f":"G200/E200","v":0},0,{"$f":"I200/E200","v":405.57},3182.88,3182.88]
["Раздел 7. Быстросъемная ограждающая конструкция (лист 18 том 1632-2021-3.3-АР-2шт)"]
["77","ТЕР10-01-001-10","Укладка панелей и покрытий длиной 6 м площадью до 10 м2","1 конструкция",2,{"$f":"G202/E202","v":8277.4599999999991},16554.919999999998,{"$f":"I202/E202","v":1491.88},2983.75,19538.669999999998]
[null,"101-0782","Поковки из квадратных заготовок, масса: 1,8 кг","т",null,null,null,null,null,0]
[null,"101-1482","Шурупы с полукруглой головкой: 5х70 мм","т",null,null,null,null,null,0]
[null,"101-1705","Пакля пропитанная","кг",null,null,null,null,null,0]
[null,"104-8097","Жгут пароизоловый, диаметр 40 мм","м",null,null,null,null,null,0]
["78","ТССЦ-102-0289","Доски антисептированные обрезные длиной 4-6,5 м, шириной 75-150 мм, толщиной 32-40 мм II сорта","м3",0.15773999999999999,{"$f":"G207/E207","v":0},0,{"$f":"I207/E207","v":32187.4},5077.24,5077.24]
["10","ТЦ_59.1.07.00_78_4716043676_17.08.2023_02","Прокат листовой 5мм","т",0.1024,{"$f":"G208/E208","v":0},0,{"$f":"I208/E208","v":88109.08},9022.3700000000008,9022.3700000000008]
["76","ТССЦ-102-0268","Фанера бакелизированная марки ФБС, толщиной 14-18 мм","м3",0.36941800000000002,{"$f":"G209/E209","v":0},0,{"$f":"I209/E209","v":167582.06},61907.83,61907.83]
[null,null,"Всего, руб. с НДС",null,null,null,{"$f":"SUM(G13:G209)","v":35014120.969999999},null,{"$f":"SUM(I13:I209)","v":31523038.84},{"$f":"SUM(J13:J209)","v":66537159.810000002}]
[null,null,"Всего, руб. без НДС",null,null,null,{"$f":"G210/1.2","v":29178434.141666699},null,{"$f":"I210/1.2","v":26269199.030000001},{"$f":"J210/1.2","v":55447633.18}]

{"sheet":"3-1632-2021-2.1.2,2.1.7-АР2","index":18,"n_rows":107,"n_cols":10,"rows_kept":107,"cut":false,"hidden":false,"merged":[]}
[]
["Терминал по перевалке минеральных удобрений в морском торговом порту Усть-Луга. Береговые объекты терминала"]
["(наименование стройки)"]
["1632-2021-2.1.2, 2.1.7-АР2-07.04.046-П-00-02"]
["(локальная смета)"]
["на Архитектурные решения, Конвейерная галерея №7 в осях 8-14"]
["(наименование работ и затрат, наименование объекта)"]
[null,"Основание:","1632-2021-2.1.2, 2.1.7-АР2_0_0_RU_IFС"]
[]
["№ п/п","Обоснование","Наименование работ и затрат","Ед. изм.","Кол-во","Цена за ед.измерения работ, руб. с НДС","Всего, стоимость работ,руб. с НДС","Цена за ед.измерения материалов, руб. с НДС","Всего, стоимость материалов, руб. с НДС","Итого, руб. с НДС"]
["1","2","3","4","5",6,7,8,9,10]
["Раздел 2. Кровля",null,null,null,null,null,null,null,null,{"$f":"G12+I12","v":0}]
["Монтаж кровельного покрытия  из профнастила учтен в разделе КМ",null,null,null,null,null,null,null,null,0]
["1632-2021-2.1.2, 2.1.7-АР2.  ( в осях 8-14 )",null,null,null,null,null,null,null,null,0]
["1","ТЕР11-01-009-02","Устройство тепло- и звукоизоляции сплошной из плит: древесноволокнистых // прим. ЦСП","100 м2 изолируемой поверхности",2.1339999999999999,{"$f":"G15/E15","v":36149.660000000003},77143.37,{"$f":"I15/E15","v":0},0,77143.37]
["2","ТЦ_01.6.01.10_78_7810994931_08.02.2024_02\nАналог ТССЦ-101-5068 25,77/24,64=2%","ЦСП 3200х1200х8","м2",439.6,{"$f":"G16/E16","v":0},0,{"$f":"I16/E16","v":506.71},222748.26,222748.26]
["3","ТЕР12-01-002-09","Устройство кровель плоских из наплавляемых материалов: в два слоя","100 м2 кровли",2.1339999999999999,{"$f":"G17/E17","v":34049.699999999997},72662.05,{"$f":"I17/E17","v":1974.08},4212.6899999999996,76874.740000000005]
[null,"101-2278","Пропан-бутан, смесь техническая","кг",null,null,null,null,null,0]
["4","ТЦ_12.0.00.00_78_7826181040_08.02.2024_02\nАналог ТССЦ-101-4724 26,31/25,55=2%","Техноэласт Пламя Стоп","м2",243.28,{"$f":"G19/E19","v":0},0,{"$f":"I19/E19","v":537.67999999999995},130807.72,130807.72]
["5","ТЦ_12.0.00.00_78_7826181040_08.02.2024_02\nАналог ТССЦ-101-4702 22,24/21,66=2%","Техноэласт ЭПП","м2",247.54,{"$f":"G20/E20","v":0},0,{"$f":"I20/E20","v":444.01},109909.22,109909.22]
["6","ТЕР12-01-009-02","Устройство желобов: подвесных","100 м желобов",0.51400000000000001,{"$f":"G21/E21","v":65794.84},33818.550000000003,{"$f":"I21/E21","v":21888.54},11250.71,45069.26]
[null,"101-0173","Гвозди проволочные оцинкованные для асбестоцементной кровли: 4,5х120 мм","т",null,null,null,null,null,0]
[null,"101-0788","Поковки оцинкованные, масса: 2,825 кг","т",null,null,null,null,null,0]
["7","ТЦ_12.1.01.00_78_7804606806_25.01.2024_02\nАналог ТССЦ-203-0960 5219,18/5114,28=2%","Желоб водосточный D185х3000","шт",17,{"$f":"G24/E24","v":0},0,{"$f":"I24/E24","v":1743.68},29642.54,29642.54]
["8","ТЦ_12.1.01.00_78_7804606806_25.01.2024_02\nАналог ТССЦ-301-5881 61,11/59,89=2%","Держатель желоба","шт",86,{"$f":"G25/E25","v":0},0,{"$f":"I25/E25","v":769.33},66162.240000000005,66162.240000000005]
["9","ТЕР12-01-008-01","Устройство обделок на фасадах (наружные подоконники, пояски, балконы и др.): включая водосточные трубы, с изготовлением элементов труб// прим.","100 м2фасада (без вычета проемов)",2.1339999999999999,{"$f":"G26/E26","v":27776.720000000001},59275.519999999997,{"$f":"I26/E26","v":2212.69},4721.88,63997.4]
[null,"101-0195","Гвозди толевые круглые: 3,0х40 мм","т",null,null,null,null,null,0]
[null,"101-0788","Поковки оцинкованные, масса: 2,825 кг","т",null,null,null,null,null,0]
[null,"101-0795","Проволока канатная оцинкованная, диаметром: 3 мм","т",null,null,null,null,null,0]
["10","ТЦ_12.1.01.00_78_7804606806_25.01.2024_02\nАналог ТССЦ-301-5867 217,71/213,27=2%","Труба водосточная D150х2000мм","шт",80,{"$f":"G30/E30","v":0},0,{"$f":"I30/E30","v":2125.85},170068.33,170068.33]
["11","ТЦ_12.1.01.00_78_7804606806_25.01.2024_02\nАналогТССЦ-301-5610 297,90/291,82=2%","Крепление трубы","шт",160,{"$f":"G31/E31","v":0},0,{"$f":"I31/E31","v":321.08999999999997},51374.81,51374.81]
["12","ТЦ_12.1.01.00_78_7804606806_25.01.2024_02\nАналог ТССЦ-203-0960 5219,18/5114,28=2%","Колено гофрированное","шт",16,{"$f":"G32/E32","v":0},0,{"$f":"I32/E32","v":488.42},7814.71,7814.71]
["13","ТЦ_12.1.01.00_78_7804606806_25.01.2024_02\nАналог ТССЦ-203-0960 5219,18/5114,28=2%","Заглушка","шт",2,{"$f":"G33/E33","v":0},0,{"$f":"I33/E33","v":380.94},761.87,761.87]
["14","ТЦ_12.1.01.00_78_7804606806_25.01.2024_02\nАналог ТССЦ-115-0931  8,37/8,08=3%","Воронки выпускные D185/150","шт",8,{"$f":"G34/E34","v":0},0,{"$f":"I34/E34","v":824.19},6593.53,6593.53]
["15","ТЕР12-01-012-01","Ограждение кровель перилами // прим.","100 м ограждения",0.52300000000000002,{"$f":"G35/E35","v":16111.53},8426.33,{"$f":"I35/E35","v":402.07},210.28,8636.61]
[null,"101-1529","Электроды диаметром: 6 мм Э42","т",null,null,null,null,null,0]
[null,"101-1851","Резина прессованная","кг",null,null,null,null,null,0]
["16","ТЦ_12.1.01.00_78_7804606806_25.01.2024_02\nАналог ТССЦ-101-7317  128,60/126,01=2%","Снегозадержатель трубчатый (L=3 м. в комплекте с креплением)","шт",18,{"$f":"G38/E38","v":0},0,{"$f":"I38/E38","v":2455.5300000000002},44199.55,44199.55]
["Раздел 3. Окна",null,null,null,null,{"$f":"G39/E39","v":{"$error":"#DIV/0!"}},0,{"$f":"I39/E39","v":{"$error":"#DIV/0!"}},0,0]
["1632-2021-2.1.2, 2.1.7-АР2.  ( в осях 8-14 )",null,null,null,null,{"$f":"G40/E40","v":{"$error":"#DIV/0!"}},0,{"$f":"I40/E40","v":{"$error":"#DIV/0!"}},0,0]
["17","ТЕР10-01-034-05","Установка в жилых и общественных зданиях оконных блоков из ПВХ профилей: поворотных (откидных, поворотно-откидных) с площадью проема до 2 м2 двухстворчатых","100 м2 проемов",5.6000000000000001E-2,{"$f":"G41/E41","v":408212.68},22859.91,{"$f":"I41/E41","v":128138.04},7175.73,30035.64]
[null,"101-2052","Лента бутиловая","м",null,null,null,null,null,0]
[null,"101-2054","Лента бутиловая диффузионная","м",null,null,null,null,null,0]
[null,"101-2388","Герметик пенополиуретановый (пена монтажная) типа Makrofleks, Soudal в баллонах по 750 мл","шт.",null,null,null,null,null,0]
[null,"101-2789","Лента ПСУЛ","10 м",null,null,null,null,null,0]
[null,"101-4173","Дюбели монтажные 10х130 (10х132, 10х150) мм","10 шт.",null,null,null,null,null,0]
[null,"102-0303","Клинья пластиковые монтажные","100 шт.",null,null,null,null,null,0]
["18","ТЦ_07.1.02.00_78_7840318754_30.01.2024_02\nАналог ТССЦ-203-0978  4253,53/4168,26=2%","Оконный блок  1000х1400","шт",4,{"$f":"G48/E48","v":0},0,{"$f":"I48/E48","v":13881.75},55527,55527]
["19","ТЕР15-01-070-01","Облицовка: оконных проемов в наружных стенах откосной планкой из оцинкованной стали с полимерным покрытием с устройством водоотлива оконного из оцинкованной стали с полимерным покрытием","1 м2 проемов",5.6,{"$f":"G49/E49","v":3276.55},18348.669999999998,{"$f":"I49/E49","v":1423.83},7973.45,26322.12]
[null,"101-1691","Шурупы-саморезы 4,2х16 мм","100 шт.",null,null,null,null,null,0]
[null,"101-2409","Аквилон из оцинкованной стали с полимерным покрытием","п.м",null,null,null,null,null,0]
[null,"101-2410","Откосная планка шириной 250 мм из оцинкованной стали с полимерным покрытием","п.м",null,null,null,null,null,0]
[null,"101-2411","Водоотлив оконный шириной планки 250 мм из оцинкованной стали с полимерным покрытием","п.м",null,null,null,null,null,0]
["Раздел 4. Дверные проемы",null,null,null,null,{"$f":"G54/E54","v":{"$error":"#DIV/0!"}},0,{"$f":"I54/E54","v":{"$error":"#DIV/0!"}},0,0]
["1632-2021-2.1.2, 2.1.7-АР2.  ( в осях 8-14 )",null,null,null,null,{"$f":"G55/E55","v":{"$error":"#DIV/0!"}},0,{"$f":"I55/E55","v":{"$error":"#DIV/0!"}},0,0]
["20","ТЕР09-04-012-01","Установка металлических дверных блоков в готовые проемы","1 м2 проема",10.5,{"$f":"G56/E56","v":6003.04},63031.88,{"$f":"I56/E56","v":327.69},3440.71,66472.59]
[null,"101-1513","Электроды диаметром: 4 мм Э42","т",null,null,null,null,null,0]
[null,"101-1921","Пена монтажная: для герметизации стыков в баллончике емкостью 0,85 л","шт.",null,null,null,null,null,0]
[null,"204-0062","Детали закладные и накладные изготовленные: без применения сварки, гнутья, сверления (пробивки) отверстий поставляемые отдельно","т",null,null,null,null,null,0]
["21","ТЦ_07.1.01.03_78_7841375755_25.01.2024_02\nАналог ТССЦ-203-8123  2466,49/2414,02=2%","Дверь стальная наружная  (левая, правая) 1000х2100","шт",5,{"$f":"G60/E60","v":0},0,{"$f":"I60/E60","v":26485.22},132426.10999999999,132426.10999999999]
["22","ТЕР09-04-013-01","Установка противопожарных дверей: однопольных глухих","1 м2 проема",4.2,{"$f":"G61/E61","v":5120.13},21504.560000000001,{"$f":"I61/E61","v":675.03},2835.11,24339.67]
[null,"101-1513","Электроды диаметром: 4 мм Э42","т",null,null,null,null,null,0]
[null,"101-1929","Болты анкерные","т",null,null,null,null,null,0]
[null,"101-3661","Пена монтажная: противопожарная полиуретановая NULLIFIRE (0,88 л)","шт.",null,null,null,null,null,0]
["23","ТЦ_07.1.01.03_78_7841375755_25.01.2024_02\nАналог ТССЦ-203-8123  2466,49/2414,02=2%","Дверь противопожарная металлическая: однопольная ДПС-01/60, размером 1000х2100 мм","шт",2,{"$f":"G65/E65","v":0},0,{"$f":"I65/E65","v":26485.23},52970.45,52970.45]
["24","ТЕР15-01-070-02","Облицовка: дверных проемов в наружных стенах откосной планкой из оцинкованной стали с полимерным покрытием с установкой наличников из оцинкованной стали с полимерным покрытием","1 м2 проемов",14.7,{"$f":"G66/E66","v":3593.89},52830.22,{"$f":"I66/E66","v":1660.7},24412.27,77242.490000000005]
[null,"101-1691","Шурупы-саморезы 4,2х16 мм","100 шт.",null,null,null,null,null,0]
[null,"101-2409","Аквилон из оцинкованной стали с полимерным покрытием","п.м",null,null,null,null,null,0]
[null,"101-2410","Откосная планка шириной 250 мм из оцинкованной стали с полимерным покрытием","п.м",null,null,null,null,null,0]
[null,"101-2412","Наличники из оцинкованной стали с полимерным покрытием","п.м",null,null,null,null,null,0]
["Раздел 5. Полы",null,null,null,null,{"$f":"G71/E71","v":{"$error":"#DIV/0!"}},0,{"$f":"I71/E71","v":{"$error":"#DIV/0!"}},0,0]
["1632-2021-2.1.2, 2.1.7-АР2.  ( в осях 8-14 )",null,null,null,null,{"$f":"G72/E72","v":{"$error":"#DIV/0!"}},0,{"$f":"I72/E72","v":{"$error":"#DIV/0!"}},0,0]
["Тип 1.  S=380 м2.",null,null,null,null,{"$f":"G73/E73","v":{"$error":"#DIV/0!"}},0,{"$f":"I73/E73","v":{"$error":"#DIV/0!"}},0,0]
["25","ТЕР11-01-011-03","Устройство стяжек: бетонных толщиной 20 мм","100 м2 стяжки",3.8,{"$f":"G74/E74","v":83767.899999999994},318318.01,{"$f":"I74/E74","v":94.05},357.39,{"$f":"G74+I74","v":318675.40000000002}]
[null,"411-0001","Вода","м3",null,null,null,null,null,0]
["26","ТЕР11-01-011-04","Устройство стяжек: на каждые 5 мм изменения толщины стяжки добавлять или исключать к расценке 11-01-011-03 // до толщ. 50-150 мм","100 м2 стяжки",3.8,{"$f":"G76/E76","v":25813.13},98089.88,{"$f":"I76/E76","v":0},0,98089.88]
["27","ТЦ_59.1.04.01_47_4707009037_09.09.2024_02\nАналог ТССЦ-401-0008  699,49/623,42=2%","Бетон  В22,5","м3",38.76,{"$f":"G77/E77","v":0},0,{"$f":"I77/E77","v":11073.53},429209.85,429209.85]
["28","ТЕР06-01-015-10","Армирование подстилающих слоев и набетонок","1 т",0.66500000000000004,{"$f":"G78/E78","v":27715.52},18430.82,{"$f":"I78/E78","v":3009.62},2001.4,20432.22]
[null,"101-0816","Проволока светлая диаметром: 1,1 мм","т",null,null,null,null,null,0]
["29","ТЦ_08.4.02.05_47_7718134701_09.09.2024_02\nАналог ТССЦ-101-3891 21,17/20,58=2%","Сетка арм. 100х100 4Вр1","м2",380,{"$f":"G80/E80","v":0},0,{"$f":"I80/E80","v":3101.57},1178597.53,1178597.53]
["30","ТЕР11-01-020-03","Устройство покрытий поливинилацетатных: толщиной 3 мм // прим. покрытие полимерное","100 м2 покрытия",3.8,{"$f":"G81/E81","v":180031.62},684120.16,{"$f":"I81/E81","v":147312.07},559785.85,1243906.01]
[null,"101-0430","Краски масляные и алкидные земляные, готовые к применению: сурик железный МА-15, ПФ-14","т",null,null,null,null,null,0]
[null,"101-0433","Краски масляные и алкидные земляные, готовые к применению: охра МА-15","т",null,null,null,null,null,0]
[null,"101-1305","Портландцемент общестроительного назначения бездобавочный, марки: 400","т",null,null,null,null,null,0]
[null,"101-1591","Смола каменноугольная для дорожного строительства","т",null,null,null,null,null,0]
[null,"101-2293","Кислота ортофосфорная: техническая, сорт I","т",null,null,null,null,null,0]
[null,"101-2358","Дисперсия поливинилацетатная непластифицированная марки Д50Н","кг",null,null,null,null,null,0]
[null,"113-0306","Маршалит","т",null,null,null,null,null,0]
[null,"408-0122","Песок природный для строительных: работ средний","м3",null,null,null,null,null,0]
[null,"411-0001","Вода","м3",null,null,null,null,null,0]
["Тип 2.  S=1518,8 м2.",null,null,null,null,{"$f":"G91/E91","v":{"$error":"#DIV/0!"}},0,{"$f":"I91/E91","v":{"$error":"#DIV/0!"}},0,0]
["31","ТЕР11-01-011-03","Устройство стяжек: бетонных толщиной 20 мм","100 м2 стяжки",15.188000000000001,{"$f":"G92/E92","v":83767.95},1272267.55,{"$f":"I92/E92","v":94.05},1428.45,1273696]
[null,"411-0001","Вода","м3",null,null,null,null,null,0]
["32","ТЕР11-01-011-04","Устройство стяжек: на каждые 5 мм изменения толщины стяжки добавлять или исключать к расценке 11-01-011-03 // до толщ. 30 мм","100 м2 стяжки",15.188000000000001,{"$f":"G94/E94","v":3226.59},49005.440000000002,{"$f":"I94/E94","v":0},0,49005.440000000002]
["33","ТЦ_59.1.04.01_47_4707009037_09.09.2024_02\nАналог ТССЦ-401-0008  699,49/623,42=2%","Бетон  В22,5","м3",46.475000000000001,{"$f":"G95/E95","v":0},0,{"$f":"I95/E95","v":11073.53},514642.1,514642.1]
["34","ТЕР11-01-020-03","Устройство покрытий поливинилацетатных: толщиной 3 мм // прим. покрытие полимерное","100 м2 покрытия",15.188000000000001,{"$f":"G96/E96","v":177385.19},2694126.32,{"$f":"I96/E96","v":147312.06},2237375.64,4931501.96]
[null,"101-0430","Краски масляные и алкидные земляные, готовые к применению: сурик железный МА-15, ПФ-14","т",null,null,null,null,null,0]
[null,"101-0433","Краски масляные и алкидные земляные, готовые к применению: охра МА-15","т",null,null,null,null,null,0]
[null,"101-1305","Портландцемент общестроительного назначения бездобавочный, марки: 400","т",null,null,null,null,null,0]
[null,"101-1591","Смола каменноугольная для дорожного строительства","т",null,null,null,null,null,0]
[null,"101-2293","Кислота ортофосфорная: техническая, сорт I","т",null,null,null,null,null,0]
[null,"101-2358","Дисперсия поливинилацетатная непластифицированная марки Д50Н","кг",null,null,null,null,null,0]
[null,"113-0306","Маршалит","т",null,null,null,null,null,0]
[null,"408-0122","Песок природный для строительных: работ средний","м3",null,null,null,null,null,0]
[null,"411-0001","Вода","м3",null,null,null,null,null,0]
[null,null,"Всего, руб. с НДС",null,null,null,{"$f":"SUM(G13:G105)","v":5564259.2400000002},null,{"$f":"SUM(I13:I105)","v":6070637.3799999999},{"$f":"SUM(J13:J105)","v":11634896.619999999}]
[null,null,"Всего, руб. без НДС",null,null,null,{"$f":"G106/1.2","v":4636882.7},null,{"$f":"I106/1.2","v":5058864.4800000004},{"$f":"J106/1.2","v":9695747.1799999997}]

{"sheet":"1632-2021-3.1-АР","index":19,"n_rows":281,"n_cols":10,"rows_kept":281,"cut":false,"hidden":false,"merged":[]}
[]
["Терминал по перевалке минеральных удобрений в морском торговом порту Усть-Луга. Береговые объекты терминала"]
["(наименование стройки)"]
["1632-2021-3.1-АР_07.03.010-П-00-00"]
["(локальная смета)"]
["на Архитектурно-строительные решения, 07.03.010 Крытый склад № 1 (код SAP 01.01.001) код ГП 3.1"]
["(наименование работ и затрат, наименование объекта)"]
[null,"Основание:","1632-2021-3.1-АР.СУБ_0_E_RU_IFR"]
[]
["№ п/п","Обоснование","Наименование работ и затрат","Ед. изм.","Кол-во","Цена за ед.измерения работ, руб. с НДС","Всего, стоимость работ,руб. с НДС","Цена за ед.измерения материалов, руб. с НДС","Всего, стоимость материалов, руб. с НДС","Итого, руб. с НДС"]
["1","2","3","4","5",6,7,8,9,10]
["Раздел 1. Кровля, (1632-2021-3.1-АР.СУБ, л. 11)",null,null,null,null,null,null,null,null,{"$f":"G12+I12","v":0}]
["Тип 2",null,null,null,null,null,null,null,null,0]
["1","ТЕР12-01-017-01","Устройство выравнивающих стяжек: цементно-песчаных толщиной  15 мм, (hср.=(30+120)/2=75 мм)","100 м2 стяжки",0.33079999999999998,{"$f":"G14/E14","v":64289.18},21266.86,{"$f":"I14/E14","v":9584.31},3170.49,24437.35]
[null,"101-0856","Рубероид кровельный с пылевидной посыпкой марки РКП-350б","м2",null,null,null,null,null,0]
[null,"402-0004","Раствор готовый кладочный цементный марки: 100","м3",null,null,null,null,null,0]
[null,"411-0001","Вода","м3",null,null,null,null,null,0]
["2","ТЕР12-01-017-02","Устройство выравнивающих стяжек: на каждый 1 мм изменения толщины добавлять или исключать к расценке 12-01-017-01, (добавить 60 мм)","100 м2 стяжки",0.33079999999999998,{"$f":"G18/E18","v":132030.79999999999},43675.79,{"$f":"I18/E18","v":36691.379999999997},12137.51,55813.3]
[null,"402-0004","Раствор готовый кладочный цементный марки: 100","м3",null,null,null,null,null,0]
["3","ТЕР06-01-015-10","Армирование подстилающих слоев и набетонок","1 т",0.10299999999999999,{"$f":"G20/E20","v":27754.95},2858.76,{"$f":"I20/E20","v":2998.64},308.86,3167.62]
[null,"101-0816","Проволока светлая диаметром: 1,1 мм","т",null,null,null,null,null,0]
["4","ТЦ_08.4.02.05_77_9728005353_01.07.2024_02\nАналог ТССЦ-101-3891 21,17/20,58=2%","Сетка арматурная Ø5А1 шаг 100х100, (вес=3,1 кг/м²) а","м2",36.39,{"$f":"G22/E22","v":0},0,{"$f":"I22/E22","v":1542.28},56123.6,56123.6]
["5","ТЕР12-01-002-09","Устройство кровель плоских из наплавляемых материалов: в два слоя","100 м2 кровли",0.33079999999999998,{"$f":"G23/E23","v":34042.35},11261.21,{"$f":"I23/E23","v":1975.94},653.64,11914.85]
[null,"101-2278","Пропан-бутан, смесь техническая","кг",null,null,null,null,null,0]
["6","ТЦ_12.1.02.00_78_7709331654_01.07.2024_02\nАналог ТССЦ-101-4703 26,13/25,43=2%","ТЕХНОЭЛАСТ ЭКП, (расход - 115 м² на 100 м² изолируемой поверхности при толщине 4,2 (±0,1) мм, k=1,15)","м2",38.04,{"$f":"G25/E25","v":0},0,{"$f":"I25/E25","v":531.57000000000005},20221.05,20221.05]
["7","ТЦ_12.1.02.00_77_5009056896_01.07.2027_02\nаналог ТССЦ-101-4705 22,61/21,98=2%","ТЕХНОЭЛАСТ ФИКС, (расход - 116 м² на 100 м² изолируемой поверхности при толщине 3,0 (±0,1) мм, k=1,16)","м2",38.369999999999997,{"$f":"G26/E26","v":0},0,{"$f":"I26/E26","v":488.4},18739.95,18739.95]
["Раздел 2. Прегородки из газосиликатных блоков, (1632-2021-3.1-АР.СУБ, л. 6)"]
["8","ТЕР08-04-003-02","Кладка перегородок из газобетонных блоков на клее толщиной: 100 мм при высоте этажа свыше 4 м","100 м2 перегородок",0.36109999999999998,{"$f":"G28/E28","v":67925.39},24527.86,{"$f":"I28/E28","v":69282},25017.73,49545.59]
[null,"101-5786","Клей монтажный \"AEROC\" для укладки блоков и плит из ячеистых бетонов","кг",null,null,null,null,null,0]
[null,"113-0021","Грунтовка: ГФ-021 красно-коричневая","т",null,null,null,null,null,0]
[null,"204-0021","Горячекатаная арматурная сталь периодического профиля класса: А-III, диаметром 10 мм","т",null,null,null,null,null,0]
[null,"403-0248","Блоки из ячеистых бетонов стеновые 2 категории, объемная масса: 900 кг/м3, класс В 3,5","м3",null,null,null,null,null,0]
[null,"411-0001","Вода","м3",null,null,null,null,null,0]
["9","ТЕР15-01-080-03","Устройство наружной теплоизоляции зданий с тонкой штукатуркой по утеплителю толщиной плит до: 120 мм","100 м2",0.40329999999999999,{"$f":"G34/E34","v":885147.24},356979.88,{"$f":"I34/E34","v":187408.46},75581.83,432561.71]
[null,"101-1879","Заклепка СТД-985","кг",null,null,null,null,null,0]
[null,"101-1921","Пена монтажная: для герметизации стыков в баллончике емкостью 0,85 л","шт.",null,null,null,null,null,0]
[null,"101-2786","Грунтовка: полимерная типа \"BOLIX O\"","кг",null,null,null,null,null,0]
[null,"101-2787","Грунтовка: типа \"BOLIX SG\"","кг",null,null,null,null,null,0]
[null,"101-2788","Краска силикатная типа \"BOLIX SZ\"","л",null,null,null,null,null,0]
[null,"101-2789","Лента ПСУЛ","10 м",null,null,null,null,null,0]
[null,"101-2795","Сетка армирующая фасадная SSA1363-4SM","м2",null,null,null,null,null,0]
[null,"101-2798","Дюбель распорный с металлическим стержнем: 10х180 мм","10 шт.",null,null,null,null,null,0]
[null,"101-2807","Сверла кольцевые алмазные диаметром: 5 мм","шт.",null,null,null,null,null,0]
[null,"101-3741","Сталь листовая оцинкованная толщиной листа: 0,55 мм","т",null,null,null,null,null,0]
[null,"101-3911","Дюбели для пристрелки стальные","10 шт.",null,null,null,null,null,0]
[null,"113-8075","Клей универсальный для систем утепления типа \"BOLIX WM\"","кг",null,null,null,null,null,0]
[null,"113-8076","Клей для приклеивания минеральной ваты типа \"BOLIX ZW\"","кг",null,null,null,null,null,0]
[null,"201-1303","Профиль цокольный: AL 120 мм, длина 2500 мм","м",null,null,null,null,null,0]
[null,"201-1306","Уголок ПВХ с стеклосеткой","м",null,null,null,null,null,0]
[null,"402-0093","Штукатурка фасадная декоративная типа \"BOLIX MPKA15DM\"","кг",null,null,null,null,null,0]
[null,"411-0001","Вода","м3",null,null,null,null,null,0]
["10","ТССЦ-104-0734","Плиты минераловатные на синтетическом связующем Техно (ТУ 5762-043-17925162-2006), марки: ТЕХНОФАС","м3",5.42,{"$f":"G52/E52","v":0},0,{"$f":"I52/E52","v":10663.95},57798.63,57798.63]
["11","ТЕР08-04-003-03","Кладка перегородок из газобетонных блоков на клее толщиной: 200 мм при высоте этажа до 4 м","100 м2 перегородок",0.60529999999999995,{"$f":"G53/E53","v":181273.09},109724.6,{"$f":"I53/E53","v":136189.76999999999},82435.67,192160.27]
[null,"101-5786","Клей монтажный \"AEROC\" для укладки блоков и плит из ячеистых бетонов","кг",null,null,null,null,null,0]
[null,"113-0021","Грунтовка: ГФ-021 красно-коричневая","т",null,null,null,null,null,0]
[null,"204-0021","Горячекатаная арматурная сталь периодического профиля класса: А-III, диаметром 10 мм","т",null,null,null,null,null,0]
[null,"403-0248","Блоки из ячеистых бетонов стеновые 2 категории, объемная масса: 900 кг/м3, класс В 3,5","м3",null,null,null,null,null,0]
[null,"411-0001","Вода","м3",null,null,null,null,null,0]
["Раздел 3. Дверные проемы и ворота. Склад 1, (1632-2021-3.1-АР.СУБ, л. 11)"]
["Ворота"]
["12","ТЕР09-04-011-01","Монтаж каркасов ворот большепролетных зданий, ангаров и др. без механизмов открывания, (вес=42,44 кг/м²)","1 т конструкций",2.1648000000000001,{"$f":"G61/E61","v":174278.03},377277.07,{"$f":"I61/E61","v":8950.64},19376.349999999999,396653.42]
[null,"101-0309","Канаты пеньковые пропитанные","т",null,null,null,null,null,0]
[null,"101-0324","Кислород технический: газообразный","м3",null,null,null,null,null,0]
[null,"101-0797","Проволока горячекатаная в мотках, диаметром 6,3-6,5 мм","т",null,null,null,null,null,0]
[null,"101-1019","Швеллеры № 40 из стали марки: Ст0","т",null,null,null,null,null,0]
[null,"101-1515","Электроды диаметром: 4 мм Э46","т",null,null,null,null,null,0]
[null,"101-1805","Гвозди строительные","т",null,null,null,null,null,0]
[null,"101-2278","Пропан-бутан, смесь техническая","кг",null,null,null,null,null,0]
[null,"101-2467","Растворитель марки: Р-4","т",null,null,null,null,null,0]
[null,"102-0023","Бруски обрезные хвойных пород длиной: 4-6,5 м, шириной 75-150 мм, толщиной 40-75 мм, I сорта","м3",null,null,null,null,null,0]
[null,"113-0021","Грунтовка: ГФ-021 красно-коричневая","т",null,null,null,null,null,0]
[null,"201-0756","Отдельные конструктивные элементы зданий и сооружений с преобладанием: горячекатаных профилей, средняя масса сборочной единицы от 0,1 до 0,5 т","т",null,null,null,null,null,0]
[null,"508-0097","Канат двойной свивки типа ТК, конструкции 6х19(1+6+12)+1 о.с., оцинкованный из проволок марки В, маркировочная группа: 1770 н/мм2, диаметром 5,5 мм","10 м",null,null,null,null,null,0]
["13","ТЕРм11-05-001-01","Механизм исполнительный, масса: до 20 кг","1 шт.",2,{"$f":"G74/E74","v":2196.5100000000002},4393.01,{"$f":"I74/E74","v":107.74},215.48,4608.49]
[null,"101-2039","Болты с гайками и шайбами оцинкованные, диаметр: 12 мм","кг",null,null,null,null,null,0]
[null,"999-9950","Вспомогательные ненормируемые ресурсы (2% от Оплаты труда рабочих)","руб",null,null,null,null,null,{"$f":"G76+I76","v":0}]
["14","ТЦ_08.1.06.01_78_7816035755_28.06.2024_02\nАналог ТССЦ-201-0257 19748,34/19547,12=2%","В-1/1. Промышленные подъемно-секционные\nворота с вертикальным подъемом 5300×4530","шт.",1,{"$f":"G77/E77","v":0},0,{"$f":"I77/E77","v":554254.31000000006},554254.31000000006,554254.31000000006]
["15","ТЦ_08.1.06.01_78_7816035755_28.06.2024_02\nАналог ТССЦ-201-0257 19748,34/19547,12=2%","В-1/2. Промышленные подъемно-секционные\nворота с вертикальным подъемом 6000×4500","шт",1,{"$f":"G78/E78","v":0},0,{"$f":"I78/E78","v":665938.37},665938.37,665938.37]
["16","ТЕР10-01-010-01\n(прим.Заполнение-забирка из бруса)","Установка элементов каркаса: из брусьев, (В-1/3. Заполнение - забирка из бруса, 4500×3400)","1 м3 древесины в конструкции",7.34,{"$f":"G79/E79","v":46069.99},338153.74,{"$f":"I79/E79","v":25674.92},188453.93,526607.67000000004]
[null,"101-0783","Поковки из квадратных заготовок, масса: 2,825 кг","т",null,null,null,null,null,0]
[null,"101-1591","Смола каменноугольная для дорожного строительства","т",null,null,null,null,null,0]
[null,"101-1714","Болты с гайками и шайбами строительные","т",null,null,null,null,null,0]
[null,"101-1742","Толь с крупнозернистой посыпкой гидроизоляционный марки ТГ-350","м2",null,null,null,null,null,0]
[null,"101-1805","Гвозди строительные","т",null,null,null,null,null,0]
[null,"102-0028","Бруски обрезные хвойных пород длиной: 4-6,5 м, шириной 75-150 мм, толщиной 100, 125 мм, II сорта","м3",null,null,null,null,null,0]
[null,"102-0060","Доски обрезные хвойных пород длиной: 4-6,5 м, шириной 75-150 мм, толщиной 44 мм и более, II сорта","м3",null,null,null,null,null,0]
[null,"102-0077","Доски необрезные хвойных пород длиной: 4-6,5 м, все ширины, толщиной 32-40 мм, III сорта","м3",null,null,null,null,null,0]
[null,"113-1777","Паста антисептическая","т",null,null,null,null,null,0]
["17","ТЕР09-04-011-01","Монтаж каркасов ворот большепролетных зданий, ангаров и др. без механизмов открывания, (вес=42,44 кг/м²)","1 т конструкций",6.8514999999999997,{"$f":"G89/E89","v":174277.19},1194060.18,{"$f":"I89/E89","v":8950.86},61326.83,1255387.01]
[null,"101-0309","Канаты пеньковые пропитанные","т",null,null,null,null,null,0]
[null,"101-0324","Кислород технический: газообразный","м3",null,null,null,null,null,0]
[null,"101-0797","Проволока горячекатаная в мотках, диаметром 6,3-6,5 мм","т",null,null,null,null,null,0]
[null,"101-1019","Швеллеры № 40 из стали марки: Ст0","т",null,null,null,null,null,0]
[null,"101-1515","Электроды диаметром: 4 мм Э46","т",null,null,null,null,null,0]
[null,"101-1805","Гвозди строительные","т",null,null,null,null,null,0]
[null,"101-2278","Пропан-бутан, смесь техническая","кг",null,null,null,null,null,0]
[null,"101-2467","Растворитель марки: Р-4","т",null,null,null,null,null,0]
[null,"102-0023","Бруски обрезные хвойных пород длиной: 4-6,5 м, шириной 75-150 мм, толщиной 40-75 мм, I сорта","м3",null,null,null,null,null,0]
[null,"113-0021","Грунтовка: ГФ-021 красно-коричневая","т",null,null,null,null,null,0]
[null,"201-0756","Отдельные конструктивные элементы зданий и сооружений с преобладанием: горячекатаных профилей, средняя масса сборочной единицы от 0,1 до 0,5 т","т",null,null,null,null,null,0]
[null,"508-0097","Канат двойной свивки типа ТК, конструкции 6х19(1+6+12)+1 о.с., оцинкованный из проволок марки В, маркировочная группа: 1770 н/мм2, диаметром 5,5 мм","10 м",null,null,null,null,null,0]
["18","ТЕРм11-05-001-01","Механизм исполнительный, масса: до 20 кг","1 шт.",7,{"$f":"G102/E102","v":2196.5},15375.52,{"$f":"I102/E102","v":108.15},757.07,16132.59]
[null,"101-2039","Болты с гайками и шайбами оцинкованные, диаметр: 12 мм","кг",null,null,null,null,null,0]
[null,"999-9950","Вспомогательные ненормируемые ресурсы (2% от Оплаты труда рабочих)","руб",null,null,null,null,null,0]
["19","ТЦ_08.1.06.01_78_7816035755_28.06.2024_02\nАналог ТССЦ-201-0257 19748,34/19547,12=2%","В-1/4. Промышленные подъемно-секционные\nворота с вертикальным подъемом 5200×4550","шт",6,{"$f":"G105/E105","v":0},0,{"$f":"I105/E105","v":543997.26},3263983.53,3263983.53]
["20","ТЦ_08.1.06.01_78_7816035755_28.06.2024_02\nАналог ТССЦ-201-0254 12240,10/12119,12=2%","В-1/5. Ворота промышленные распашные SG-S 4300×4530","шт",1,{"$f":"G106/E106","v":0},0,{"$f":"I106/E106","v":491750.94},491750.94,491750.94]
["Дверь ПВХ"]
["21","ТЕР10-01-047-01","Установка блоков из ПВХ в наружных и внутренних дверных проемах: в каменных стенах площадью проема до 3 м2","100 м2 проемов",1.89E-2,{"$f":"G108/E108","v":440241.8},8320.57,{"$f":"I108/E108","v":2580719.0499999998},48775.59,57096.160000000003]
[null,"101-2052","Лента бутиловая","м",null,null,null,null,null,0]
[null,"101-2054","Лента бутиловая диффузионная","м",null,null,null,null,null,0]
[null,"101-2388","Герметик пенополиуретановый (пена монтажная) типа Makrofleks, Soudal в баллонах по 750 мл","шт.",null,null,null,null,null,0]
[null,"101-2789","Лента ПСУЛ","10 м",null,null,null,null,null,0]
[null,"101-4173","Дюбели монтажные 10х130 (10х132, 10х150) мм","10 шт.",null,null,null,null,null,0]
[null,"102-0303","Клинья пластиковые монтажные","100 шт.",null,null,null,null,null,0]
[null,"203-8084","Блоки дверные наружные или тамбурные: с заполнением стеклопакетами (ГОСТ 30970-2002)","м2",null,null,null,null,null,0]
["22","ТЦ_09.4.03.00_43_4345452380_28.06.2024_02\nАналог ТССЦ-203-0649 1853,89/1814,33=2%","Д-1/1. ДПВ 21-9 Г,П,Оп,Пр,Р дверной блок из\nПВХ-профилей внутренний однопольный\nраспашной глухой, правое откр., с порогом 900×2100","шт",1,{"$f":"G116/E116","v":0},0,{"$f":"I116/E116","v":19170.919999999998},19170.919999999998,19170.919999999998]
["23","ТЕР09-04-012-01","Установка металлических дверных блоков в готовые проемы","1 м2 проема",37.17,{"$f":"G117/E117","v":6003.18},223138.28,{"$f":"I117/E117","v":327.7},12180.61,235318.89]
[null,"101-1513","Электроды диаметром: 4 мм Э42","т",null,null,null,null,null,0]
[null,"101-1921","Пена монтажная: для герметизации стыков в баллончике емкостью 0,85 л","шт.",null,null,null,null,null,0]
[null,"204-0062","Детали закладные и накладные изготовленные: без применения сварки, гнутья, сверления (пробивки) отверстий поставляемые отдельно","т",null,null,null,null,null,0]
["24","ТЦ_09.4.03.00_43_4345452380_28.06.2024_02\nАналог ТССЦ-203-8118 2304,38/2255,09=2%","ДН-1/1. ДСН,А,Оп,Пр,Брг,Н,М3,О проем 1000х2100\n(h) дверной стальной блок наружный\nглухой однопольный, обычное исполнение,\nправое откр. наружу, без порога","шт",11,{"$f":"G121/E121","v":0},0,{"$f":"I121/E121","v":19170.919999999998},210880.1,210880.1]
["25","ТЦ_09.4.03.00_43_4345452380_28.06.2024_02\nАналог ТССЦ-203-8118 2304,38/2255,09=2%","ДН-1/3. ДСН,А,Оп,Пр,Брг,Н,М3,О проем 1000х2100\n(h) дверной стальной блок наружный\nглухой однопольный, обычное исполнение,\nправое откр. наружу, без порога","шт",4,{"$f":"G122/E122","v":0},0,{"$f":"I122/E122","v":19170.919999999998},76683.67,76683.67]
["26","ТЦ_09.4.03.00_43_4345452380_28.06.2024_02\nАналог ТССЦ-203-8118 2304,38/2255,09=2%","ДН-1/4. ДСН,А,Оп,Пр,Брг,Н,М3,О проем 900х2100\n(h) дверной стальной блок наружный\nглухой однопольный, обычное исполнение,\nправое откр. наружу, без порога","шт",1,{"$f":"G123/E123","v":0},0,{"$f":"I123/E123","v":19170.919999999998},19170.919999999998,19170.919999999998]
["27","ТЦ_09.4.03.00_43_4345452380_28.06.2024_02\nАналог ТССЦ-203-8118 2304,38/2255,09=2%","ДН-1/5. ДСН,А,Оп,Л,Брг,Н,М3,О проем 900х2100(h)\nдверной стальной блок наружный глухой\nоднопольный, обычное исполнение, левое\nоткр. наружу, без порога","шт",1,{"$f":"G124/E124","v":0},0,{"$f":"I124/E124","v":19170.919999999998},19170.919999999998,19170.919999999998]
["28","ТЦ_09.4.03.00_43_4345452380_28.06.2024_02\nАналог ТССЦ-203-8118 2304,38/2255,09=2%","ДН-1/6. ДСН,А,Оп,Л,Брг,Н,М3,О проем 900х2100(h)\nдверной стальной блок наружный глухой\nоднопольный, обычное исполнение, левое\nоткр. наружу, без порога","шт",1,{"$f":"G125/E125","v":0},0,{"$f":"I125/E125","v":19170.919999999998},19170.919999999998,19170.919999999998]
["29","ТЕР09-04-013-01","Установка противопожарных дверей: однопольных глухих","1 м2 проема",7.98,{"$f":"G126/E126","v":5119.96},40857.26,{"$f":"I126/E126","v":675.08},5387.11,46244.37]
[null,"101-1513","Электроды диаметром: 4 мм Э42","т",null,null,null,null,null,0]
[null,"101-1929","Болты анкерные","т",null,null,null,null,null,0]
[null,"101-3661","Пена монтажная: противопожарная полиуретановая NULLIFIRE (0,88 л)","шт.",null,null,null,null,null,0]
["30","ТЦ_09.4.03.00_43_4345452380_28.06.2024_02\nАналог ТССЦ-203-8116 2097,51/2052,68=2%","ДС-1/1. ДПМ-Пульс-01/30К 21-9 проем\n900х2100(h) наружная противопожарная\nглухая однопольная дверь EI 30, левое\nоткр.","шт",2,{"$f":"G130/E130","v":0},0,{"$f":"I130/E130","v":19415.14},38830.269999999997,38830.269999999997]
["31","ТЦ_09.4.03.00_43_4345452380_28.06.2024_02\nАналог ТССЦ-203-8116 2097,51/2052,68=2%","ДС-1/2. ДПМ-Пульс-01/60К 21-10 проем\n1000х2100(h) внутр противопожарная\nостекл. до 25% однопольная дверь EI 60,\nправое откр.","шт",2,{"$f":"G131/E131","v":0},0,{"$f":"I131/E131","v":24299.45},48598.89,48598.89]
["Раздел 4. Оконные блоки. Склад 1, (1632-2021-3.1-АР.СУБ, л. 15)"]
["32","ТЕР09-04-009-04","Монтаж оконных блоков: из алюминиевых многокамерных профилей с герметичными стеклопакетами","100 м2",0.39,{"$f":"G133/E133","v":1088549.23},424534.2,{"$f":"I133/E133","v":315888.90000000002},123196.67,547730.87]
[null,"101-1714","Болты с гайками и шайбами строительные","т",null,null,null,null,null,0]
[null,"101-1836","Стеклопакеты двухслойные из неполированного стекла толщиной 4 мм","м2",null,null,null,null,null,0]
["33","ТЦ_09.4.03.00_78_7804659220_28.06.2024_01\nАналог  ТССЦ-206-1408 715,91/700,12=2%","ОК-1/1. ГОСТ 21519-2022 ОА ПП СПО оконный\nблок из полых алюминиевых профилей с\nоднокамерным стеклопакетом 1000×1500","шт",26,{"$f":"G136/E136","v":0},0,{"$f":"I136/E136","v":46222.65},1201788.8899999999,1201788.8899999999]
["Раздел 5. Полы, (1632-2021-3.1-АР.СУБ, л. 16)"]
["Тип 1, (S=21026,0 м²)"]
["34","ТЕР13-03-001-11","Огрунтовка бетонных и оштукатуренных поверхностей: грунт-шпатлевкой ЭП-0010, первый слой","100 м2 окрашиваемой поверхности",210.26,{"$f":"G139/E139","v":13124.95},2759652.62,{"$f":"I139/E139","v":0},0,2759652.62]
["35","ТЦ_14.5.00.00_66_7423014913_01.07.2024_02\nАналог ТССЦ-101-7434 11,75/11,43=2%","Пенетрирующая грунтовка СК-БЕТОН, (131–175 г/м² — теоретический расход пенетрирующей грунтовки «СК-БЕТОН» на 30–40 мкм покрытия, k=0,131)","кг",2754.41,{"$f":"G140/E140","v":0},0,{"$f":"I140/E140","v":747.31},2058393.5,{"$f":"G140+I140","v":2058393.5}]
["36","ТЕР13-03-003-21","Окраска огрунтованных бетонных и оштукатуренных поверхностей: эмалью ПФ-133","100 м2 окрашиваемой поверхности",210.26,{"$f":"G141/E141","v":11040},2321271.4,{"$f":"I141/E141","v":300.19},63118.22,2384389.62]
[null,"113-0077","Ксилол нефтяной марки А","т",null,null,null,null,null,0]
["37","ТЦ_14.5.00.00_66_7423014913_01.07.2024_02\nАналог ТССЦ-101-7434 11,75/11,43=2%","Промежуточный слой сантикоррозионным наполнением \"железной слюдкой\" СК-ЭПОКСИД-MIO, (Теоретический расход грунт-эмали «СК-ЭПОКСИД-MIO» на 100–200 мкм покрытия —  208–416 г/м², k=0,333)","кг",7001.66,{"$f":"G143/E143","v":0},0,{"$f":"I143/E143","v":913.39},6395251.7199999997,6395251.7199999997]
["38","ТЕР13-03-003-21","Окраска огрунтованных бетонных и оштукатуренных поверхностей: эмалью ПФ-133","100 м2 окрашиваемой поверхности",210.26,{"$f":"G144/E144","v":11040},2321271.4,{"$f":"I144/E144","v":300.19},63118.22,2384389.62]
[null,"113-0077","Ксилол нефтяной марки А","т",null,null,null,null,null,0]
["39","ТЦ_14.5.00.00_66_7423014913_01.07.2024_02\nАналог ТССЦ-113-8122 16,10/15,68=2%","Эмаль СК-ПРОТЕКТ, (168–315 г/м² — расход полиуретановой эмали «СК-ПРОТЕКТ» на 1 м² при толщине слоя 80–120 мкм, k=0,315)","кг",6623.19,{"$f":"G146/E146","v":0},0,{"$f":"I146/E146","v":931.68},6170684.0599999996,6170684.0599999996]
["Тип 2, (S=46,4 м²)"]
["40","ТЕР11-01-011-01","Устройство стяжек: цементных толщиной 20 мм, (h=36 мм)","100 м2 стяжки",0.46400000000000002,{"$f":"G148/E148","v":82986.210000000006},38505.599999999999,{"$f":"I148/E148","v":95.97},44.53,38550.129999999997]
[null,"411-0001","Вода","м3",null,null,null,null,null,0]
["41","ТЕР11-01-011-02","Устройство стяжек: на каждые 5 мм изменения толщины стяжки добавлять или исключать к расценке 11-01-011-01, (добавить 16 мм)","100 м2 стяжки",0.46400000000000002,{"$f":"G150/E150","v":5219.91},2422.04,{"$f":"I150/E150","v":0},0,2422.04]
["42","ТЦ_04.3.02.13_78_4706056309_01.07.2024_02\nАналог ТССЦ-402-0143 1344,67/1270,81=2%","Смесь цементно-песчаная М-150, (расход на 1 м³ раствора составляет 1500–1800 кг сухой смеси, + 5–10% запаса на усадку и возможные потери)","кг",3373.54,{"$f":"G151/E151","v":0},0,{"$f":"I151/E151","v":9.33},31476.51,31476.51]
["43","ТЦ_04.3.02.13_78_7802348846_01.07.2024_02\nАналог ТССЦ-402-0563 5,24/5,09=2%","Фиброволокно, (расход для стяжки — 0,6–1 кг/м³, k=0,8)","кг",13.36,{"$f":"G152/E152","v":0},0,{"$f":"I152/E152","v":345.59},4617.1099999999997,4617.1099999999997]
["44","ТЕР11-01-027-03","Устройство покрытий на цементном растворе из плиток: керамических для полов одноцветных с красителем","100 м2 покрытия",0.46400000000000002,{"$f":"G153/E153","v":272850.78000000003},126602.76,{"$f":"I153/E153","v":86150.37},39973.769999999997,166576.53]
[null,"101-0287","Плитки керамические для полов гладкие неглазурованные одноцветные с красителем квадратные и прямоугольные","м2",null,null,null,null,null,0]
[null,"101-0631","Опилки древесные","м3",null,null,null,null,null,0]
[null,"402-0006","Раствор готовый кладочный цементный марки: 200","м3",null,null,null,null,null,0]
[null,"411-0001","Вода","м3",null,null,null,null,null,0]
["45","ТЦ_04.3.02.14_78_7722753969_01.07.2024_02\nРасход 0,55кг/м2 Аналог ТССЦ-101-1971 5803,08/5630,04=2%","Расшивка швов CERESITCE 40 AQUASTATIC, (0,4–0,7 кг/м² — ориентировочный расход цементной затирки Ceresit CE 40, k=0,55)","кг",25.52,{"$f":"G158/E158","v":0},0,{"$f":"I158/E158","v":278.42},7105.24,7105.24]
["Тип 3, (S=4,4 м²)"]
["46","ТЕР26-01-041-05","Изоляция изделиями из пенопласта насухо холодных поверхностей покрытий и перекрытий, (h=100 мм)","1 м3 изоляции",0.44,{"$f":"G160/E160","v":21218.68},9336.2199999999993,{"$f":"I160/E160","v":0},0,9336.2199999999993]
["47","ТЦ_01.7.14.00_78_7811728040_01.07.2024_02\nАналог ТССЦ-104-0128 1603,12/1567,87=2%","Экструзионный пенополистирол ТЕХНОНИКОЛЬ CARBONECO","м3",0.44879999999999998,{"$f":"G161/E161","v":0},0,{"$f":"I161/E161","v":8629.61},3872.97,3872.97]
["48","ТЕР11-01-050-01","Устройство пароизоляции из полиэтиленовой пленки в один слой насухо","100 м2 поверхности",4.3999999999999997E-2,{"$f":"G162/E162","v":7542.05},331.85,{"$f":"I162/E162","v":0},0,331.85]
["49","ТЦ_01.7.07.12_78_7840511719_01.07.2024_02\nАналог ТССЦ-113-2020 3,7/3,62=2%","Пленка ТЕХНОНИКОЛЬ АЛЬФА БАРЬЕР 1.0","м2",5.3856000000000002,{"$f":"G163/E163","v":0},0,{"$f":"I163/E163","v":109.9},591.86,591.86]
["50","ТЕР11-01-011-01","Устройство стяжек: цементных толщиной 20 мм","100 м2 стяжки",4.3999999999999997E-2,{"$f":"G164/E164","v":82994.09},3651.74,{"$f":"I164/E164","v":97.95},4.3099999999999996,3656.05]
[null,"411-0001","Вода","м3",null,null,null,null,null,0]
["51","ТЦ_04.3.02.13_78_4706056309_01.07.2024_02\nАналог ТССЦ-402-0143 1344,67/1270,81=2%","Смесь цементно-песчаная М-150, (расход на 1 м³ раствора составляет 1500–1800 кг сухой смеси, + 5–10% запаса на усадку и возможные потери)","кг",177.72,{"$f":"G166/E166","v":0},0,{"$f":"I166/E166","v":9.33},1657.79,1657.79]
["52","ТЕР11-01-004-05","Устройство гидроизоляции обмазочной: в один слой толщиной 2 мм, (h=4 мм)","100 м2 изолируемой поверхности",7.1900000000000006E-2,{"$f":"G167/E167","v":156423.37},11246.84,{"$f":"I167/E167","v":859.11},61.77,{"$f":"G167+I167","v":11308.61}]
[null,"101-0009","Асбест хризотиловый марки: К-6-30","т",null,null,null,null,null,0]
[null,"101-1757","Ветошь","кг",null,null,null,null,null,0]
["53","ТЦ_12.0.00.00_77_7705935398_01.07.2024_02\nРасход 2,8 кг/2мм/м2","Гидроизоляция проникающего действия EKW400, (2,6–3,0 кг/м² — расход гидроизоляции ЕК W400 при толщине слоя нанесения 2 мм, k=2,8)","кг",40.26,{"$f":"G170/E170","v":0},0,{"$f":"I170/E170","v":81.849999999999994},3295.47,3295.47]
["54","ТЕР11-01-027-03","Устройство покрытий на цементном растворе из плиток: керамических для полов одноцветных с красителем","100 м2 покрытия",4.3999999999999997E-2,{"$f":"G171/E171","v":272848.86},12005.35,{"$f":"I171/E171","v":86161.14},3791.09,15796.44]
[null,"101-0287","Плитки керамические для полов гладкие неглазурованные одноцветные с красителем квадратные и прямоугольные","м2",null,null,null,null,null,0]
[null,"101-0631","Опилки древесные","м3",null,null,null,null,null,0]
[null,"402-0006","Раствор готовый кладочный цементный марки: 200","м3",null,null,null,null,null,0]
[null,"411-0001","Вода","м3",null,null,null,null,null,0]
["55","ТЦ_04.3.02.14_78_7722753969_01.07.2024_02\nРасход 0,55кг/м2 Аналог ТССЦ-101-1971 5803,08/5630,04=2%","Расшивка швов CERESIT CE 40 AQUASTATIC, (0,4–0,7 кг/м² — ориентировочный расход цементной затирки Ceresit CE 40, k=0,55)","кг",2.42,{"$f":"G176/E176","v":0},0,{"$f":"I176/E176","v":278.41000000000003},673.75,673.75]
["Тип 4, (S=30,4 м²)"]
["56","ТЕР26-01-041-05","Изоляция изделиями из пенопласта насухо холодных поверхностей покрытий и перекрытий, (h=100 мм)","1 м3 изоляции",3.04,{"$f":"G178/E178","v":21223.31},64518.87,{"$f":"I178/E178","v":0},0,64518.87]
["57","ТЦ_01.7.14.00_78_7811728040_01.07.2024_02\nАналог ТССЦ-104-0128 1603,12/1567,87=2%","Экструзионный пенополистирол ТЕХНОНИКОЛЬ CARBONECO","м3",3.1008,{"$f":"G179/E179","v":0},0,{"$f":"I179/E179","v":8629.19},26757.4,26757.4]
["58","ТЕР11-01-050-01","Устройство пароизоляции из полиэтиленовой пленки в один слой насухо","100 м2 поверхности",0.30399999999999999,{"$f":"G180/E180","v":7475.79},2272.64,{"$f":"I180/E180","v":0},0,2272.64]
["59","ТЦ_01.7.07.12_78_7840511719_01.07.2024_02\nАналог ТССЦ-113-2020 3,7/3,62=2%","Пленка ТЕХНОНИКОЛЬ АЛЬФА БАРЬЕР 1.0","м2",37.209600000000002,{"$f":"G181/E181","v":0},0,{"$f":"I181/E181","v":109.84},4087.02,4087.02]
["60","ТЕР11-01-011-01","Устройство стяжек: цементных толщиной 20 мм, (Стяжка-цементно-песч. раствор М150 с уклоном - от 20)","100 м2 стяжки",0.30399999999999999,{"$f":"G182/E182","v":82985.070000000007},25227.46,{"$f":"I182/E182","v":94.51},28.73,25256.19]
[null,"411-0001","Вода","м3",null,null,null,null,null,0]
["61","ТЦ_04.3.02.13_78_4706056309_01.07.2024_02\nАналог ТССЦ-402-0143 1344,67/1270,81=2%","Смесь цементно-песчаная М-150, (расход на 1 м³ раствора составляет 1500–1800 кг сухой смеси, + 5–10% запаса на усадку и возможные потери)","кг",7128,{"$f":"G184/E184","v":0},0,{"$f":"I184/E184","v":9.33},66507.070000000007,66507.070000000007]
["62","ТЕР11-01-004-05","Устройство гидроизоляции обмазочной: в один слой толщиной 2 мм, (h=4 мм)","100 м2 изолируемой поверхности",0.30399999999999999,{"$f":"G185/E185","v":156415.13},47550.2,{"$f":"I185/E185","v":878.95},267.2,47817.4]
[null,"101-0009","Асбест хризотиловый марки: К-6-30","т",null,null,null,null,null,0]
[null,"101-1757","Ветошь","кг",null,null,null,null,null,0]
["63","ТЦ_12.0.00.00_77_7705935398_01.07.2024_02\nРасход 2,8 кг/2мм/м2","Гидроизоляция проникающего действия EKW400, (2,6–3,0 кг/м² — расход гидроизоляции ЕК W400 при толщине слоя нанесения 2 мм, k=2,8)","кг",170.24,{"$f":"G188/E188","v":0},0,{"$f":"I188/E188","v":81.86},13936.09,13936.09]
["64","ТЕР11-01-027-03","Устройство покрытий на цементном растворе из плиток: керамических для полов одноцветных с красителем","100 м2 покрытия",0.30399999999999999,{"$f":"G189/E189","v":272852.24},82947.08,{"$f":"I189/E189","v":86151.18},26189.96,109137.04]
[null,"101-0287","Плитки керамические для полов гладкие неглазурованные одноцветные с красителем квадратные и прямоугольные","м2",null,null,null,null,null,0]
[null,"101-0631","Опилки древесные","м3",null,null,null,null,null,0]
[null,"402-0006","Раствор готовый кладочный цементный марки: 200","м3",null,null,null,null,null,0]
[null,"411-0001","Вода","м3",null,null,null,null,null,0]
["65","ТЦ_04.3.02.14_78_7722753969_01.07.2024_02\nРасход 0,55кг/м2 Аналог ТССЦ-101-1971 5803,08/5630,04=2%","Расшивка швов CERESITCE 40 AQUASTATIC, (0,4–0,7 кг/м² — ориентировочный расход цементной затирки Ceresit CE 40, k=0,55)","кг",16.72,{"$f":"G194/E194","v":0},0,{"$f":"I194/E194","v":278.45999999999998},4655.8999999999996,4655.8999999999996]
["Тип 5, (S=42,1 м²)"]
["66","ТЕР26-01-041-05","Изоляция изделиями из пенопласта насухо холодных поверхностей покрытий и перекрытий, (h=100 мм)","1 м3 изоляции",4.21,{"$f":"G196/E196","v":21222.560000000001},89346.97,{"$f":"I196/E196","v":0},0,89346.97]
["67","ТЦ_01.7.14.00_78_7811728040_01.07.2024_02\nАналог ТССЦ-104-0128 1603,12/1567,87=2%","Экструзионный пенополистирол ТЕХНОНИКОЛЬ CARBONECO","м3",4.2942,{"$f":"G197/E197","v":0},0,{"$f":"I197/E197","v":8629.34},37056.11,37056.11]
["68","ТЕР11-01-050-01","Устройство пароизоляции из полиэтиленовой пленки в один слой насухо","100 м2 поверхности",0.42099999999999999,{"$f":"G198/E198","v":7472.85},3146.07,{"$f":"I198/E198","v":0},0,3146.07]
["69","ТЦ_01.7.07.12_78_7840511719_01.07.2024_02\nАналог ТССЦ-113-2020 3,7/3,62=2%","Пленка ТЕХНОНИКОЛЬ АЛЬФА БАРЬЕР 1.0","м2",51.5304,{"$f":"G199/E199","v":0},0,{"$f":"I199/E199","v":109.84},5660.05,5660.05]
["70","ТЕР11-01-011-01","Устройство стяжек: цементных толщиной 20 мм, (h=37 мм)","100 м2 стяжки",0.42099999999999999,{"$f":"G200/E200","v":82986.2},34937.19,{"$f":"I200/E200","v":95.53},40.22,34977.410000000003]
[null,"411-0001","Вода","м3",null,null,null,null,null,0]
["71","ТЕР11-01-011-02\nДо 37 мм","Устройство стяжек: на каждые 5 мм изменения толщины стяжки добавлять или исключать к расценке 11-01-011-01, (добавить 17 мм)","100 м2 стяжки",0.42099999999999999,{"$f":"G202/E202","v":5548.34},2335.85,{"$f":"I202/E202","v":0},0,2335.85]
["72","ТЦ_04.3.02.13_78_4706056309_01.07.2024_02\nАналог ТССЦ-402-0143 1344,67/1270,81=2%","Смесь цементно-песчаная М-150, (расход на 1 м³ раствора составляет 1500–1800 кг сухой смеси, + 5–10% запаса на усадку и возможные потери)","кг",3145.93,{"$f":"G203/E203","v":0},0,{"$f":"I203/E203","v":9.33},29353.27,29353.27]
["73","ТЕР11-01-027-03","Устройство покрытий на цементном растворе из плиток: керамических для полов одноцветных с красителем","100 м2 покрытия",0.42099999999999999,{"$f":"G204/E204","v":272851.21000000002},114870.36,{"$f":"I204/E204","v":86149.36},36268.879999999997,151139.24]
[null,"101-0287","Плитки керамические для полов гладкие неглазурованные одноцветные с красителем квадратные и прямоугольные","м2",null,null,null,null,null,0]
[null,"101-0631","Опилки древесные","м3",null,null,null,null,null,0]
[null,"402-0006","Раствор готовый кладочный цементный марки: 200","м3",null,null,null,null,null,0]
[null,"411-0001","Вода","м3",null,null,null,null,null,0]
["74","ТЦ_04.3.02.14_78_7722753969_01.07.2024_02\nРасход 0,55кг/м2 Аналог ТССЦ-101-1971 5803,08/5630,04=2%","Расшивка швов CERESITCE 40 AQUASTATIC, (0,4–0,7 кг/м² — ориентировочный расход цементной затирки Ceresit CE 40, k=0,55)","кг",23.16,{"$f":"G209/E209","v":0},0,{"$f":"I209/E209","v":278.44},6448.73,6448.73]
["Тип 6, (S=7,4 м²)"]
["75","ТЕР13-03-001-11","Огрунтовка бетонных и оштукатуренных поверхностей: грунт-шпатлевкой ЭП-0010, первый слой","100 м2 окрашиваемой поверхности",7.3999999999999996E-2,{"$f":"G211/E211","v":13123.24},971.12,{"$f":"I211/E211","v":0},0,971.12]
["76","ТЦ_14.5.00.00_66_7423014913_01.07.2024_02\nАналог ТССЦ-101-7434 11,75/11,43=2%","Пенетрирующая грунтовка СК-БЕТОН, (131–175 г/м² — теоретический расход пенетрирующей грунтовки «СК-БЕТОН» на 30–40 мкм покрытия)","кг",0.97,{"$f":"G212/E212","v":0},0,{"$f":"I212/E212","v":747.9},725.46,725.46]
["77","ТЕР13-03-003-21","Окраска огрунтованных бетонных и оштукатуренных поверхностей: эмалью ПФ-133","100 м2 окрашиваемой поверхности",7.3999999999999996E-2,{"$f":"G213/E213","v":11026.62},815.97,{"$f":"I213/E213","v":291.22000000000003},21.55,837.52]
[null,"113-0077","Ксилол нефтяной марки А","т",null,null,null,null,null,0]
["78","ТЦ_14.5.00.00_66_7423014913_01.07.2024_02\nАналог ТССЦ-101-7434 11,75/11,43=2%","Промежуточный слой сантикоррозионным наполнением \"железной слюдкой\" СК-ЭПОКСИД-MIO, (Теоретический расход грунт-эмали «СК-ЭПОКСИД-MIO» на 100–200 мкм покрытия —  208–416 г/м²)","кг",2.46,{"$f":"G215/E215","v":0},0,{"$f":"I215/E215","v":913.33},2246.7800000000002,2246.7800000000002]
["79","ТЕР13-03-003-21","Окраска огрунтованных бетонных и оштукатуренных поверхностей: эмалью ПФ-133","100 м2 окрашиваемой поверхности",7.3999999999999996E-2,{"$f":"G216/E216","v":11026.62},815.97,{"$f":"I216/E216","v":291.22000000000003},21.55,837.52]
[null,"113-0077","Ксилол нефтяной марки А","т",null,null,null,null,null,0]
["80","ТЦ_14.5.00.00_66_7423014913_01.07.2024_02\nАналог ТССЦ-113-8122 16,10/15,68=2%","Эмаль СК-ПРОТЕКТ, (168–315 г/м² — расход полиуретановой эмали «СК-ПРОТЕКТ» на 1 м² при толщине слоя 80–120 мкм)","кг",2.33,{"$f":"G218/E218","v":0},0,{"$f":"I218/E218","v":931.61},2170.65,2170.65]
["Раздел 6. Внутренняя отделка, (1632-2021-3.1-АР.СУБ, л. 17)"]
["Стены на отм. +0,000"]
["81","ТЕР15-02-016-03","Штукатурка поверхностей внутри здания цементно-известковым или цементным раствором по камню и бетону: улучшенная стен","100 м2 оштукатуриваемой поверхности",8.5259999999999998,{"$f":"G221/E221","v":194242},1656107.33,{"$f":"I221/E221","v":13842.28},118019.31,1774126.64]
[null,"101-0179","Гвозди строительные с плоской головкой: 1,6х50 мм","т",null,null,null,null,null,0]
[null,"101-0874","Сетка тканая с квадратными ячейками № 05: без покрытия","м2",null,null,null,null,null,0]
[null,"402-0083","Раствор готовый отделочный тяжелый,: цементно-известковый 1:1:6","м3",null,null,null,null,null,0]
[null,"405-0219","Гипсовые вяжущие, марка: Г3","т",null,null,null,null,null,0]
["82","ТЕР15-04-005-03","Окраска поливинилацетатными водоэмульсионными составами улучшенная: по штукатурке стен","100 м2 окрашиваемой поверхности",8.5259999999999998,{"$f":"G226/E226","v":87695.82},747694.55,{"$f":"I226/E226","v":12668.23},108009.34,855703.89]
[null,"101-1596","Шкурка шлифовальная двухслойная с зернистостью 40-25","м2",null,null,null,null,null,0]
[null,"101-1712","Шпатлевка клеевая","т",null,null,null,null,null,0]
[null,"101-1757","Ветошь","кг",null,null,null,null,null,0]
[null,"101-1959","Краска водоэмульсионная ВЭАК-1180","т",null,null,null,null,null,0]
["83","ТЕР15-01-019-07","Гладкая облицовка стен, столбов, пилястр и откосов (без карнизных, плинтусных и угловых плиток) с установкой плиток туалетного гарнитура на клее из сухих смесей: по кирпичу и бетону","100 м2 поверхности облицовки",0.59399999999999997,{"$f":"G231/E231","v":349369.92},207525.73,{"$f":"I231/E231","v":128695.62},76445.2,{"$f":"G231+I231","v":283970.93}]
[null,"101-0256","Плитки керамические глазурованные для внутренней облицовки стен: гладкие без завала белые","м2",null,null,null,null,null,0]
[null,"101-0302","Комплекты для туалетной комнаты Т-7","компл.",null,null,null,null,null,0]
[null,"101-1757","Ветошь","кг",null,null,null,null,null,0]
[null,"101-1776","Клей для облицовочных работ водостойкий «Плюс» (сухая смесь)","т",null,null,null,null,null,0]
[null,"402-0071","Смесь сухая: (фуга) АТЛАС разных цветов для заделки швов водостойкая","т",null,null,null,null,null,0]
[null,"411-0001","Вода","м3",null,null,null,null,null,0]
["Потолок на отм. +0,000"]
["84","ТЕР09-04-006-04","Монтаж ограждающих конструкций стен: из многослойных панелей заводской готовности при высоте здания до 50 м","100 м2",0.11799999999999999,{"$f":"G239/E239","v":539392.46},63648.31,{"$f":"I239/E239","v":8424.58},994.1,64642.41]
[null,"101-0309","Канаты пеньковые пропитанные","т",null,null,null,null,null,0]
[null,"101-0324","Кислород технический: газообразный","м3",null,null,null,null,null,0]
[null,"101-0797","Проволока горячекатаная в мотках, диаметром 6,3-6,5 мм","т",null,null,null,null,null,0]
[null,"101-1019","Швеллеры № 40 из стали марки: Ст0","т",null,null,null,null,null,0]
[null,"101-1513","Электроды диаметром: 4 мм Э42","т",null,null,null,null,null,0]
[null,"101-1714","Болты с гайками и шайбами строительные","т",null,null,null,null,null,0]
[null,"101-1805","Гвозди строительные","т",null,null,null,null,null,0]
[null,"101-2278","Пропан-бутан, смесь техническая","кг",null,null,null,null,null,0]
[null,"101-2467","Растворитель марки: Р-4","т",null,null,null,null,null,0]
[null,"102-0023","Бруски обрезные хвойных пород длиной: 4-6,5 м, шириной 75-150 мм, толщиной 40-75 мм, I сорта","м3",null,null,null,null,null,0]
[null,"113-0021","Грунтовка: ГФ-021 красно-коричневая","т",null,null,null,null,null,0]
[null,"201-0756","Отдельные конструктивные элементы зданий и сооружений с преобладанием: горячекатаных профилей, средняя масса сборочной единицы от 0,1 до 0,5 т","т",null,null,null,null,null,0]
[null,"508-0097","Канат двойной свивки типа ТК, конструкции 6х19(1+6+12)+1 о.с., оцинкованный из проволок марки В, маркировочная группа: 1770 н/мм2, диаметром 5,5 мм","10 м",null,null,null,null,null,0]
["85","ТЦ_07.2.05.05_50_5050134337_20.05.2024_02\nАналог ТССЦ-201-1184 292,62/285,37=2%","Сэндвич-панели кровельные без отделки, толщ. 200 мм","м2",12.39,{"$f":"G253/E253","v":0},0,{"$f":"I253/E253","v":4517.92},55977.07,55977.07]
["Потолок на отм. +27,500"]
["86","ТЕР15-02-019-04","Сплошное выравнивание внутренних поверхностей (однослойное оштукатуривание)из сухих растворных смесей толщиной до 10 мм: потолков","100 м2 оштукатуриваемой поверхности",0.23200000000000001,{"$f":"G255/E255","v":143786.21},33358.400000000001,{"$f":"I255/E255","v":39709.78},9212.67,42571.07]
[null,"402-0070","Смесь сухая: для заделки швов (фуга) АТЛАС растворная для ручной работы","т",null,null,null,null,null,0]
[null,"411-0001","Вода","м3",null,null,null,null,null,0]
["87","ТССЦ-101-4243","Грунтовка воднодисперсионная CERESIT CT 17, (расход — 0,1–0,2 л/м² в зависимости от впитывающей способности основания)","л",4.6399999999999997,{"$f":"G258/E258","v":0},0,{"$f":"I258/E258","v":338.4},1570.16,1570.16]
["88","ТЕР15-04-005-02","Окраска поливинилацетатными водоэмульсионными составами простая по штукатурке и сборным конструкциям: потолков, подготовленным под окраску","100 м2 окрашиваемой поверхности",0.23200000000000001,{"$f":"G259/E259","v":34712.800000000003},8053.37,{"$f":"I259/E259","v":10124.049999999999},2348.7800000000002,10402.15]
[null,"101-1596","Шкурка шлифовальная двухслойная с зернистостью 40-25","м2",null,null,null,null,null,0]
[null,"101-1712","Шпатлевка клеевая","т",null,null,null,null,null,0]
[null,"101-1757","Ветошь","кг",null,null,null,null,null,0]
[null,"101-1959","Краска водоэмульсионная ВЭАК-1180","т",null,null,null,null,null,0]
["Раздел 7. Водосточная система, (1632-2021-3.1-АР.СУБ, л. 2, 18)"]
["89","ТЕР12-01-008-01","Устройство обделок на фасадах (наружные подоконники, пояски, балконы и др.): включая водосточные трубы, с изготовлением элементов труб","100 м2фасада (без вычета проемов)",142.52000000000001,{"$f":"G265/E265","v":26782.92},3817102.34,{"$f":"I265/E265","v":164.84},23493.53,3840595.87]
[null,"101-0195","Гвозди толевые круглые: 3,0х40 мм","т",null,null,null,null,null,0]
["90","ТЕР12-01-008-02","Устройство обделок на фасадах (наружные подоконники, пояски, балконы и др.): без водосточных труб","100 м2фасада (без вычета проемов)",-142.52000000000001,{"$f":"G267/E267","v":10154.69},-1447247.03,{"$f":"I267/E267","v":164.83},-23492.1,-1470739.13]
[null,"101-0195","Гвозди толевые круглые: 3,0х40 мм","т",null,null,null,null,null,0]
["91","ТЦ_12.1.01.05_50_5038168072_01.07.2024_02\nАналог ТССЦ-301-5842 232,99/228,23=2%","ТН МВС, желоб водосточный 125 мм, 3 п.м, ТЕХНОНИКОЛЬ","шт.",258,{"$f":"G269/E269","v":0},0,{"$f":"I269/E269","v":1438.38},371102.71999999997,371102.71999999997]
["92","ТЦ_12.1.01.05_50_7709331654_01.07.2024_02\nАналог ТССЦ-301-3302 306,50/300,38=2%","ТН МВС, воронка желоба, ТЕХНОНИКОЛЬ","шт.",42,{"$f":"G270/E270","v":0},0,{"$f":"I270/E270","v":691.94},29061.65,29061.65]
["93","ТЦ_12.1.01.05_50_5038168072_01.07.2024_02\nАналог ТССЦ-301-5865 326,57/319,92=2%","ТН МВС, труба d 90 мм, 3 м.п., ТЕХНОНИКОЛЬ","шт.",170,{"$f":"G271/E271","v":0},0,{"$f":"I271/E271","v":1940.24},329840.36,329840.36]
["94","ТЦ_12.1.01.05_50_5038168072_01.07.2024_02\nАналог ТССЦ-301-5865 326,57/319,92=2%","ТН МВС, труба d 90 мм,1 м.п., ТЕХНОНИКОЛЬ","шт.",77,{"$f":"G272/E272","v":0},0,{"$f":"I272/E272","v":682.61},52560.93,52560.93]
["95","ТЦ_24.1.02.01_50_5038168072_01.07.2024_02\nАналог ТССЦ-301-5865 326,57/319,92=2%","ТН МВС, хомут трубы, ТЕХНОНИКОЛЬ","шт.",580,{"$f":"G273/E273","v":0},0,{"$f":"I273/E273","v":230.77},133848.78,133848.78]
["96","ТЦ_08.1.02.07_50_5038168072_01.07.2024_02\nАналог ТССЦ-301-5865 326,57/319,92=2%","ТН МВС, крепление хомута с дюбелем 100 ТЕХНОНИКОЛЬ","шт.",580,{"$f":"G274/E274","v":0},0,{"$f":"I274/E274","v":52.5},30449.37,30449.37]
["97","ТЦ_23.8.04.06_50_5038168072_01.07.2024_02\nАналог ТССЦ-301-5875 97,40/95,47=2%","ТН МВС, отвод трубы, ТЕХНОНИКОЛЬ","шт.",42,{"$f":"G275/E275","v":0},0,{"$f":"I275/E275","v":656.99},27593.48,27593.48]
["98","ТЦ_12.1.01.05_50_7709331654_01.07.2024_02\nАналог ТССЦ-301-5875 97,40/95,47=2%","ТН МВС, колено трубы 60°","шт.",96,{"$f":"G276/E276","v":0},0,{"$f":"I276/E276","v":694.56},66678.02,66678.02]
["99","ТЦ_12.1.01.05_50_5038168072_01.07.2024_02\nАналог ТССЦ-301-5846 34,37/33,69=2%","ТН МВС, кронштейн желоба усиленный","шт.",1290,{"$f":"G277/E277","v":0},0,{"$f":"I277/E277","v":296.70999999999998},382754.68,382754.68]
["100","ТЦ_12.1.01.05_50_7709331654_01.07.2024_02\nАналог ТССЦ-301-5846 34,37/33,69=2%","ТН МВС, соединитель желоба","шт.",249,{"$f":"G278/E278","v":0},0,{"$f":"I278/E278","v":708.74},176477.32,176477.32]
["101","ТЦ_12.1.01.05_50_7709331654_01.07.2024_02\nАналог ТССЦ-301-5846 34,37/33,69=2%","ТН МВС, заглушка универсальная","шт.",24,{"$f":"G279/E279","v":0},0,{"$f":"I279/E279","v":333.76},8010.27,8010.27]
[null,null,"Всего, руб. с НДС",null,null,null,{"$f":"SUM(G12:G279)","v":16358701.359999999},null,{"$f":"SUM(I12:I279)","v":24532381.399999999},{"$f":"SUM(J12:J279)","v":40891082.759999998}]
[null,null,"Всего, руб. без НДС",null,null,null,{"$f":"G280/1.2","v":13632251.130000001},null,{"$f":"I280/1.2","v":20443651.170000002},{"$f":"J280/1.2","v":34075902.299999997}]

{"sheet":"1632-2021-2.1.4-АР","index":20,"n_rows":47,"n_cols":10,"rows_kept":47,"cut":false,"hidden":false,"merged":[]}
[]
["Терминал по перевалке минеральных удобрений в морском торговом порту Усть-Луга. Береговые объекты терминала"]
["(наименование стройки)"]
["1632-2021-2.1.4-АР_07.04.043-П-01-01"]
["(локальная смета)"]
["на Архитектурные решения, 07.04.040 Конвейерная галерея №1 (код SAP 01.02.006) код ГП 2.1.1"]
["(наименование работ и затрат, наименование объекта)"]
[null,"Основание:","1632-2021-2.1.3-АР_07.04.042"]
[]
["№ п/п","Обоснование","Наименование работ и затрат","Ед. изм.","Кол-во","Цена за ед.измерения работ, руб. с НДС","Всего, стоимость работ,руб. с НДС","Цена за ед.измерения материалов, руб. с НДС","Всего, стоимость материалов, руб. с НДС","Итого, руб. с НДС"]
["1","2","3","4","5",6,7,8,9,10]
["Раздел 1. Фасадные работы",null,null,null,null,null,null,null,null,{"$f":"G12+I12","v":0}]
["Раздел 2. Дверные проемы",null,null,null,null,null,null,null,null,0]
["6","ТЕР09-04-012-01","Установка металлических дверных блоков в готовые проемы","1 м2 проема",8.4,{"$f":"G14/E14","v":6003.1},50426.080000000002,{"$f":"I14/E14","v":327.69},2752.57,53178.65]
[null,"101-1513","Электроды диаметром: 4 мм Э42","т",null,null,null,null,null,0]
[null,"101-1921","Пена монтажная: для герметизации стыков в баллончике емкостью 0,85 л","шт.",null,null,null,null,null,0]
[null,"204-0062","Детали закладные и накладные изготовленные: без применения сварки, гнутья, сверления (пробивки) отверстий поставляемые отдельно","т",null,null,null,null,null,0]
["7","ТЦ_07.1.01.03_78_7810347194_06.02.2024_02","Дверь ДСН 1000-2100","шт",4,{"$f":"G18/E18","v":0},0,{"$f":"I18/E18","v":35195.279999999999},140781.10999999999,140781.10999999999]
["8","ТЕР15-01-070-02","Облицовка: дверных проемов в наружных стенах откосной планкой из оцинкованной стали с полимерным покрытием с установкой наличников из оцинкованной стали с полимерным покрытием","1 м2 проемов",8.4,{"$f":"G19/E19","v":3593.87},30188.49,{"$f":"I19/E19","v":1660.7},13949.88,44138.37]
[null,"101-1691","Шурупы-саморезы 4,2х16 мм","100 шт.",null,null,null,null,null,0]
[null,"101-2409","Аквилон из оцинкованной стали с полимерным покрытием","п.м",null,null,null,null,null,0]
[null,"101-2410","Откосная планка шириной 250 мм из оцинкованной стали с полимерным покрытием","п.м",null,null,null,null,null,0]
[null,"101-2412","Наличники из оцинкованной стали с полимерным покрытием","п.м",null,null,null,null,null,0]
["Раздел 3. Снегозадерживающие устройства",null,null,null,null,{"$f":"G24/E24","v":{"$error":"#DIV/0!"}},0,{"$f":"I24/E24","v":{"$error":"#DIV/0!"}},0,0]
["9","ТЕР12-01-012-01","Ограждение кровель перилами","100 м ограждения",1.63,{"$f":"G25/E25","v":16111.33},26261.47,{"$f":"I25/E25","v":402.08},655.39,26916.86]
[null,"101-1529","Электроды диаметром: 6 мм Э42","т",null,null,null,null,null,0]
[null,"101-1851","Резина прессованная","кг",null,null,null,null,null,0]
["10","ТЦ_11.3.02.02_78_7804606806_25.01.2024_02\nАналог ТССЦ-203-0960 5219,18/5114,28=2%","Снегодержатель","компл",28,{"$f":"G28/E28","v":0},0,{"$f":"I28/E28","v":2407.39},67406.789999999994,67406.789999999994]
["Раздел 4. Водосточная система",null,null,null,null,{"$f":"G29/E29","v":{"$error":"#DIV/0!"}},0,{"$f":"I29/E29","v":{"$error":"#DIV/0!"}},0,0]
["11","ТЕР12-01-009-02","Устройство желобов: подвесных","100 м желобов",1.65,{"$f":"G30/E30","v":65795.429999999993},108562.46,{"$f":"I30/E30","v":427.46},705.31,109267.77]
[null,"101-0173","Гвозди проволочные оцинкованные для асбестоцементной кровли: 4,5х120 мм","т",null,null,null,null,null,0]
["12","ТЦ_12.1.01.05_78_7804550906_25.01.2024_02\nАналог ТССЦ-203-0960 5219,18/5114,28=2%","Водосточный желоб  д.185х3000","шт",55,{"$f":"G32/E32","v":0},0,{"$f":"I32/E32","v":1743.68},95902.3,95902.3]
["13","ТЦ_12.1.01.05_78_7804550906_25.01.2024_02\nАналог ТССЦ-203-0960 5219,18/5114,28=2%","185 мм Крюк желоба под профлист на болтовом\nсоединении RAL 7004\nМебельный болт М8х30 - 2 шт; Гайка М8 - 2 шт;\nШайба М8 - 2\nшт; Шайба уплотнительная - 2 шт","шт",165,{"$f":"G33/E33","v":0},0,{"$f":"I33/E33","v":769.33},126939.18,126939.18]
["14","ТЕР12-01-008-01","Устройство обделок на фасадах (наружные подоконники, пояски, балконы и др.): включая водосточные трубы, с изготовлением элементов труб","100 м2фасада (без вычета проемов)",1.02678,{"$f":"G34/E34","v":27776.23},28520.080000000002,{"$f":"I34/E34","v":790.47},811.64,29331.72]
[null,"101-0195","Гвозди толевые круглые: 3,0х40 мм","т",null,null,null,null,null,0]
[null,"101-0795","Проволока канатная оцинкованная, диаметром: 3 мм","т",null,null,null,null,null,0]
["15","ТЕР12-01-008-02","Устройство обделок на фасадах (наружные подоконники, пояски, балконы и др.): без водосточных труб","100 м2фасада (без вычета проемов)",-1.02678,{"$f":"G37/E37","v":10153.48},-10425.39,{"$f":"I37/E37","v":164.85},-169.26,-10594.65]
[null,"101-0195","Гвозди толевые круглые: 3,0х40 мм","т",null,null,null,null,null,0]
["16","ТЦ_12.1.01.05_78_7804550906_25.01.2024_02\nАналог ТССЦ-203-0960 5219,18/5114,28=2%","150 мм Труба 3000 мм RAL 7004","м",218,{"$f":"G39/E39","v":0},0,{"$f":"I39/E39","v":708.24},154397.38,154397.38]
["17","ТЦ_12.1.01.05_78_7804550906_25.01.2024_02\nАналог ТССЦ-203-0960 5219,18/5114,28=2%","150 мм Охват на площадке (прут- 10х100мм;\nплощадка- 2,5х100х50мм) (черная полоса) RAL\n7004\nБолт 6х30 - 2 шт; Гайка М6 - 2 шт; Шайба М6 - 4\nшт","шт",218,{"$f":"G40/E40","v":0},0,{"$f":"I40/E40","v":321.08999999999997},69998.17,69998.17]
["18","ТЕР16-07-002-01","Установка воронок водосточных","1 воронка",10,{"$f":"G41/E41","v":7584.82},75848.210000000006,{"$f":"I41/E41","v":54.12},541.16999999999996,76389.38]
[null,"101-0311","Каболка","т",null,null,null,null,null,0]
[null,"101-1355","Цемент гипсоглиноземистый расширяющийся","т",null,null,null,null,null,0]
[null,"101-1522","Электроды диаметром: 5 мм Э42А","т",null,null,null,null,null,0]
["19","ТЦ_12.1.01.05_78_7804550906_25.01.2024_02\nАналог ТССЦ-203-0960 5219,18/5114,28=2%","150 мм Воронка под желоб (верх 185мм.) RAL\n7004Водосточный желоб  д.185х3000","шт",10,{"$f":"G45/E45","v":0},0,{"$f":"I45/E45","v":824.19},8241.91,8241.91]
[null,null,"Всего, руб. с НДС",null,null,null,{"$f":"SUM(G14:G45)","v":309381.40000000002},null,{"$f":"SUM(I14:I45)","v":682913.54},{"$f":"SUM(J14:J45)","v":992294.94}]
[null,null,"Всего, руб. без НДС",null,null,null,{"$f":"G46/1.2","v":257817.83},null,{"$f":"I46/1.2","v":569094.62},{"$f":"J46/1.2","v":826912.45}]

{"sheet":"1-1632-2021-2.1.2,2.1.7-АР3","index":21,"n_rows":193,"n_cols":10,"rows_kept":193,"cut":false,"hidden":false,"merged":[]}
[]
["Терминал по перевалке минеральных удобрений в морском торговом порту Усть-Луга. Береговые объекты терминала"]
["(наименование стройки)"]
["1632-2021-2.1.2, 2.1.7-АР3_07.04.046-П-00-00"]
["(локальная смета)"]
["на Архитектурные решения, Конвейерная галерея №7"]
["(наименование работ и затрат, наименование объекта)"]
[null,"Основание:","1632-2021-2.1.2, 2.1.7-АР1_0_0_RU_IFС"]
[]
["№ п/п","Обоснование","Наименование работ и затрат","Ед. изм.","Кол-во","Цена за ед.измерения работ, руб. с НДС","Всего, стоимость работ,руб. с НДС","Цена за ед.измерения материалов, руб. с НДС","Всего, стоимость материалов, руб. с НДС","Итого, руб. с НДС"]
["1","2","3","4","5",6,7,8,9,10]
["Раздел 2. Кровля",null,null,null,null,null,null,null,null,{"$f":"G12+I12","v":0}]
["Монтаж кровельного покрытия  из профнастила учтен в разделе КМ",null,null,null,null,null,null,null,null,0]
["1632-2021-2.1.2, 2.1.7-АР3.  ( в осях 15-23 )",null,null,null,null,null,null,null,null,0]
["1","ТЕР11-01-009-02","Устройство тепло- и звукоизоляции сплошной из плит: древесноволокнистых // прим. ЦСП в 2 слоя","100 м2 изолируемой поверхности",2.0409999999999999,{"$f":"G15/E15","v":36149.839999999997},73781.820000000007,{"$f":"I15/E15","v":0},0,73781.820000000007]
["2","ТЦ_01.6.01.10_78_7810994931_08.02.2024_02","ЦСП 13200х1200х8","м2",420.45,{"$f":"G16/E16","v":0},0,{"$f":"I16/E16","v":496.75},208860.3,208860.3]
["3","ТЕР12-01-002-09","Устройство кровель плоских из наплавляемых материалов: в два слоя","100 м2 кровли",2.0409999999999999,{"$f":"G17/E17","v":34049.769999999997},69495.58,{"$f":"I17/E17","v":1974.08},4029.1,73524.679999999993]
[null,"101-2278","Пропан-бутан, смесь техническая","кг",null,null,null,null,null,0]
["4","ТЦ_12.0.00.00_78_7826181040_08.02.2024_02","Техноэласт Пламя Стоп","м2",232.67,{"$f":"G19/E19","v":0},0,{"$f":"I19/E19","v":527.11},122642.52,122642.52]
["5","ТЦ_12.0.00.00_78_7826181040_08.02.2024_02","Техноэласт ЭПП","м2",236.76,{"$f":"G20/E20","v":0},0,{"$f":"I20/E20","v":417.88},98937.41,98937.41]
["6","ТЕР12-01-009-02","Устройство желобов: подвесных","100 м желобов",0.8,{"$f":"G21/E21","v":65795.61},52636.49,{"$f":"I21/E21","v":21888.54},17510.830000000002,70147.320000000007]
[null,"101-0173","Гвозди проволочные оцинкованные для асбестоцементной кровли: 4,5х120 мм","т",null,null,null,null,null,0]
[null,"101-0788","Поковки оцинкованные, масса: 2,825 кг","т",null,null,null,null,null,0]
["7","ТЦ_12.1.01.00_78_7804606806_25.01.2024_02","Желоб водосточный D185х3000","шт",27,{"$f":"G24/E24","v":0},0,{"$f":"I24/E24","v":1709.47},46155.6,46155.6]
["8","ТЦ_12.1.01.00_78_7804606806_25.01.2024_02","Держатель желоба","шт",134,{"$f":"G25/E25","v":0},0,{"$f":"I25/E25","v":754.15},101056.2,101056.2]
["9","ТЕР12-01-008-01","Устройство обделок на фасадах (наружные подоконники, пояски, балконы и др.): включая водосточные трубы, с изготовлением элементов труб// прим.","100 м2фасада (без вычета проемов)",7.7809999999999997,{"$f":"G26/E26","v":27777.32},216135.3,{"$f":"I26/E26","v":2212.69},17216.939999999999,233352.24]
[null,"101-0195","Гвозди толевые круглые: 3,0х40 мм","т",null,null,null,null,null,0]
[null,"101-0788","Поковки оцинкованные, масса: 2,825 кг","т",null,null,null,null,null,0]
[null,"101-0795","Проволока канатная оцинкованная, диаметром: 3 мм","т",null,null,null,null,null,0]
["10","ТЦ_12.1.01.00_78_7804606806_25.01.2024_02","Труба водосточная D150х2000мм","шт",121,{"$f":"G30/E30","v":0},0,{"$f":"I30/E30","v":2084.1799999999998},252185.55,252185.55]
["11","ТЦ_12.1.01.00_78_7804606806_25.01.2024_02","Крепление трубы","шт",241,{"$f":"G31/E31","v":0},0,{"$f":"I31/E31","v":314.87},75884.210000000006,75884.210000000006]
["12","ТЦ_12.1.01.00_78_7804606806_25.01.2024_02","Колено гофрированное","шт",24,{"$f":"G32/E32","v":0},0,{"$f":"I32/E32","v":478.84},11492.15,11492.15]
["13","ТЦ_12.1.01.00_78_7804606806_25.01.2024_02","Заглушка","шт",6,{"$f":"G33/E33","v":0},0,{"$f":"I33/E33","v":373.47},2240.81,2240.81]
["14","ТЦ_12.1.01.00_78_7804606806_25.01.2024_02","Воронки выпускные D185/150","шт",11,{"$f":"G34/E34","v":0},0,{"$f":"I34/E34","v":808.02},8888.2099999999991,8888.2099999999991]
["15","ТЕР12-01-012-01","Ограждение кровель перилами // прим.","100 м ограждения",0.77,{"$f":"G35/E35","v":16110.91},12405.4,{"$f":"I35/E35","v":402.09},309.61,12715.01]
[null,"101-1529","Электроды диаметром: 6 мм Э42","т",null,null,null,null,null,0]
[null,"101-1851","Резина прессованная","кг",null,null,null,null,null,0]
["16","ТЦ_12.1.01.00_78_7804606806_25.01.2024_02","Снегозадержатель трубчатый (L=3 м. в комплекте с креплением)","шт",26,{"$f":"G38/E38","v":0},0,{"$f":"I38/E38","v":2407.39},62592.02,62592.02]
["Раздел 3. Окна"]
["1632-2021-2.1.2, 2.1.7-АР3.  ( в осях 15-23 )"]
["18","ТЕР10-01-034-05","Установка в жилых и общественных зданиях оконных блоков из ПВХ профилей: поворотных (откидных, поворотно-откидных) с площадью проема до 2 м2 двухстворчатых","100 м2 проемов",0.1736,{"$f":"G41/E41","v":408214.23},70865.990000000005,{"$f":"I41/E41","v":128138.08},22244.77,93110.76]
[null,"101-2052","Лента бутиловая","м",null,null,null,null,null,0]
[null,"101-2054","Лента бутиловая диффузионная","м",null,null,null,null,null,0]
[null,"101-2388","Герметик пенополиуретановый (пена монтажная) типа Makrofleks, Soudal в баллонах по 750 мл","шт.",null,null,null,null,null,0]
[null,"101-2789","Лента ПСУЛ","10 м",null,null,null,null,null,0]
[null,"101-4173","Дюбели монтажные 10х130 (10х132, 10х150) мм","10 шт.",null,null,null,null,null,0]
[null,"102-0303","Клинья пластиковые монтажные","100 шт.",null,null,null,null,null,0]
["19","ТЦ_07.1.02.00_78_7840318754_30.01.2024_02","Оконный блок 1200х1400","шт",11,{"$f":"G48/E48","v":0},0,{"$f":"I48/E48","v":15738.26},173120.89,173120.89]
["20","ТЕР15-01-070-01","Облицовка: оконных проемов в наружных стенах откосной планкой из оцинкованной стали с полимерным покрытием с устройством водоотлива оконного из оцинкованной стали с полимерным покрытием","1 м2 проемов",17.36,{"$f":"G49/E49","v":3276.69},56883.34,{"$f":"I49/E49","v":1423.83},24717.68,81601.02]
[null,"101-1691","Шурупы-саморезы 4,2х16 мм","100 шт.",null,null,null,null,null,0]
[null,"101-2409","Аквилон из оцинкованной стали с полимерным покрытием","п.м",null,null,null,null,null,0]
[null,"101-2410","Откосная планка шириной 250 мм из оцинкованной стали с полимерным покрытием","п.м",null,null,null,null,null,0]
[null,"101-2411","Водоотлив оконный шириной планки 250 мм из оцинкованной стали с полимерным покрытием","п.м",null,null,null,null,null,0]
["Раздел 4. Дверные проемы"]
["1632-2021-2.1.2, 2.1.7-АР3.  ( в осях 15-23 )"]
["21","ТЕР09-04-012-01","Установка металлических дверных блоков в готовые проемы","1 м2 проема",12.6,{"$f":"G56/E56","v":6003.1},75639.12,{"$f":"I56/E56","v":327.69},4128.8500000000004,79767.97]
[null,"101-1513","Электроды диаметром: 4 мм Э42","т",null,null,null,null,null,0]
[null,"101-1921","Пена монтажная: для герметизации стыков в баллончике емкостью 0,85 л","шт.",null,null,null,null,null,0]
[null,"204-0062","Детали закладные и накладные изготовленные: без применения сварки, гнутья, сверления (пробивки) отверстий поставляемые отдельно","т",null,null,null,null,null,0]
["22","ТЦ_07.1.01.03_78_7841375755_25.01.2024_02","Дверь стальная наружная  (левая, правая) 1000х2100","шт",5,{"$f":"G60/E60","v":0},0,{"$f":"I60/E60","v":25965.82},129829.12,129829.12]
["23","ТЦ_07.1.01.03_78_7841375755_25.01.2024_02","Дверь стальная внутренняя  (правая) 1000х2100","шт",1,{"$f":"G61/E61","v":0},0,{"$f":"I61/E61","v":25965.83},25965.83,25965.83]
["24","ТЕР09-04-013-01","Установка противопожарных дверей: однопольных глухих","1 м2 проема",10.5,{"$f":"G62/E62","v":5120.0600000000004},53760.66,{"$f":"I62/E62","v":675.03},7087.8,60848.46]
[null,"101-1513","Электроды диаметром: 4 мм Э42","т",null,null,null,null,null,0]
[null,"101-1929","Болты анкерные","т",null,null,null,null,null,0]
[null,"101-3661","Пена монтажная: противопожарная полиуретановая NULLIFIRE (0,88 л)","шт.",null,null,null,null,null,0]
["25","ТЦ_07.1.01.03_78_7841375755_25.01.2024_02","Дверь противопожарная металлическая: однопольная ДПС-01/60, размером 1000х2100 мм","шт",4,{"$f":"G66/E66","v":0},0,{"$f":"I66/E66","v":25965.83},103863.31,103863.31]
["26","ТЦ_07.1.01.03_78_7841375755_25.01.2024_02","Дверь противопожарная металлическая: однопольная ДПС-01/30, размером 1000х2100 мм","шт",1,{"$f":"G67/E67","v":0},0,{"$f":"I67/E67","v":25965.83},25965.83,25965.83]
["27","ТЕР15-01-070-02","Облицовка: дверных проемов в наружных стенах откосной планкой из оцинкованной стали с полимерным покрытием с установкой наличников из оцинкованной стали с полимерным покрытием","1 м2 проемов",23.1,{"$f":"G68/E68","v":3593.88},83018.710000000006,{"$f":"I68/E68","v":1660.7},38362.15,121380.86]
[null,"101-1691","Шурупы-саморезы 4,2х16 мм","100 шт.",null,null,null,null,null,0]
[null,"101-2409","Аквилон из оцинкованной стали с полимерным покрытием","п.м",null,null,null,null,null,0]
[null,"101-2410","Откосная планка шириной 250 мм из оцинкованной стали с полимерным покрытием","п.м",null,null,null,null,null,0]
[null,"101-2412","Наличники из оцинкованной стали с полимерным покрытием","п.м",null,null,null,null,null,0]
["Раздел 5. Полы"]
["1632-2021-2.1.2, 2.1.7-АР3.  (в осях 15-23 )"]
["Тип 1.  S=320,0 м2."]
["28","ТЕР11-01-011-03","Устройство стяжек: бетонных толщиной 20 мм","100 м2 стяжки",3.2,{"$f":"G76/E76","v":83767.94},268057.42,{"$f":"I76/E76","v":94.05},300.95999999999998,{"$f":"G76+I76","v":268358.38}]
[null,"411-0001","Вода","м3",null,null,null,null,null,0]
["29","ТЕР11-01-011-04","Устройство стяжек: на каждые 5 мм изменения толщины стяжки добавлять или исключать к расценке 11-01-011-03 // до толщ. 50-150 мм","100 м2 стяжки",3.2,{"$f":"G78/E78","v":25812.77},82600.87,{"$f":"I78/E78","v":0},0,82600.87]
["30","ТЦ_59.1.04.01_47_4705078395_08.02.2024_02","Бетон  В22,5","м3",32.64,{"$f":"G79/E79","v":0},0,{"$f":"I79/E79","v":5087.84},166067.19,166067.19]
["31","ТЕР06-01-015-10","Армирование подстилающих слоев и набетонок","1 т",0.56000000000000005,{"$f":"G80/E80","v":27714.82},15520.3,{"$f":"I80/E80","v":3009.64},1685.4,17205.7]
[null,"101-0816","Проволока светлая диаметром: 1,1 мм","т",null,null,null,null,null,0]
["32","ТЦ_08.4.02.05_66_6686134976_08.02.2024_02","Сетка арм. 100х100 4Вр1","м2",320,{"$f":"G82/E82","v":0},0,{"$f":"I82/E82","v":116.07},37142.74,37142.74]
["33","ТЕР11-01-020-03","Устройство покрытий поливинилацетатных: толщиной 3 мм // прим. покрытие полимерное","100 м2 покрытия",3.2,{"$f":"G83/E83","v":180031.46},576100.66,{"$f":"I83/E83","v":147312.06},471398.6,1047499.26]
[null,"101-0430","Краски масляные и алкидные земляные, готовые к применению: сурик железный МА-15, ПФ-14","т",null,null,null,null,null,0]
[null,"101-0433","Краски масляные и алкидные земляные, готовые к применению: охра МА-15","т",null,null,null,null,null,0]
[null,"101-1305","Портландцемент общестроительного назначения бездобавочный, марки: 400","т",null,null,null,null,null,0]
[null,"101-1591","Смола каменноугольная для дорожного строительства","т",null,null,null,null,null,0]
[null,"101-2293","Кислота ортофосфорная: техническая, сорт I","т",null,null,null,null,null,0]
[null,"101-2358","Дисперсия поливинилацетатная непластифицированная марки Д50Н","кг",null,null,null,null,null,0]
[null,"113-0306","Маршалит","т",null,null,null,null,null,0]
[null,"408-0122","Песок природный для строительных: работ средний","м3",null,null,null,null,null,0]
[null,"411-0001","Вода","м3",null,null,null,null,null,0]
["Тип 2.  S=17,8 м2."]
["34","ТЕР11-01-011-03","Устройство стяжек: бетонных толщиной 20 мм","100 м2 стяжки",0.17799999999999999,{"$f":"G94/E94","v":83767.3},14910.58,{"$f":"I94/E94","v":94.04},16.739999999999998,14927.32]
[null,"411-0001","Вода","м3",null,null,null,null,null,0]
["35","ТЕР11-01-011-04","Устройство стяжек: на каждые 5 мм изменения толщины стяжки добавлять или исключать к расценке 11-01-011-03 // до толщ. 350 мм","100 м2 стяжки",0.17799999999999999,{"$f":"G96/E96","v":106475.06},18952.560000000001,{"$f":"I96/E96","v":0},0,18952.560000000001]
["36","ТЦ_59.1.04.01_47_4705078395_08.02.2024_02","Бетон  В22,5","м3",6.3550000000000004,{"$f":"G97/E97","v":0},0,{"$f":"I97/E97","v":5087.84},32333.24,32333.24]
["37","ТЕР06-01-015-10","Армирование подстилающих слоев и набетонок","1 т",3.1150000000000001E-2,{"$f":"G98/E98","v":27704.65},863,{"$f":"I98/E98","v":3009.63},93.75,956.75]
[null,"101-0816","Проволока светлая диаметром: 1,1 мм","т",null,null,null,null,null,0]
["38","ТЦ_08.4.02.05_66_6686134976_08.02.2024_02","Сетка арм. 100х100 4Вр1","м2",17.8,{"$f":"G100/E100","v":0},0,{"$f":"I100/E100","v":116.07},2066.06,2066.06]
["39","ТЕР11-01-020-03","Устройство покрытий поливинилацетатных: толщиной 3 мм // прим. покрытие полимерное","100 м2 покрытия",0.17799999999999999,{"$f":"G101/E101","v":180030.34},32045.4,{"$f":"I101/E101","v":147312.07999999999},26221.55,58266.95]
[null,"101-0430","Краски масляные и алкидные земляные, готовые к применению: сурик железный МА-15, ПФ-14","т",null,null,null,null,null,0]
[null,"101-0433","Краски масляные и алкидные земляные, готовые к применению: охра МА-15","т",null,null,null,null,null,0]
[null,"101-1305","Портландцемент общестроительного назначения бездобавочный, марки: 400","т",null,null,null,null,null,0]
[null,"101-1591","Смола каменноугольная для дорожного строительства","т",null,null,null,null,null,0]
[null,"101-2293","Кислота ортофосфорная: техническая, сорт I","т",null,null,null,null,null,0]
[null,"101-2358","Дисперсия поливинилацетатная непластифицированная марки Д50Н","кг",null,null,null,null,null,0]
[null,"113-0306","Маршалит","т",null,null,null,null,null,0]
[null,"408-0122","Песок природный для строительных: работ средний","м3",null,null,null,null,null,0]
[null,"411-0001","Вода","м3",null,null,null,null,null,0]
["Тип 3.  S=1261 м2."]
["40","ТЕР11-01-011-03","Устройство стяжек: бетонных толщиной 20 мм","100 м2 стяжки",12.61,{"$f":"G112/E112","v":83767.899999999994},1056313.19,{"$f":"I112/E112","v":94.05},1185.98,1057499.17]
[null,"411-0001","Вода","м3",null,null,null,null,null,0]
["41","ТЕР11-01-011-04","Устройство стяжек: на каждые 5 мм изменения толщины стяжки добавлять или исключать к расценке 11-01-011-03 // до толщ. 30 мм","100 м2 стяжки",12.61,{"$f":"G114/E114","v":3226.62},40687.74,{"$f":"I114/E114","v":0},0,40687.74]
["42","ТЦ_59.1.04.01_47_4705078395_08.02.2024_02","Бетон  В22,5","м3",38.587000000000003,{"$f":"G115/E115","v":0},0,{"$f":"I115/E115","v":5087.84},196324.58,196324.58]
["43","ТЕР11-01-020-03","Устройство покрытий поливинилацетатных: толщиной 3 мм // прим. покрытие полимерное","100 м2 покрытия",12.61,{"$f":"G116/E116","v":177871.25},2242956.48,{"$f":"I116/E116","v":147312.06},1857605.13,4100561.61]
[null,"101-0430","Краски масляные и алкидные земляные, готовые к применению: сурик железный МА-15, ПФ-14","т",null,null,null,null,null,0]
[null,"101-0433","Краски масляные и алкидные земляные, готовые к применению: охра МА-15","т",null,null,null,null,null,0]
[null,"101-1305","Портландцемент общестроительного назначения бездобавочный, марки: 400","т",null,null,null,null,null,0]
[null,"101-1591","Смола каменноугольная для дорожного строительства","т",null,null,null,null,null,0]
[null,"101-2293","Кислота ортофосфорная: техническая, сорт I","т",null,null,null,null,null,0]
[null,"101-2358","Дисперсия поливинилацетатная непластифицированная марки Д50Н","кг",null,null,null,null,null,0]
[null,"113-0306","Маршалит","т",null,null,null,null,null,0]
[null,"408-0122","Песок природный для строительных: работ средний","м3",null,null,null,null,null,0]
[null,"411-0001","Вода","м3",null,null,null,null,null,0]
["Тип 4.  S=22,7 м2."]
["44","ТЕР26-01-039-01","Изоляция покрытий и перекрытий изделиями из волокнистых и зернистых материалов насухо // толщ. 100 мм","1 м3 изоляции",2.27,{"$f":"G127/E127","v":24039.31},54569.24,{"$f":"I127/E127","v":0},0,54569.24]
["45","ТССЦ-104-0111","Плиты или маты теплоизоляционные // прим.","м3",2.4516,{"$f":"G128/E128","v":0},0,{"$f":"I128/E128","v":4694.6000000000004},11509.27,11509.27]
["46","ТЕР11-01-050-01","Устройство пароизоляции из полиэтиленовой пленки в один слой насухо","100 м2 поверхности",0.22700000000000001,{"$f":"G129/E129","v":7474.63},1696.74,{"$f":"I129/E129","v":19003.7},4313.84,6010.58]
[null,"113-0324","Пленка полиэтиленовая толщиной: 0,2-0,5 мм","м2",null,null,null,null,null,0]
["47","ТЕР11-01-011-03","Устройство стяжек: бетонных толщиной 20 мм","100 м2 стяжки",0.22700000000000001,{"$f":"G131/E131","v":83764.45},19014.53,{"$f":"I131/E131","v":94.05},21.35,19035.88]
[null,"411-0001","Вода","м3",null,null,null,null,null,0]
["48","ТЕР11-01-011-04","Устройство стяжек: на каждые 5 мм изменения толщины стяжки добавлять или исключать к расценке 11-01-011-03 // до 50 мм","100 м2 стяжки",0.22700000000000001,{"$f":"G133/E133","v":9676.2099999999991},2196.5,{"$f":"I133/E133","v":0},0,2196.5]
["49","ТЦ_59.1.04.01_47_4705078395_08.02.2024_02","Бетон  В22,5","м3",1.1579999999999999,{"$f":"G134/E134","v":0},0,{"$f":"I134/E134","v":5087.8500000000004},5891.73,5891.73]
["50","ТЕР06-01-015-10","Армирование подстилающих слоев и набетонок","1 т",3.9725000000000003E-2,{"$f":"G135/E135","v":27692.639999999999},1100.0899999999999,{"$f":"I135/E135","v":3009.44},119.55,1219.6400000000001]
[null,"101-0816","Проволока светлая диаметром: 1,1 мм","т",null,null,null,null,null,0]
["51","ТЦ_08.4.02.05_66_6686134976_08.02.2024_02","Сетка арм. 100х100 4Вр1","м2",22.7,{"$f":"G137/E137","v":0},0,{"$f":"I137/E137","v":116.07},2634.81,2634.81]
["52","ТЕР11-01-020-03","Устройство покрытий поливинилацетатных: толщиной 3 мм // прим. покрытие полимерное","100 м2 покрытия",0.22700000000000001,{"$f":"G138/E138","v":180027.84},40866.32,{"$f":"I138/E138","v":147312.07},33439.839999999997,{"$f":"G138+I138","v":74306.16}]
[null,"101-0430","Краски масляные и алкидные земляные, готовые к применению: сурик железный МА-15, ПФ-14","т",null,null,null,null,null,0]
[null,"101-0433","Краски масляные и алкидные земляные, готовые к применению: охра МА-15","т",null,null,null,null,null,0]
[null,"101-1305","Портландцемент общестроительного назначения бездобавочный, марки: 400","т",null,null,null,null,null,0]
[null,"101-1591","Смола каменноугольная для дорожного строительства","т",null,null,null,null,null,0]
[null,"101-2293","Кислота ортофосфорная: техническая, сорт I","т",null,null,null,null,null,0]
[null,"101-2358","Дисперсия поливинилацетатная непластифицированная марки Д50Н","кг",null,null,null,null,null,0]
[null,"113-0306","Маршалит","т",null,null,null,null,null,0]
[null,"408-0122","Песок природный для строительных: работ средний","м3",null,null,null,null,null,0]
[null,"411-0001","Вода","м3",null,null,null,null,null,0]
["Тип 6.  S=45,1 м2."]
["53","ТЕР11-01-015-07","Шлифовка бетонных или металлоцементных покрытий","100 м2 покрытия",0.45100000000000001,{"$f":"G149/E149","v":191484.61},86359.56,{"$f":"I149/E149","v":180.13},81.239999999999995,86440.8]
[null,"101-2109","Карборунд","кг",null,null,null,null,null,0]
[null,"411-0001","Вода","м3",null,null,null,null,null,0]
["54","ТЕР11-01-015-08","Железнение цементных покрытий","100 м2 покрытия",0.45100000000000001,{"$f":"G152/E152","v":26256.92},11841.87,{"$f":"I152/E152","v":537.66999999999996},242.49,12084.36]
[null,"101-1305","Портландцемент общестроительного назначения бездобавочный, марки: 400","т",null,null,null,null,null,0]
[null,"411-0001","Вода","м3",null,null,null,null,null,0]
["Тип 7.  S=14,1 м2."]
["55","ТЕР26-01-039-01","Изоляция покрытий и перекрытий изделиями из волокнистых и зернистых материалов насухо // толщ. 50 мм","1 м3 изоляции",0.70499999999999996,{"$f":"G156/E156","v":24038.47},16947.12,{"$f":"I156/E156","v":0},0,16947.12]
["56","ТССЦ-104-0111","Плиты или маты теплоизоляционные // прим.","м3",0.76139999999999997,{"$f":"G157/E157","v":0},0,{"$f":"I157/E157","v":4694.6000000000004},3574.47,3574.47]
["57","ТЕР11-01-050-01","Устройство пароизоляции из полиэтиленовой пленки в один слой насухо","100 м2 поверхности",0.14099999999999999,{"$f":"G158/E158","v":7465.74},1052.67,{"$f":"I158/E158","v":19003.689999999999},2679.52,3732.19]
[null,"113-0324","Пленка полиэтиленовая толщиной: 0,2-0,5 мм","м2",null,null,null,null,null,0]
["58","ТЕР11-01-011-03","Устройство стяжек: бетонных толщиной 20 мм","100 м2 стяжки",0.14099999999999999,{"$f":"G160/E160","v":83766.52},11811.08,{"$f":"I160/E160","v":94.04},13.26,11824.34]
[null,"411-0001","Вода","м3",null,null,null,null,null,0]
["59","ТЕР11-01-011-04","Устройство стяжек: на каждые 5 мм изменения толщины стяжки добавлять или исключать к расценке 11-01-011-03 // до 50-100 мм","100 м2 стяжки",0.14099999999999999,{"$f":"G162/E162","v":17737.939999999999},2501.0500000000002,{"$f":"I162/E162","v":0},0,2501.0500000000002]
["60","ТЦ_59.1.04.01_47_4705078395_08.02.2024_02","Бетон  В22,5","м3",1.079,{"$f":"G163/E163","v":0},0,{"$f":"I163/E163","v":5087.84},5489.78,5489.78]
["61","ТЕР06-01-015-10","Армирование подстилающих слоев и набетонок","1 т",2.4674999999999999E-2,{"$f":"G164/E164","v":27672.14},682.81,{"$f":"I164/E164","v":3009.52},74.260000000000005,757.07]
[null,"101-0816","Проволока светлая диаметром: 1,1 мм","т",null,null,null,null,null,{"$f":"G165+I165","v":0}]
["62","ТЦ_08.4.02.05_66_6686134976_08.02.2024_02","Сетка арм. 100х100 4Вр1","м2",14.1,{"$f":"G166/E166","v":0},0,{"$f":"I166/E166","v":116.07},1636.6,1636.6]
["63","ТЕР11-01-020-03","Устройство покрытий поливинилацетатных: толщиной 3 мм // прим. покрытие полимерное","100 м2 покрытия",0.14099999999999999,{"$f":"G167/E167","v":180030.43},25384.29,{"$f":"I167/E167","v":147312.06},20771,46155.29]
[null,"101-0430","Краски масляные и алкидные земляные, готовые к применению: сурик железный МА-15, ПФ-14","т",null,null,null,null,null,0]
[null,"101-0433","Краски масляные и алкидные земляные, готовые к применению: охра МА-15","т",null,null,null,null,null,0]
[null,"101-1305","Портландцемент общестроительного назначения бездобавочный, марки: 400","т",null,null,null,null,null,0]
[null,"101-1591","Смола каменноугольная для дорожного строительства","т",null,null,null,null,null,0]
[null,"101-2293","Кислота ортофосфорная: техническая, сорт I","т",null,null,null,null,null,0]
[null,"101-2358","Дисперсия поливинилацетатная непластифицированная марки Д50Н","кг",null,null,null,null,null,0]
[null,"113-0306","Маршалит","т",null,null,null,null,null,0]
[null,"408-0122","Песок природный для строительных: работ средний","м3",null,null,null,null,null,0]
[null,"411-0001","Вода","м3",null,null,null,null,null,0]
["Раздел 6. Отделка"]
["Цоколь"]
["1632-2021-2.1.2, 2.1.7-АР3.  (в осях 15-23 )"]
["64","ТЕР11-01-015-07","Шлифовка бетонных или металлоцементных покрытий // прим.","100 м2 покрытия",0.375,{"$f":"G180/E180","v":172335.65},64625.87,{"$f":"I180/E180","v":180.13},67.55,64693.42]
[null,"101-2109","Карборунд","кг",null,null,null,null,null,0]
[null,"411-0001","Вода","м3",null,null,null,null,null,0]
["65","ТЕР15-04-015-02","Окраска фасадов с люлек с подготовкой поверхности: силикатная // прим.","100 м2 фасада",0.375,{"$f":"G183/E183","v":71761.600000000006},26910.6,{"$f":"I183/E183","v":8107.41},3040.28,29950.880000000001]
[null,"101-1757","Ветошь","кг",null,null,null,null,null,0]
[null,"101-1841","Краски силикатные зеленая и красная","т",null,null,null,null,null,0]
[null,"113-0043","Жидкость: гидрофобизирующая ГКЖ-10","т",null,null,null,null,null,0]
[null,"113-0368","Стекло жидкое калийное","т",null,null,null,null,null,0]
[null,"402-0083","Раствор готовый отделочный тяжелый,: цементно-известковый 1:1:6","м3",null,null,null,null,null,0]
[null,"409-0639","Пемза шлаковая (щебень пористый из металлургического шлака), марка 600, фракция 5-10 мм","м3",null,null,null,null,null,0]
[null,"411-0001","Вода","м3",null,null,null,null,null,0]
["Окраска конструкций стен и потолков из профлиста, учтена в сметах к разделу КМ"]
[null,null,"Всего, руб. с НДС",null,null,null,{"$f":"SUM(G13:G191)","v":5481190.9500000002},null,{"$f":"SUM(I13:I191)","v":4473330.45},{"$f":"SUM(J13:J191)","v":9954521.4000000004}]
[null,null,"Всего, руб. без НДС",null,null,null,{"$f":"G192/1.2","v":4567659.125},null,{"$f":"I192/1.2","v":3727775.38},{"$f":"J192/1.2","v":8295434.5}]

{"sheet":"1632-2021-2.1.5-АР","index":22,"n_rows":38,"n_cols":10,"rows_kept":38,"cut":false,"hidden":false,"merged":[]}
[]
["Терминал по перевалке минеральных удобрений в морском торговом порту Усть-Луга. Береговые объекты терминала"]
["(наименование стройки)"]
["1632-2021-2.1.5-АР_07.04.044-П-00-00"]
["(локальная смета)"]
["на Архитектурные решения, 07.04.040 Конвейерная галерея №1 (код SAP 01.02.006) код ГП 2.1.1"]
["(наименование работ и затрат, наименование объекта)"]
[null,"Основание:","1632-2021-2.1.5-АР_0_0_RU_IFC"]
[]
["№ п/п","Обоснование","Наименование работ и затрат","Ед. изм.","Кол-во","Цена за ед.измерения работ, руб. с НДС","Всего, стоимость работ,руб. с НДС","Цена за ед.измерения материалов, руб. с НДС","Всего, стоимость материалов, руб. с НДС","Итого, руб. с НДС"]
["1","2","3","4","5",6,7,8,9,10]
["Раздел 2. Дверные проемы",null,null,null,null,null,null,null,null,{"$f":"G12+I12","v":0}]
["7","ТЕР09-04-012-01","Установка металлических дверных блоков в готовые проемы","1 м2 проема",8.4,{"$f":"G13/E13","v":6003.1},50426.080000000002,{"$f":"I13/E13","v":327.69},2752.57,53178.65]
[null,"101-1513","Электроды диаметром: 4 мм Э42","т",null,null,null,null,null,0]
[null,"101-1921","Пена монтажная: для герметизации стыков в баллончике емкостью 0,85 л","шт.",null,null,null,null,null,0]
[null,"204-0062","Детали закладные и накладные изготовленные: без применения сварки, гнутья, сверления (пробивки) отверстий поставляемые отдельно","т",null,null,null,null,null,0]
["Раздел 3. Снегозадерживающие устройства"]
["9","ТЕР12-01-012-01","Ограждение кровель перилами","100 м ограждения",1.56,{"$f":"G18/E18","v":16111.94},25134.62,{"$f":"I18/E18","v":402.08},627.25,25761.87]
[null,"101-1529","Электроды диаметром: 6 мм Э42","т",null,null,null,null,null,0]
[null,"101-1851","Резина прессованная","кг",null,null,null,null,null,0]
["10","ТЦ_11.3.02.02_78_7804606806_25.01.2024_02","Металлическое ограждение","м",156,{"$f":"G21/E21","v":0},0,{"$f":"I21/E21","v":1460.41},227823.19,227823.19]
["Раздел 4. Водосточная система"]
["11","ТЕР12-01-009-02","Устройство желобов: подвесных","100 м желобов",1.56,{"$f":"G23/E23","v":65795.28},102640.64,{"$f":"I23/E23","v":427.46},666.84,103307.48]
[null,"101-0173","Гвозди проволочные оцинкованные для асбестоцементной кровли: 4,5х120 мм","т",null,null,null,null,null,0]
["12","ТЦ_12.1.01.05_78_7804550906_25.01.2024_02\nАналог ТССЦ-203-0960 5219,18/5114,28=2%","Водосточный желоб  д.185х3000","м",156,{"$f":"G25/E25","v":0},0,{"$f":"I25/E25","v":581.23},90671.26,90671.26]
["13","ТЦ_12.1.01.05_78_7804550906_25.01.2024_02\nАналог ТССЦ-203-0960 5219,18/5114,28=2%","185 мм Крюк желоба под профлист на болтовом\nсоединении RAL 7004\nМебельный болт М8х30 - 2 шт; Гайка М8 - 2 шт;\nШайба М8 - 2\nшт; Шайба уплотнительная - 2 шт","шт",156,{"$f":"G26/E26","v":0},0,{"$f":"I26/E26","v":769.33},120015.22,120015.22]
["14","ТЕР12-01-008-01","Устройство обделок на фасадах (наружные подоконники, пояски, балконы и др.): включая водосточные трубы, с изготовлением элементов труб","100 м2фасада (без вычета проемов)",3.7549999999999999,{"$f":"G27/E27","v":26915.93},101069.33,{"$f":"I27/E27","v":790.48},2968.24,104037.57]
[null,"101-0195","Гвозди толевые круглые: 3,0х40 мм","т",null,null,null,null,null,0]
[null,"101-0795","Проволока канатная оцинкованная, диаметром: 3 мм","т",null,null,null,null,null,0]
["15","ТЦ_12.1.01.05_78_7804550906_25.01.2024_02\nАналог ТССЦ-203-0960 5219,18/5114,28=2%","150 мм Труба 3000 мм RAL 7004","м",102,{"$f":"G30/E30","v":0},0,{"$f":"I30/E30","v":708.24},72240.98,72240.98]
["16","ТЦ_12.1.01.05_78_7804550906_25.01.2024_02\nАналог ТССЦ-203-0960 5219,18/5114,28=2%","150 мм Охват на площадке (прут- 10х100мм;\nплощадка- 2,5х100х50мм) (черная полоса) RAL\n7004\nБолт 6х30 - 2 шт; Гайка М6 - 2 шт; Шайба М6 - 4\nшт","шт",102,{"$f":"G31/E31","v":0},0,{"$f":"I31/E31","v":321.08999999999997},32751.439999999999,32751.439999999999]
["17","ТЕР16-07-002-01","Установка воронок водосточных","1 воронка",10,{"$f":"G32/E32","v":7984.02},79840.22,{"$f":"I32/E32","v":54.12},541.16999999999996,80381.39]
[null,"101-0311","Каболка","т",null,null,null,null,null,0]
[null,"101-1355","Цемент гипсоглиноземистый расширяющийся","т",null,null,null,null,null,0]
[null,"101-1522","Электроды диаметром: 5 мм Э42А","т",null,null,null,null,null,0]
["18","ТЦ_12.1.01.05_78_7804550906_25.01.2024_02\nАналог ТССЦ-203-0960 5219,18/5114,28=2%","150 мм Воронка под желоб (верх 185мм.) RAL\n7004Водосточный желоб  д.185х3000","шт",10,{"$f":"G36/E36","v":0},0,{"$f":"I36/E36","v":824.19},8241.91,8241.91]
[null,null,"Всего, руб. с НДС",null,null,null,{"$f":"SUM(G13:G36)","v":359110.89},null,{"$f":"SUM(I13:I36)","v":559300.06999999995},{"$f":"SUM(J13:J36)","v":918410.96}]
[null,null,"Всего, руб. без НДС",null,null,null,{"$f":"G37/1.2","v":299259.08},null,{"$f":"I37/1.2","v":466083.39},{"$f":"J37/1.2","v":765342.47}]

{"sheet":"1632-2021-2.1.12-АР","index":23,"n_rows":114,"n_cols":10,"rows_kept":114,"cut":false,"hidden":false,"merged":[]}
[]
["Терминал по перевалке минеральных удобрений в морском торговом порту Усть-Луга. Береговые объекты терминала"]
["(наименование стройки)"]
["1632-2021-2.1.12-АР_07.04.051-П-00-00"]
["(локальная смета)"]
["на Архитектурные решения, 07.04.051 Конвейрная галерея №12 (код SAP 01.02.015) код ГП 2.1.12"]
["(наименование работ и затрат, наименование объекта)"]
[null,"Основание:","1632-2021-2.1.12-АР_0_0_RU_IFС"]
[]
["№ п/п","Обоснование","Наименование работ и затрат","Ед. изм.","Кол-во","Цена за ед.измерения работ, руб. с НДС","Всего, стоимость работ,руб. с НДС","Цена за ед.измерения материалов, руб. с НДС","Всего, стоимость материалов, руб. с НДС","Итого, руб. с НДС"]
["1","2","3","4","5",6,7,8,9,10]
["Раздел 2. Кровля",null,null,null,null,null,null,null,null,{"$f":"G12+I12","v":0}]
["Кровля плоская",null,null,null,null,null,null,null,null,0]
["1","ТЕР12-01-009-02","Устройство желобов: подвесных","100 м желобов",1.95,{"$f":"G14/E14","v":65795.520000000004},128301.27,{"$f":"I14/E14","v":21888.53},42682.64,170983.91]
[null,"101-0173","Гвозди проволочные оцинкованные для асбестоцементной кровли: 4,5х120 мм","т",null,null,null,null,null,0]
[null,"101-0788","Поковки оцинкованные, масса: 2,825 кг","т",null,null,null,null,null,0]
["2","ТЦ_12.1.01.00_78_7804606806_25.01.2024_02\nАналог ТССЦ-203-0960 5219,18/5114,28=2%","Желоб водосточный D185х3000","шт",65,{"$f":"G17/E17","v":0},0,{"$f":"I17/E17","v":1709.47},111115.32,111115.32]
["3","ТЦ_12.1.01.00_78_7804606806_25.01.2024_02\nАналог ТССЦ-301-5881 61,11/59,89=2%","Держатель желоба","шт",260,{"$f":"G18/E18","v":0},0,{"$f":"I18/E18","v":754.15},196079.19,196079.19]
["4","ТЕР12-01-012-01","Ограждение кровель перилами // прим. Устройство труб водосточных","100 м ограждения",0.21,{"$f":"G19/E19","v":16111.52},3383.42,{"$f":"I19/E19","v":402.1},84.44,3467.86]
[null,"101-1529","Электроды диаметром: 6 мм Э42","т",null,null,null,null,null,0]
[null,"101-1851","Резина прессованная","кг",null,null,null,null,null,0]
["5","ТЦ_12.1.01.00_78_7804606806_25.01.2024_02\nАналог ТССЦ-301-5867 217,71/213,27=2%","Труба водосточная D150х2000мм","шт",10,{"$f":"G22/E22","v":0},0,{"$f":"I22/E22","v":2084.1799999999998},20841.78,20841.78]
["6","ТЦ_12.1.01.00_78_7804606806_25.01.2024_02\nАналогТССЦ-301-5610 297,90/291,82=2%","Крепление трубы","шт",54,{"$f":"G23/E23","v":0},0,{"$f":"I23/E23","v":314.87},17003.099999999999,17003.099999999999]
["7","ТЦ_12.1.01.00_78_7804606806_25.01.2024_02\nАналог ТССЦ-203-0960 5219,18/5114,28=2%","Колено гофрированное","шт",24,{"$f":"G24/E24","v":0},0,{"$f":"I24/E24","v":478.84},11492.15,11492.15]
["8","ТЦ_12.1.01.00_78_7804606806_25.01.2024_02\nАналог ТССЦ-203-0960 5219,18/5114,28=2%","Заглушка","шт",8,{"$f":"G25/E25","v":0},0,{"$f":"I25/E25","v":373.47},2987.75,2987.75]
["9","ТЦ_12.1.01.00_78_7804606806_25.01.2024_02\nАналог ТССЦ-115-0931  8,37/8,08=3%","Воронки выпускные D185/150","шт",12,{"$f":"G26/E26","v":0},0,{"$f":"I26/E26","v":808.02},9696.2199999999993,9696.2199999999993]
["10","ТЦ_12.1.01.00_78_7804606806_25.01.2024_02\nАналог ТССЦ-301-5899 87,84/86,06=2%","Колено сливное  D150","шт",12,{"$f":"G27/E27","v":0},0,{"$f":"I27/E27","v":488.42},5861.03,5861.03]
["11","ТЕР12-01-012-01","Ограждение кровель перилами // прим.","100 м ограждения",1.5434000000000001,{"$f":"G28/E28","v":16111.77},24866.91,{"$f":"I28/E28","v":402.08},620.57000000000005,25487.48]
[null,"101-1529","Электроды диаметром: 6 мм Э42","т",null,null,null,null,null,0]
[null,"101-1851","Резина прессованная","кг",null,null,null,null,null,0]
["12","ТЦ_12.1.01.00_78_7804606806_25.01.2024_02\nАналог ТССЦ-101-7317  128,60/126,01=2%","Снегозадержатель трубчатый (L=3 м. в комплекте с креплением)","шт",51,{"$f":"G31/E31","v":0},0,{"$f":"I31/E31","v":2407.39},122776.67,122776.67]
["Раздел 3. Дверные проемы и ворота"]
["13","ТЕР09-04-012-01","Установка металлических дверных блоков в готовые проемы","1 м2 проема",8.4,{"$f":"G33/E33","v":6003.1},50426.080000000002,{"$f":"I33/E33","v":327.69},2752.57,53178.65]
[null,"101-1513","Электроды диаметром: 4 мм Э42","т",null,null,null,null,null,0]
[null,"101-1921","Пена монтажная: для герметизации стыков в баллончике емкостью 0,85 л","шт.",null,null,null,null,null,0]
[null,"204-0062","Детали закладные и накладные изготовленные: без применения сварки, гнутья, сверления (пробивки) отверстий поставляемые отдельно","т",null,null,null,null,null,0]
["14","ТЦ_07.1.01.03_78_7810347194_06.02.2024_02\nАналог ТССЦ-203-8146 1429,18/1397,12=2%","Дверь стальная  наружная ( утепленая) 1000х2100 правого открывания","шт",2,{"$f":"G37/E37","v":0},0,{"$f":"I37/E37","v":29210.1},58420.19,58420.19]
["15","ТЦ_07.1.01.03_78_7810347194_06.02.2024_02\nАналог ТССЦ-203-8146 1429,18/1397,12=2%","Дверь стальная  наружная  1000х2100 левого открывания","шт",2,{"$f":"G38/E38","v":0},0,{"$f":"I38/E38","v":29210.1},58420.19,58420.19]
["16","ТЕР09-04-012-02","Установка дверного доводчика к металлическим дверям","1 шт.",4,{"$f":"G39/E39","v":2614.2600000000002},10457.040000000001,{"$f":"I39/E39","v":10.7},42.8,10499.84]
[null,"101-1513","Электроды диаметром: 4 мм Э42","т",null,null,null,null,null,0]
[null,"101-1845","Винты самонарезающие: с уплотнительной прокладкой 4,8х35 мм","100 шт.",null,null,null,null,null,0]
["17","ТЕР15-01-070-02","Облицовка: дверных проемов в наружных стенах откосной планкой из оцинкованной стали с полимерным покрытием с установкой наличников из оцинкованной стали с полимерным покрытием","1 м2 проемов",8.4,{"$f":"G42/E42","v":3593.87},30188.49,{"$f":"I42/E42","v":1660.7},13949.88,44138.37]
[null,"101-1691","Шурупы-саморезы 4,2х16 мм","100 шт.",null,null,null,null,null,0]
[null,"101-2409","Аквилон из оцинкованной стали с полимерным покрытием","п.м",null,null,null,null,null,0]
[null,"101-2410","Откосная планка шириной 250 мм из оцинкованной стали с полимерным покрытием","п.м",null,null,null,null,null,0]
[null,"101-2412","Наличники из оцинкованной стали с полимерным покрытием","п.м",null,null,null,null,null,0]
["Раздел 4. Полы"]
["Тип 1.Учтено в разделе КМ"]
["Тип 2.  S=106,35 м2"]
["18","ТЕР26-01-039-01","Изоляция покрытий и перекрытий изделиями из волокнистых и зернистых материалов насухо // толщ. 40 мм","1 м3 изоляции",4.2539999999999996,{"$f":"G50/E50","v":24039.62},102264.53,{"$f":"I50/E50","v":0},0,102264.53]
["19","ТЦ_12.2.00.00_78_7802348846_15.02.2024_02\nАналог ТССЦ-104-0312 1048,25/1023,90=2%","Пеноплэкс Фундамент толщ. 40 мм","м3",4.3390000000000004,{"$f":"G51/E51","v":0},0,{"$f":"I51/E51","v":13035.04},56559.040000000001,56559.040000000001]
["20","ТЕР11-01-005-01","Устройство гидроизоляции из полиэтиленовой пленки на бутилкаучуковом клее с защитой рубероидом,: первый слой","100 м2 изолируемой поверхности",1.0634999999999999,{"$f":"G52/E52","v":405017.76},430736.39,{"$f":"I52/E52","v":41501.06},44136.38,474872.77]
[null,"101-0069","Бензин авиационный Б-70","т",null,null,null,null,null,0]
[null,"101-1744","Мастика битумно-резиновая: кровельная","т",null,null,null,null,null,0]
[null,"101-1746","Рубероид кровельный с мелкой посыпкой РМ-350","м2",null,null,null,null,null,0]
[null,"101-1757","Ветошь","кг",null,null,null,null,null,0]
[null,"113-0003","Ацетон технический, сорт I","т",null,null,null,null,null,0]
[null,"113-0014","Бутилкаучук, марка: А","т",null,null,null,null,null,0]
[null,"113-0080","Лак БТ-783","т",null,null,null,null,null,0]
[null,"113-0307","Пленка полиэтиленовая толщиной: 0,2-0,5 мм","т",null,null,null,null,null,0]
[null,"402-0004","Раствор готовый кладочный цементный марки: 100","м3",null,null,null,null,null,0]
["21","ТЕР11-01-011-03","Устройство стяжек: бетонных толщиной 20 мм","100 м2 стяжки",1.0634999999999999,{"$f":"G62/E62","v":83766.850000000006},89086.04,{"$f":"I62/E62","v":94.06},100.03,89186.07]
[null,"411-0001","Вода","м3",null,null,null,null,null,0]
["22","ТЕР11-01-011-04","Устройство стяжек: на каждые 5 мм изменения толщины стяжки добавлять или исключать к расценке 11-01-011-03 // до толщ. 50 мм","100 м2 стяжки",1.0634999999999999,{"$f":"G64/E64","v":9679.74},10294.4,{"$f":"I64/E64","v":0},0,10294.4]
["23","ТЦ_59.1.04.01_47_4705078395_08.02.2024_02\nАналог ТССЦ-401-0248 636,25/561,42=2%","Бетон  В22,5","м3",5.4240000000000004,{"$f":"G65/E65","v":0},0,{"$f":"I65/E65","v":5087.84},27596.45,27596.45]
["24","ТЕР06-01-015-10","Армирование подстилающих слоев и набетонок","1 т",0.186,{"$f":"G66/E66","v":27714.19},5154.84,{"$f":"I66/E66","v":3009.68},559.79999999999995,5714.64]
[null,"101-0816","Проволока светлая диаметром: 1,1 мм","т",null,null,null,null,null,0]
["25","ТЦ_08.4.02.05_66_6686134976_08.02.2024_02\nАналог ТССЦ-101-3891 21,17/20,58=2%","Сетка арм. 100х100 4Вр1","м2",106.35,{"$f":"G68/E68","v":0},0,{"$f":"I68/E68","v":116.07},12344.16,12344.16]
["26","ТЕР11-01-020-03","Устройство покрытий поливинилацетатных: толщиной 3 мм // прим. покрытие полимерное","100 м2 покрытия",1.0634999999999999,{"$f":"G69/E69","v":180030.88},191462.84,{"$f":"I69/E69","v":147312.06},156666.38,348129.22]
[null,"101-0430","Краски масляные и алкидные земляные, готовые к применению: сурик железный МА-15, ПФ-14","т",null,null,null,null,null,0]
[null,"101-0433","Краски масляные и алкидные земляные, готовые к применению: охра МА-15","т",null,null,null,null,null,0]
[null,"101-1305","Портландцемент общестроительного назначения бездобавочный, марки: 400","т",null,null,null,null,null,0]
[null,"101-1591","Смола каменноугольная для дорожного строительства","т",null,null,null,null,null,0]
[null,"101-2293","Кислота ортофосфорная: техническая, сорт I","т",null,null,null,null,null,0]
[null,"101-2358","Дисперсия поливинилацетатная непластифицированная марки Д50Н","кг",null,null,null,null,null,{"$f":"G75+I75","v":0}]
[null,"113-0306","Маршалит","т",null,null,null,null,null,0]
[null,"408-0122","Песок природный для строительных: работ средний","м3",null,null,null,null,null,0]
[null,"411-0001","Вода","м3",null,null,null,null,null,0]
["Тип 2.  S=28,2 м2"]
["27","ТЕР26-01-039-01","Изоляция покрытий и перекрытий изделиями из волокнистых и зернистых материалов насухо // толщ. 40 мм","1 м3 изоляции",1.1279999999999999,{"$f":"G80/E80","v":24039.49},27116.54,{"$f":"I80/E80","v":0},0,27116.54]
["28","ТЦ_12.2.00.00_78_7802348846_15.02.2024_02\nАналог ТССЦ-104-0312 1048,25/1023,90=2%","Пеноплэкс Фундамент толщ. 40 мм","м3",1.151,{"$f":"G81/E81","v":0},0,{"$f":"I81/E81","v":13035.03},15003.32,15003.32]
["29","ТЕР11-01-011-03","Устройство стяжек: бетонных толщиной 20 мм","100 м2 стяжки",0.28199999999999997,{"$f":"G82/E82","v":83766.52},23622.16,{"$f":"I82/E82","v":94.04},26.52,23648.68]
[null,"411-0001","Вода","м3",null,null,null,null,null,0]
["30","ТЕР11-01-011-04","Устройство стяжек: на каждые 5 мм изменения толщины стяжки добавлять или исключать к расценке 11-01-011-03 // до 50 мм","100 м2 стяжки",0.28199999999999997,{"$f":"G84/E84","v":9678.9699999999993},2729.47,{"$f":"I84/E84","v":0},0,2729.47]
["31","ТЦ_59.1.04.01_47_4705078395_08.02.2024_02\nАналог ТССЦ-401-0248 636,25/561,42=2%","Бетон  В22,5","м3",1.4379999999999999,{"$f":"G85/E85","v":0},0,{"$f":"I85/E85","v":5087.84},7316.32,7316.32]
["32","ТЕР06-01-015-10","Армирование подстилающих слоев и набетонок","1 т",4.9349999999999998E-2,{"$f":"G86/E86","v":27701.11},1367.05,{"$f":"I86/E86","v":3009.73},148.53,1515.58]
[null,"101-0816","Проволока светлая диаметром: 1,1 мм","т",null,null,null,null,null,0]
["33","ТЦ_08.4.02.05_66_6686134976_08.02.2024_02\nАналог ТССЦ-101-3891 21,17/20,58=2%","Сетка арм. 100х100 4Вр1","м2",28.2,{"$f":"G88/E88","v":0},0,{"$f":"I88/E88","v":116.07},3273.21,3273.21]
["34","ТЕР11-01-020-03","Устройство покрытий поливинилацетатных: толщиной 3 мм // прим. покрытие полимерное","100 м2 покрытия",0.28199999999999997,{"$f":"G89/E89","v":162027.41},45691.73,{"$f":"I89/E89","v":147312.09},41542.01,87233.74]
[null,"101-0430","Краски масляные и алкидные земляные, готовые к применению: сурик железный МА-15, ПФ-14","т",null,null,null,null,null,0]
[null,"101-0433","Краски масляные и алкидные земляные, готовые к применению: охра МА-15","т",null,null,null,null,null,0]
[null,"101-1305","Портландцемент общестроительного назначения бездобавочный, марки: 400","т",null,null,null,null,null,0]
[null,"101-1591","Смола каменноугольная для дорожного строительства","т",null,null,null,null,null,0]
[null,"101-2293","Кислота ортофосфорная: техническая, сорт I","т",null,null,null,null,null,0]
[null,"101-2358","Дисперсия поливинилацетатная непластифицированная марки Д50Н","кг",null,null,null,null,null,0]
[null,"113-0306","Маршалит","т",null,null,null,null,null,0]
[null,"408-0122","Песок природный для строительных: работ средний","м3",null,null,null,null,null,0]
[null,"411-0001","Вода","м3",null,null,null,null,null,0]
["Раздел 5. Отделка"]
["Цоколь"]
["35","ТЕР11-01-015-07","Шлифовка бетонных или металлоцементных покрытий // прим. затирка поверхности цоколя","100 м2 покрытия",0.21,{"$f":"G101/E101","v":178080.67},37396.94,{"$f":"I101/E101","v":180.1},37.82,37434.76]
[null,"101-2109","Карборунд","кг",null,null,null,null,null,0]
[null,"411-0001","Вода","м3",null,null,null,null,null,0]
["36","ТЕР15-04-015-02","Окраска фасадов с люлек с подготовкой поверхности: силикатная // прим.","100 м2 фасада",0.21,{"$f":"G104/E104","v":71758.570000000007},15069.3,{"$f":"I104/E104","v":8107.43},1702.56,16771.86]
[null,"101-1757","Ветошь","кг",null,null,null,null,null,0]
[null,"101-1841","Краски силикатные зеленая и красная","т",null,null,null,null,null,0]
[null,"113-0043","Жидкость: гидрофобизирующая ГКЖ-10","т",null,null,null,null,null,0]
[null,"113-0368","Стекло жидкое калийное","т",null,null,null,null,null,0]
[null,"402-0083","Раствор готовый отделочный тяжелый,: цементно-известковый 1:1:6","м3",null,null,null,null,null,0]
[null,"409-0639","Пемза шлаковая (щебень пористый из металлургического шлака), марка 600, фракция 5-10 мм","м3",null,null,null,null,null,0]
[null,"411-0001","Вода","м3",null,null,null,null,null,0]
["Окраска конструкций стен и потолков из профлиста, учтена в сметах к разделу КМ"]
[null,null,"Всего, руб. с НДС",null,null,null,{"$f":"SUM(G13:G112)","v":1229615.44},null,{"$f":"SUM(I13:I112)","v":1041839.02},{"$f":"SUM(J13:J112)","v":2271454.46}]
[null,null,"Всего, руб. без НДС",null,null,null,{"$f":"G113/1.2","v":1024679.53},null,{"$f":"I113/1.2","v":868199.18},{"$f":"J113/1.2","v":1892878.72}]

{"sheet":"1632-2021-2.1.3","index":24,"n_rows":68,"n_cols":10,"rows_kept":68,"cut":false,"hidden":false,"merged":[]}
[]
["Терминал по перевалке минеральных удобрений в морском торговом порту Усть-Луга. Береговые объекты терминала"]
["(наименование стройки)"]
["1632-2021-2.1.3-АР_07.04.043-П-01-01"]
["(локальная смета)"]
["на Архитектурные решения, 07.04.042 Конвейерная галерея №3 (код SAP 01.02.011) код ГП 2.1.3"]
["(наименование работ и затрат, наименование объекта)"]
[null,"Основание:","1632-2021-2.1.3-АР_0_0_RU_IFC"]
[]
["№ п/п","Обоснование","Наименование работ и затрат","Ед. изм.","Кол-во","Цена за ед.измерения работ, руб. с НДС","Всего, стоимость работ,руб. с НДС","Цена за ед.измерения материалов, руб. с НДС","Всего, стоимость материалов, руб. с НДС","Итого, руб. с НДС"]
["1","2","3","4","5",6,7,8,9,10]
["Раздел 2. Дверные проемы",null,null,null,null,null,null,null,null,{"$f":"G12+I12","v":0}]
["3","ТЕР09-04-012-01","Установка металлических дверных блоков в готовые проемы","1 м2 проема",12.6,{"$f":"G13/E13","v":6003.1},75639.12,{"$f":"I13/E13","v":327.69},4128.8500000000004,79767.97]
[null,"101-1513","Электроды диаметром: 4 мм Э42","т",null,null,null,null,null,0]
[null,"101-1921","Пена монтажная: для герметизации стыков в баллончике емкостью 0,85 л","шт.",null,null,null,null,null,0]
[null,"204-0062","Детали закладные и накладные изготовленные: без применения сварки, гнутья, сверления (пробивки) отверстий поставляемые отдельно","т",null,null,null,null,null,0]
["4","ТЦ_07.1.01.01_78_7810347194_06.02.2024_02","Дверь ДСН 1000-2100","шт",6,{"$f":"G17/E17","v":0},0,{"$f":"I17/E17","v":33040.93},198245.6,198245.6]
["5","ТЕР15-01-070-02","Облицовка: дверных проемов в наружных стенах откосной планкой из оцинкованной стали с полимерным покрытием с установкой наличников из оцинкованной стали с полимерным покрытием","1 м2 проемов",12.6,{"$f":"G18/E18","v":3593.81},45282.03,{"$f":"I18/E18","v":1660.7},20924.8,66206.83]
[null,"101-1691","Шурупы-саморезы 4,2х16 мм","100 шт.",null,null,null,null,null,0]
[null,"101-2409","Аквилон из оцинкованной стали с полимерным покрытием","п.м",null,null,null,null,null,0]
[null,"101-2410","Откосная планка шириной 250 мм из оцинкованной стали с полимерным покрытием","п.м",null,null,null,null,null,0]
[null,"101-2412","Наличники из оцинкованной стали с полимерным покрытием","п.м",null,null,null,null,null,0]
["Раздел 3. Оконные проемы"]
["6","ТЕР10-01-034-03","Установка в жилых и общественных зданиях оконных блоков из ПВХ профилей: поворотных (откидных, поворотно-откидных) с площадью проема до 2 м2 одностворчатых","100 м2 проемов",0.42,{"$f":"G24/E24","v":468379.26},196719.29,{"$f":"I24/E24","v":156176.26},65594.03,262313.32]
[null,"101-2052","Лента бутиловая","м",null,null,null,null,null,0]
[null,"101-2054","Лента бутиловая диффузионная","м",null,null,null,null,null,0]
[null,"101-2388","Герметик пенополиуретановый (пена монтажная) типа Makrofleks, Soudal в баллонах по 750 мл","шт.",null,null,null,null,null,0]
[null,"101-2789","Лента ПСУЛ","10 м",null,null,null,null,null,0]
[null,"101-4173","Дюбели монтажные 10х130 (10х132, 10х150) мм","10 шт.",null,null,null,null,null,0]
[null,"102-0303","Клинья пластиковые монтажные","100 шт.",null,null,null,null,null,0]
["7","ТЦ_11.3.02.02_78_7804550906_25.01.2024_02","Оконный проем ОП-П-1400х100-ОЛ (6М1)-ПОТ","шт",30,{"$f":"G31/E31","v":0},0,{"$f":"I31/E31","v":9768.8799999999992},293066.31,293066.31]
["Раздел 4. Снегозадерживающие устройства"]
["8","ТЕР12-01-012-01","Ограждение кровель перилами","100 м ограждения",4.1500000000000004,{"$f":"G33/E33","v":16112.15},66865.42,{"$f":"I33/E33","v":402.08},1668.64,68534.06]
[null,"101-1529","Электроды диаметром: 6 мм Э42","т",null,null,null,null,null,0]
[null,"101-1851","Резина прессованная","кг",null,null,null,null,null,0]
["9","ТЦ_11.3.02.02_78_7804606806_25.01.2024_02\nАналог ТССЦ-203-0960 5219,18/5114,28=2%","Снегодержатель","компл",71,{"$f":"G36/E36","v":0},0,{"$f":"I36/E36","v":2455.5300000000002},174342.69,174342.69]
["Раздел 5. Водосточная система"]
["10","ТЕР12-01-009-02","Устройство желобов: подвесных","100 м желобов",4.1500000000000004,{"$f":"G38/E38","v":65795.62},273051.83,{"$f":"I38/E38","v":427.46},1773.95,274825.78000000003]
[null,"101-0173","Гвозди проволочные оцинкованные для асбестоцементной кровли: 4,5х120 мм","т",null,null,null,null,null,0]
["11","ТЦ_12.1.01.05_78_7804550906_25.01.2024_02\nАналог ТССЦ-203-0960 5219,18/5114,28=2%","Водосточный желоб  д.185х3000","шт",138,{"$f":"G40/E40","v":0},0,{"$f":"I40/E40","v":1743.68},240627.58,240627.58]
["12","ТЦ_12.1.01.05_78_7804550906_25.01.2024_02\nАналог ТССЦ-203-0960 5219,18/5114,28=2%","185 мм Заглушка желоба коттеджная RAL 7005","шт",2,{"$f":"G41/E41","v":0},0,{"$f":"I41/E41","v":380.94},761.87,761.87]
["13","ТЦ_12.1.01.05_78_7804550906_25.01.2024_02\nАналог ТССЦ-203-0960 5219,18/5114,28=2%","185 мм Крюк желоба под профлист на болтовом\nсоединении RAL 7004 Мебельный болт М8х30 - 2 шт; Гайка М8 - 2 шт; Шайба М8 - 2 шт; Шайба уплотнительная - 2 шт","шт",692,{"$f":"G42/E42","v":0},0,{"$f":"I42/E42","v":769.33},532375.18000000005,532375.18000000005]
["14","ТЕР12-01-008-01","Устройство обделок на фасадах (наружные подоконники, пояски, балконы и др.): включая водосточные трубы, с изготовлением элементов труб","100 м2фасада (без вычета проемов)",2.8848750000000001,{"$f":"G43/E43","v":27777.18},80133.69,{"$f":"I43/E43","v":790.48},2280.4299999999998,82414.12]
[null,"101-0195","Гвозди толевые круглые: 3,0х40 мм","т",null,null,null,null,null,0]
[null,"101-0795","Проволока канатная оцинкованная, диаметром: 3 мм","т",null,null,null,null,null,0]
["15","ТЕР12-01-008-02","Устройство обделок на фасадах (наружные подоконники, пояски, балконы и др.): без водосточных труб","100 м2фасада (без вычета проемов)",-2.8848750000000001,{"$f":"G46/E46","v":10154.459999999999},-29294.34,{"$f":"I46/E46","v":164.84},-475.53,-29769.87]
[null,"101-0195","Гвозди толевые круглые: 3,0х40 мм","т",null,null,null,null,null,0]
["16","ТЦ_12.1.01.05_78_7804550906_25.01.2024_02\nАналог ТССЦ-203-0960 5219,18/5114,28=2%","150 мм Труба 3000 мм RAL 7004","м",612.5,{"$f":"G48/E48","v":0},0,{"$f":"I48/E48","v":708.24},433799.96,433799.96]
["17","ТЦ_12.1.01.05_78_7804550906_25.01.2024_02\nАналог ТССЦ-203-0960 5219,18/5114,28=2%","150 мм Колено ГОФРИРОВАННОЕ RAL 7004","шт",125,{"$f":"G49/E49","v":0},0,{"$f":"I49/E49","v":488.42},61052.37,61052.37]
["18","ТЦ_12.1.01.05_78_7804550906_25.01.2024_02\nАналог ТССЦ-203-0960 5219,18/5114,28=2%","150 мм Охват на площадке (прут- 10х100мм;\nплощадка- 2,5х100х50мм) (черная полоса) RAL\n7004 Болт 6х30 - 2 шт; Гайка М6 - 2 шт; Шайба М6 - 4\nшт","шт",625,{"$f":"G50/E50","v":0},0,{"$f":"I50/E50","v":321.08999999999997},200682.85,200682.85]
["19","ТЕР16-07-002-01","Установка воронок водосточных","1 воронка",25,{"$f":"G51/E51","v":7984.08},199601.97,{"$f":"I51/E51","v":54.12},1352.93,200954.9]
[null,"101-0311","Каболка","т",null,null,null,null,null,0]
[null,"101-1355","Цемент гипсоглиноземистый расширяющийся","т",null,null,null,null,null,0]
[null,"101-1522","Электроды диаметром: 5 мм Э42А","т",null,null,null,null,null,0]
["20","ТЦ_12.1.01.05_78_7804550906_25.01.2024_02\nАналог ТССЦ-203-0960 5219,18/5114,28=2%","150 мм Воронка под желоб (верх 185мм.) RAL\n7004 Водосточный желоб  д.185х3000","шт",25,{"$f":"G55/E55","v":0},0,{"$f":"I55/E55","v":824.19},20604.79,20604.79]
["Раздел 6. Кровля"]
["21","ТЕР12-01-017-05","Устройство выравнивающих стяжек: сборных из плоских асбестоцементных листов","100 м2 стяжки",52.7,{"$f":"G57/E57","v":54651.75},2880147.05,{"$f":"I57/E57","v":12262.35},646225.93999999994,3526372.99]
[null,"101-0237","Гудрон (полугудрон)","т",null,null,null,null,null,0]
[null,"101-0594","Мастика битумная кровельная горячая","т",null,null,null,null,null,0]
[null,"101-1875","Сталь листовая оцинкованная толщиной листа: 0,7 мм","т",null,null,null,null,null,0]
[null,"104-0316","Ткань стеклянная изоляционная И-200, толщиной 0,2 мм","м2",null,null,null,null,null,0]
["22","ТЦ_01.6.01.10_78_7810994931_08.02.2024_02\nАналог ТССЦ-101-5068 25,77/24,64=2%","ЦСП 13200х1200х8, (в 2 слоя)","м2",10540,{"$f":"G62/E62","v":0},0,{"$f":"I62/E62","v":506.71},5340688.55,5340688.55]
["23","ТЕР12-01-002-09","Устройство кровель плоских из наплавляемых материалов: в два слоя","100 м2 кровли",52.7,{"$f":"G63/E63","v":32756.14},1726248.56,{"$f":"I63/E63","v":1974.08},104033.94,1830282.5]
[null,"101-2278","Пропан-бутан, смесь техническая","кг",null,null,null,null,null,0]
["24","ТЦ_12.0.00.00_78_7826181040_08.02.2024_02\nАналог ТССЦ-101-4724 26,31/25,55=2%","Техноэласт Пламя Стоп","м2",6008,{"$f":"G65/E65","v":0},0,{"$f":"I65/E65","v":537.67999999999995},3230404.58,3230404.58]
["25","ТЦ_12.0.00.00_78_7802585999_08.02.2024_02\nАналог ТССЦ-101-4702 22,24/21,66=2%","Техноэласт ЭПП","м2",6113,{"$f":"G66/E66","v":0},0,{"$f":"I66/E66","v":426.22},2605457.4500000002,2605457.4500000002]
[null,null,"Всего, руб. с НДС",null,null,null,{"$f":"SUM(G12:G66)","v":5514394.6200000001},null,{"$f":"SUM(I12:I66)","v":14179617.76},{"$f":"SUM(J12:J66)","v":19694012.379999999}]
[null,null,"Всего, руб. без НДС",null,null,null,{"$f":"G67/1.2","v":4595328.8499999996},null,{"$f":"I67/1.2","v":11816348.130000001},{"$f":"J67/1.2","v":16411676.98}]

{"sheet":"1632-2021-3.3.9-АР","index":25,"n_rows":188,"n_cols":10,"rows_kept":188,"cut":false,"hidden":false,"merged":[]}
[]
["Терминал по перевалке минеральных удобрений в морском торговом порту Усть-Луга. Береговые объекты терминала."]
["(наименование стройки)"]
[]
["1632-2021-3.3.9-АР-03.02.080-П-00-00"]
["(локальная смета)"]
["на Архитектурные решения, 03.02.080 Электропомещение купольного склада (ЭП-7) (код SAP 02.05.001.09) код ГП 3.3.9"]
["(наименование работ и затрат, наименование объекта)"]
[null,"Основание:","1632-2021-3.3.9-АР"]
["№ п/п","Обоснование","Наименование работ и затрат","Ед. изм.","Кол-во","Цена за ед.измерения работ, руб. с НДС","Всего, стоимость работ,руб. с НДС","Цена за ед.измерения материалов, руб. с НДС","Всего, стоимость материалов, руб. с НДС","Итого, руб. с НДС"]
["1","2","3","4","5",6,7,8,9,10]
["Раздел 1. Фасад"]
["1","ТЕР15-01-080-02","Устройство наружной теплоизоляции зданий с тонкой штукатуркой по утеплителю толщиной плит до: 100 мм // прим. толщ. плит утеплителя 70 мм.","100 м2",2.52,{"$f":"G13/E13","v":851748.94},2146407.34,{"$f":"I13/E13","v":184890.08},465922.99,{"$f":"G13+I13","v":2612330.33}]
[null,"101-1879","Заклепка СТД-985","кг",null,null,null,null,null,0]
[null,"101-1921","Пена монтажная: для герметизации стыков в баллончике емкостью 0,85 л","шт.",null,null,null,null,null,0]
[null,"101-2786","Грунтовка: полимерная типа \"BOLIX O\"","кг",null,null,null,null,null,0]
[null,"101-2787","Грунтовка: типа \"BOLIX SG\"","кг",null,null,null,null,null,0]
[null,"101-2788","Краска силикатная типа \"BOLIX SZ\"","л",null,null,null,null,null,0]
[null,"101-2789","Лента ПСУЛ","10 м",null,null,null,null,null,0]
[null,"101-2795","Сетка армирующая фасадная SSA1363-4SM","м2",null,null,null,null,null,0]
[null,"101-2797","Дюбель распорный с металлическим стержнем: 10х150 мм","10 шт.",null,null,null,null,null,0]
[null,"101-2807","Сверла кольцевые алмазные диаметром: 5 мм","шт.",null,null,null,null,null,0]
[null,"101-3741","Сталь листовая оцинкованная толщиной листа: 0,55 мм","т",null,null,null,null,null,0]
[null,"101-3911","Дюбели для пристрелки стальные","10 шт.",null,null,null,null,null,0]
[null,"113-8075","Клей универсальный для систем утепления типа \"BOLIX WM\"","кг",null,null,null,null,null,0]
[null,"113-8076","Клей для приклеивания минеральной ваты типа \"BOLIX ZW\"","кг",null,null,null,null,null,0]
[null,"201-1302","Профиль цокольный: AL 100 мм, длина 2500 мм","м",null,null,null,null,null,0]
[null,"201-1306","Уголок ПВХ с стеклосеткой","м",null,null,null,null,null,0]
[null,"402-0093","Штукатурка фасадная декоративная типа \"BOLIX MPKA15DM\"","кг",null,null,null,null,null,0]
[null,"411-0001","Вода","м3",null,null,null,null,null,0]
["2","ТССЦ-104-0495","Плиты минераловатные \"Фасад Баттс\" ROCKWOOL  ( толщ. 70 мм.)","м3",19.760000000000002,{"$f":"G31/E31","v":0},0,{"$f":"I31/E31","v":15276.48},301863.31,301863.31]
["3","ТЕР15-04-019-06","Окраска фасадов акриловыми составами: с лесов краскопультами с подготовкой поверхности","100 м2 окрашиваемой поверхности",2.52,{"$f":"G32/E32","v":24595.42},61980.46,{"$f":"I32/E32","v":6193.75},15608.24,77588.7]
[null,"101-1596","Шкурка шлифовальная двухслойная с зернистостью 40-25","м2",null,null,null,null,null,0]
[null,"101-1757","Ветошь","кг",null,null,null,null,null,0]
[null,"101-3469","Краска фактурная ВД-АК-1180, фасадная ВГТ","т",null,null,null,null,null,0]
[null,"101-3588","Шпатлевка фасадная ВГТ","т",null,null,null,null,null,0]
[null,"101-4163","Грунтовка акриловая: НОРТЕКС-ГРУНТ","кг",null,null,null,null,null,0]
["Цоколь"]
["4","ТЕР26-01-037-01","Изоляция изделиями из волокнистых и зернистых материалов на битуме холодных поверхностей: стен и колонн прямоугольных","1 м3 изоляции",2.88,{"$f":"G39/E39","v":46362.04},133522.68,{"$f":"I39/E39","v":4536.6400000000003},13065.53,146588.21]
[null,"101-0079","Битумы нефтяные строительные для кровельных мастик марки: БНМ-55/60","т",null,null,null,null,null,0]
[null,"101-1805","Гвозди строительные","т",null,null,null,null,null,0]
[null,"101-2066","Болты анкерные оцинкованные","кг",null,null,null,null,null,0]
[null,"102-0025","Бруски обрезные хвойных пород длиной: 4-6,5 м, шириной 75-150 мм, толщиной 40-75 мм, III сорта","м3",null,null,null,null,null,0]
["5","ТЦ_12.2.05.10_77_7727280635_06.05.2024_02","Теплоизоляция Роквул Бетон Элемент БАТТС- 100 мм","м3",2.97,{"$f":"G44/E44","v":0},0,{"$f":"I44/E44","v":15263.35},45332.15,45332.15]
["6","ТЕР06-01-024-01","Устройство стен подвалов и подпорных стен: бетонных // прим. толщ. 100 мм","100 м3 бетона, бутобетона и железобетона в деле",2.8799999999999999E-2,{"$f":"G45/E45","v":825873.61},23785.16,{"$f":"I45/E45","v":512772.92},14767.86,38553.019999999997]
[null,"101-1714","Болты с гайками и шайбами строительные","т",null,null,null,null,null,0]
[null,"101-1805","Гвозди строительные","т",null,null,null,null,null,0]
[null,"102-0025","Бруски обрезные хвойных пород длиной: 4-6,5 м, шириной 75-150 мм, толщиной 40-75 мм, III сорта","м3",null,null,null,null,null,0]
[null,"102-0061","Доски обрезные хвойных пород длиной: 4-6,5 м, шириной 75-150 мм, толщиной 44 мм и более, III сорта","м3",null,null,null,null,null,0]
[null,"203-0511","Щиты: из досок толщиной 25 мм","м2",null,null,null,null,null,0]
[null,"401-0023","Бетон тяжелый, крупность заполнителя: более 40 мм, класс В7,5 (М100)","м3",null,null,null,null,null,0]
[null,"405-0253","Известь строительная: негашеная комовая, сорт I","т",null,null,null,null,null,0]
[null,"411-0001","Вода","м3",null,null,null,null,null,0]
["7","ТЕР15-04-019-06","Окраска фасадов акриловыми составами: с лесов краскопультами с подготовкой поверхности","100 м2 окрашиваемой поверхности",0.28799999999999998,{"$f":"G54/E54","v":24601.11},7085.12,{"$f":"I54/E54","v":6190.17},1782.77,8867.89]
[null,"101-1596","Шкурка шлифовальная двухслойная с зернистостью 40-25","м2",null,null,null,null,null,0]
[null,"101-1757","Ветошь","кг",null,null,null,null,null,0]
[null,"101-3469","Краска фактурная ВД-АК-1180, фасадная ВГТ","т",null,null,null,null,null,0]
[null,"101-3588","Шпатлевка фасадная ВГТ","т",null,null,null,null,null,0]
[null,"101-4163","Грунтовка акриловая: НОРТЕКС-ГРУНТ","кг",null,null,null,null,null,0]
["Раздел 2. Кровля"]
["8","ТЕР11-01-011-05","Устройство стяжек: легкобетонных толщиной 20 мм","100 м2 стяжки",0.55000000000000004,{"$f":"G61/E61","v":105425.36},57983.95,{"$f":"I61/E61","v":94.04},51.72,58035.67]
[null,"411-0001","Вода","м3",null,null,null,null,null,0]
["9","ТЕР11-01-011-06","Устройство стяжек: на каждые 5 мм изменения толщины стяжки добавлять или исключать к расценке 11-01-011-05 // толщ.30-120 мм","100 м2 стяжки",0.55000000000000004,{"$f":"G63/E63","v":18040.599999999999},9922.33,{"$f":"I63/E63","v":0},0,9922.33]
["10","ТССЦ-401-0303","Бетон легкий на пористых заполнителях, объемная масса 1800 кг/м3, крупность заполнителя: более 10 мм, класс В5 (М75)","м3",4.2074999999999996,{"$f":"G64/E64","v":0},0,{"$f":"I64/E64","v":7795.5},32799.58,32799.58]
["11","ТЕР12-01-015-01","Устройство пароизоляции: оклеечной в один слой","100 м2 изолируемой поверхности",0.55000000000000004,{"$f":"G65/E65","v":41931.93},23062.560000000001,{"$f":"I65/E65","v":13213.76},7267.57,30330.13]
[null,"101-0078","Битумы нефтяные строительные кровельные марки: БНК-45/190, БНК-45/180","т",null,null,null,null,null,0]
[null,"101-0322","Керосин для технических целей марок КТ-1, КТ-2","т",null,null,null,null,null,0]
[null,"101-0594","Мастика битумная кровельная горячая","т",null,null,null,null,null,0]
["12","ТЦ_12.1.00.00_77_7702521529_06.05.2024_02","Пароизоляция Бикрост","м2",60.5,{"$f":"G69/E69","v":0},0,{"$f":"I69/E69","v":157.88},9551.7000000000007,9551.7000000000007]
["13","ТЕР12-01-013-03","Утепление покрытий плитами: из минеральной ваты или перлита на битумной мастике в один слой // толщ. 60 мм","100 м2 утепляемого покрытия",0.55000000000000004,{"$f":"G70/E70","v":108930.56},59911.81,{"$f":"I70/E70","v":13352.18},7343.7,67255.509999999995]
[null,"101-0078","Битумы нефтяные строительные кровельные марки: БНК-45/190, БНК-45/180","т",null,null,null,null,null,0]
[null,"101-0322","Керосин для технических целей марок КТ-1, КТ-2","т",null,null,null,null,null,0]
[null,"101-0594","Мастика битумная кровельная горячая","т",null,null,null,null,null,0]
["14","ТССЦ-104-0496","Плиты минераловатные \"Руф Баттс\" ROCKWOOL // прим.","м3",3.399,{"$f":"G74/E74","v":0},0,{"$f":"I74/E74","v":15021.56},51058.28,51058.28]
["15","ТЕР12-01-013-04","Утепление покрытий плитами: на каждый последующий слой добавлять к расценке 12-01-013-03 // толщ. 40 мм","100 м2 утепляемого покрытия",0.55000000000000004,{"$f":"G75/E75","v":85114.98},46813.24,{"$f":"I75/E75","v":9758.18},5367,52180.24]
[null,"101-0594","Мастика битумная кровельная горячая","т",null,null,null,null,null,{"$f":"G76+I76","v":0}]
["16","ТССЦ-104-0497","Плиты минераловатные \"Руф Баттс В\" ROCKWOOL // прим.","м3",2.266,{"$f":"G77/E77","v":0},0,{"$f":"I77/E77","v":18027.39},40850.07,40850.07]
["17","ТЕР11-01-011-07","Устройство стяжек: из плит древесноволокнистых // в 2 слоя","100 м2 стяжки",0.55000000000000004,{"$f":"G78/E78","v":34785.69},19132.13,{"$f":"I78/E78","v":12910.78},7100.93,26233.06]
[null,"101-0594","Мастика битумная кровельная горячая","т",null,null,null,null,null,0]
["18","ТЦ_12.1.01.00_78_7802348846_06.05.2024_02","ЦСП-1 3200х1200х12мм","м2",110,{"$f":"G80/E80","v":0},0,{"$f":"I80/E80","v":718.95},79084.17,79084.17]
["19","ТЕР12-01-002-09","Устройство кровель плоских из наплавляемых материалов: в два слоя","100 м2 кровли",0.55000000000000004,{"$f":"G81/E81","v":34051.75},18728.46,{"$f":"I81/E81","v":1972},1084.5999999999999,19813.060000000001]
[null,"101-2278","Пропан-бутан, смесь техническая","кг",null,null,null,null,null,0]
["20","ТССЦ-101-4702","Техноэласт: ЭПП","м2",63.8,{"$f":"G83/E83","v":0},0,{"$f":"I83/E83","v":277.92},17731.48,17731.48]
["21","ТССЦ-101-4724","Техноэласт: Пламя-Стоп ЭКП","м2",62.7,{"$f":"G84/E84","v":0},0,{"$f":"I84/E84","v":327.32},20522.72,20522.72]
["22","ТЕР12-01-004-05","Устройство примыканий кровель из наплавляемых материалов к стенам и парапетам высотой: более 600 мм с одним фартуком","100 м примыканий",0.32,{"$f":"G85/E85","v":119607.25},38274.32,{"$f":"I85/E85","v":37795.03},12094.41,50368.73]
[null,"101-0142","Дюбели с калиброванной головкой (в обоймах) с цинковым хроматированным покрытием: 3х58,5 мм","т",null,null,null,null,null,0]
[null,"101-0618","Мастика тиоколовая строительного назначения, марки: АМ-0,5","кг",null,null,null,null,null,0]
[null,"101-1680","Патроны для строительно-монтажного пистолета","1000 шт.",null,null,null,null,null,0]
[null,"101-1755","Сталь полосовая, марка стали: Ст3сп шириной 50-200 мм толщиной 4-5 мм","т",null,null,null,null,null,0]
[null,"101-1875","Сталь листовая оцинкованная толщиной листа: 0,7 мм","т",null,null,null,null,null,0]
[null,"101-2278","Пропан-бутан, смесь техническая","кг",null,null,null,null,null,0]
[null,"402-0004","Раствор готовый кладочный цементный марки: 100","м3",null,null,null,null,null,0]
["23","ТССЦ-101-4724","Техноэласт: Пламя-Стоп ЭКП","м2",60.48,{"$f":"G93/E93","v":0},0,{"$f":"I93/E93","v":327.31},19795.82,19795.82]
["24","ТЕР12-01-010-01","Устройство мелких покрытий (брандмауэры, парапеты, свесы и т.п.) из листовой оцинкованной стали","100 м2 покрытия",0.16,{"$f":"G94/E94","v":234069.81},37451.17,{"$f":"I94/E94","v":96734.5},15477.52,52928.69]
[null,"101-0195","Гвозди толевые круглые: 3,0х40 мм","т",null,null,null,null,null,0]
[null,"101-0795","Проволока канатная оцинкованная, диаметром: 3 мм","т",null,null,null,null,null,0]
[null,"101-1875","Сталь листовая оцинкованная толщиной листа: 0,7 мм","т",null,null,null,null,null,0]
["25","ТЕР12-01-012-01","Ограждение кровель перилами // прим. устройство  труб водосточных","100 м",0.15,{"$f":"G98/E98","v":16118.2},2417.73,{"$f":"I98/E98","v":402.27},60.34,2478.0700000000002]
[null,"101-1529","Электроды диаметром: 6 мм Э42","т",null,null,null,null,null,0]
[null,"101-1851","Резина прессованная","кг",null,null,null,null,null,0]
["26","ТЦ_08.1.02.22_77_7724464867_06.05.2024_02","Труба водосточная  Д.150х2000мм","шт",8,{"$f":"G101/E101","v":0},0,{"$f":"I101/E101","v":1383.59},11068.71,11068.71]
["27","ТЕР16-07-002-01","Установка воронок водосточных","1 воронка",2,{"$f":"G102/E102","v":7982.98},15965.95,{"$f":"I102/E102","v":54.59},109.18,16075.13]
[null,"101-0311","Каболка","т",null,null,null,null,null,0]
[null,"101-1355","Цемент гипсоглиноземистый расширяющийся","т",null,null,null,null,null,0]
[null,"101-1522","Электроды диаметром: 5 мм Э42А","т",null,null,null,null,null,0]
["28","ТЦ_08.1.02.01_77_7702521529_06.05.2024_01","Воронка парапетная кровельная д.110мм.","шт",2,{"$f":"G106/E106","v":0},0,{"$f":"I106/E106","v":1465.3},2930.59,2930.59]
["Раздел 3. Отделочные работы  ( ведомость отделки помещений лист.2)"]
["Потолки"]
["29","ТЕР15-04-007-02","Окраска водно-дисперсионными акриловыми составами улучшенная: по штукатурке потолков","100 м2 окрашиваемой поверхности",1.1000000000000001,{"$f":"G109/E109","v":125371.36},137908.5,{"$f":"I109/E109","v":12802.38},14082.62,151991.12]
[null,"101-1596","Шкурка шлифовальная двухслойная с зернистостью 40-25","м2",null,null,null,null,null,0]
[null,"101-1757","Ветошь","кг",null,null,null,null,null,0]
[null,"101-3512","Краска акриловая: ВД-АК 2180, ВГТ","т",null,null,null,null,null,0]
[null,"101-3585","Шпатлевка водно-дисперсионная","т",null,null,null,null,null,0]
[null,"101-4163","Грунтовка акриловая: НОРТЕКС-ГРУНТ","кг",null,null,null,null,null,0]
["Стены"]
["30","ТЕР15-04-007-05","Окраска водно-дисперсионными акриловыми составами высококачественная: по штукатурке стен // прим.","100 м2 окрашиваемой поверхности",2.3050000000000002,{"$f":"G116/E116","v":128106.52},295285.52,{"$f":"I116/E116","v":15376.51},35442.85,330728.37]
[null,"101-1596","Шкурка шлифовальная двухслойная с зернистостью 40-25","м2",null,null,null,null,null,0]
[null,"101-1757","Ветошь","кг",null,null,null,null,null,0]
[null,"101-3512","Краска акриловая: ВД-АК 2180, ВГТ","т",null,null,null,null,null,0]
[null,"101-3585","Шпатлевка водно-дисперсионная","т",null,null,null,null,null,0]
[null,"101-4163","Грунтовка акриловая: НОРТЕКС-ГРУНТ","кг",null,null,null,null,null,0]
["Раздел 4. Полы"]
["Тип 1  S=110м2"]
["31","ТЕР11-01-011-03","Устройство стяжек: бетонных толщиной 20 мм","100 м2 стяжки",1.1000000000000001,{"$f":"G124/E124","v":83767.23},92143.95,{"$f":"I124/E124","v":94.03},103.43,92247.38]
[null,"411-0001","Вода","м3",null,null,null,null,null,0]
["32","ТЕР11-01-011-04","Устройство стяжек: на каждые 5 мм изменения толщины стяжки добавлять или исключать к расценке 11-01-011-03 // толщ. 30 мм.","100 м2 стяжки",1.1000000000000001,{"$f":"G126/E126","v":3227.04},3549.74,{"$f":"I126/E126","v":0},0,3549.74]
["33","ТЦ_59.1.04.01_47_4705078395_06.05.2024_02","Бетон В22,5","м2",3.3660000000000001,{"$f":"G127/E127","v":0},0,{"$f":"I127/E127","v":5189.72},17468.59,17468.59]
["34","ТЕР11-01-020-03","Устройство покрытий поливинилацетатных: толщиной 3 мм // прим.","100 м2 покрытия",1.1000000000000001,{"$f":"G128/E128","v":180029.94},198032.93,{"$f":"I128/E128","v":147312.89000000001},162044.18,360077.11]
[null,"101-0430","Краски масляные и алкидные земляные, готовые к применению: сурик железный МА-15, ПФ-14","т",null,null,null,null,null,0]
[null,"101-0433","Краски масляные и алкидные земляные, готовые к применению: охра МА-15","т",null,null,null,null,null,0]
[null,"101-1305","Портландцемент общестроительного назначения бездобавочный, марки: 400","т",null,null,null,null,null,0]
[null,"101-1591","Смола каменноугольная для дорожного строительства","т",null,null,null,null,null,0]
[null,"101-2293","Кислота ортофосфорная: техническая, сорт I","т",null,null,null,null,null,0]
[null,"101-2358","Дисперсия поливинилацетатная непластифицированная марки Д50Н","кг",null,null,null,null,null,0]
[null,"113-0306","Маршалит","т",null,null,null,null,null,0]
[null,"408-0122","Песок природный для строительных: работ средний","м3",null,null,null,null,null,0]
[null,"411-0001","Вода","м3",null,null,null,null,null,0]
["Раздел 5. Дверные проемы"]
["35","ТЕР09-04-012-01","Установка металлических дверных блоков в готовые проемы","1 м2 проема",8.4,{"$f":"G139/E139","v":6002.78},50423.32,{"$f":"I139/E139","v":327.84},2753.89,53177.21]
[null,"101-1513","Электроды диаметром: 4 мм Э42","т",null,null,null,null,null,{"$f":"G140+I140","v":0}]
[null,"101-1921","Пена монтажная: для герметизации стыков в баллончике емкостью 0,85 л","шт.",null,null,null,null,null,0]
[null,"204-0062","Детали закладные и накладные изготовленные: без применения сварки, гнутья, сверления (пробивки) отверстий поставляемые отдельно","т",null,null,null,null,null,0]
["36","ТЦ_07.1.01.03_36_3665148789_06.05.2024_02","Дверной блок металлический однопольный 1000х2100мм утепленный(правого, левого открывания)","шт",4,{"$f":"G143/E143","v":0},0,{"$f":"I143/E143","v":13981.34},55925.35,55925.35]
["37","ТССЦ-101-6976","Замок электромагнитный универсальный сдвиговый AL-400S// прим.","шт.",4,{"$f":"G144/E144","v":0},0,{"$f":"I144/E144","v":14109.19},56436.77,56436.77]
["38","ТЕР09-04-012-02","Установка дверного доводчика к металлическим дверям","1 шт.",4,{"$f":"G145/E145","v":2614.54},10458.17,{"$f":"I145/E145","v":10.78},43.1,10501.27]
[null,"101-1513","Электроды диаметром: 4 мм Э42","т",null,null,null,null,null,0]
[null,"101-1845","Винты самонарезающие: с уплотнительной прокладкой 4,8х35 мм","100 шт.",null,null,null,null,null,0]
["39","ТССЦ-101-0961","Закрыватель дверной гидравлический рычажный в алюминиевом корпусе","шт.",4,{"$f":"G148/E148","v":0},0,{"$f":"I148/E148","v":4747.12},18988.48,18988.48]
["40","ТЕР15-01-070-02","Облицовка: дверных проемов в наружных стенах откосной планкой из оцинкованной стали с полимерным покрытием с установкой наличников из оцинкованной стали с полимерным покрытием","1 м2 проемов",8.4,{"$f":"G149/E149","v":3593.8},30187.91,{"$f":"I149/E149","v":1693.95},14229.15,44417.06]
[null,"101-1691","Шурупы-саморезы 4,2х16 мм","100 шт.",null,null,null,null,null,0]
[null,"101-2409","Аквилон из оцинкованной стали с полимерным покрытием","п.м",null,null,null,null,null,0]
[null,"101-2410","Откосная планка шириной 250 мм из оцинкованной стали с полимерным покрытием","п.м",null,null,null,null,null,0]
[null,"101-2412","Наличники из оцинкованной стали с полимерным покрытием","п.м",null,null,null,null,null,0]
["Раздел 6. Оконные проемы"]
["41","ТЕР10-01-034-03","Установка в жилых и общественных зданиях оконных блоков из ПВХ профилей: поворотных (откидных, поворотно-откидных) с площадью проема до 2 м2 одностворчатых","100 м2 проемов",0.03,{"$f":"G155/E155","v":468415},14052.45,{"$f":"I155/E155","v":156154.32999999999},4684.63,18737.080000000002]
[null,"101-2052","Лента бутиловая","м",null,null,null,null,null,0]
[null,"101-2054","Лента бутиловая диффузионная","м",null,null,null,null,null,0]
[null,"101-2388","Герметик пенополиуретановый (пена монтажная) типа Makrofleks, Soudal в баллонах по 750 мл","шт.",null,null,null,null,null,0]
[null,"101-2789","Лента ПСУЛ","10 м",null,null,null,null,null,0]
[null,"101-4173","Дюбели монтажные 10х130 (10х132, 10х150) мм","10 шт.",null,null,null,null,null,0]
[null,"102-0303","Клинья пластиковые монтажные","100 шт.",null,null,null,null,null,0]
["42","ТЦ_11.3.02.00_78_780205142430_06.05.2024_02","ОК-1. Оконный блок из ПВХ профилей с поворотно-откидными створками и однокамерным стеклопакетом  600х1000мм","шт",5,{"$f":"G162/E162","v":0},0,{"$f":"I162/E162","v":7226.48},36132.400000000001,36132.400000000001]
["43","ТЕР15-01-070-01","Облицовка: оконных проемов в наружных стенах откосной планкой из оцинкованной стали с полимерным покрытием с устройством водоотлива оконного из оцинкованной стали с полимерным покрытием","1 м2 проемов",3,{"$f":"G163/E163","v":3276.8},9830.39,{"$f":"I163/E163","v":1424.11},4272.34,14102.73]
[null,"101-1691","Шурупы-саморезы 4,2х16 мм","100 шт.",null,null,null,null,null,0]
[null,"101-2409","Аквилон из оцинкованной стали с полимерным покрытием","п.м",null,null,null,null,null,0]
[null,"101-2410","Откосная планка шириной 250 мм из оцинкованной стали с полимерным покрытием","п.м",null,null,null,null,null,0]
[null,"101-2411","Водоотлив оконный шириной планки 250 мм из оцинкованной стали с полимерным покрытием","п.м",null,null,null,null,null,0]
["Раздел 7. Отмостка"]
["44","ТЕР27-04-001-04","Устройство подстилающих и выравнивающих слоев оснований: из щебня","100 м3 материала основания (в плотном теле)",3.3599999999999998E-2,{"$f":"G169/E169","v":206206.55},6928.54,{"$f":"I169/E169","v":213.69},7.18,6935.72]
[null,"411-0001","Вода","м3",null,null,null,null,null,0]
["45","ТЦ_02.2.01.03_78_7811628889_07.05.2024_02","Щебень фр.20-40","м3",3.6960000000000002,{"$f":"G171/E171","v":0},0,{"$f":"I171/E171","v":3663.31},13539.6,13539.6]
["46","ТЕР11-01-002-09","Устройство подстилающих слоев: бетонных","1 м3 подстилающего слоя",2.016,{"$f":"G172/E172","v":7750.02},15624.05,{"$f":"I172/E172","v":86.93},175.26,15799.31]
[null,"101-0595","Мастика битумно-латексная кровельная","т",null,null,null,null,null,0]
[null,"102-0138","Доски необрезные хвойных пород длиной: 2-3,75 м, все ширины, толщиной 32-40 мм, IV сорта","м3",null,null,null,null,null,0]
[null,"411-0001","Вода","м3",null,null,null,null,null,0]
["47","ТЦ_04.1.02.00_47_4705078395_07.05.2024_02","Бетон В15 F75","м3",3.6960000000000002,{"$f":"G176/E176","v":0},0,{"$f":"I176/E176","v":4823.13},17826.3,17826.3]
["48","ТЕР06-01-015-10","Армирование подстилающих слоев и набетонок","1 т",0.1166,{"$f":"G177/E177","v":27708.66},3230.83,{"$f":"I177/E177","v":3006.17},350.52,3581.35]
[null,"101-0816","Проволока светлая диаметром: 1,1 мм","т",null,null,null,null,null,0]
["49","ТЦ_08.4.02.05_78_7816587756_07.05.2024_02","Сетка арм. 100х100 6 Вр1","м2",33.6,{"$f":"G179/E179","v":0},0,{"$f":"I179/E179","v":360.17},12101.6,12101.6]
["50","ТЕР11-01-009-01","Устройство тепло- и звукоизоляции сплошной из плит: или матов минераловатных или стекловолокнистых","100 м2 изолируемой поверхности",0.33600000000000002,{"$f":"G180/E180","v":67013.899999999994},22516.67,{"$f":"I180/E180","v":0},0,22516.67]
["51","ТЦ_12.2.03.00_77_7733669490_07.05.2024_02","Пеноплэкс 31С   50 мм","м2",34.607999999999997,{"$f":"G181/E181","v":0},0,{"$f":"I181/E181","v":593.16999999999996},20528.47,20528.47]
["52","ТЕР27-07-001-01","Устройство асфальтобетонных покрытий дорожек и тротуаров однослойных из литой мелкозернистой асфальтобетонной смеси толщиной 3 см","100 м2 покрытия",0.33600000000000002,{"$f":"G182/E182","v":38385.269999999997},12897.45,{"$f":"I182/E182","v":36897.410000000003},12397.53,25294.98]
[null,"101-1561","Битумы нефтяные дорожные жидкие, класс: МГ, СГ","т",null,null,null,null,null,0]
[null,"408-0122","Песок природный для строительных: работ средний","м3",null,null,null,null,null,0]
[null,"410-0054","Асфальт литой: для покрытий тротуаров тип II (жесткий)","т",null,null,null,null,null,0]
["53","ТЕР27-07-001-02","На каждые 0,5 см изменения толщины покрытия добавлять к  расценке 27-07-001-01 // до толщины 2,5 см.","100 м2 покрытия",-0.33600000000000002,{"$f":"G186/E186","v":5857.41},-1968.09,{"$f":"I186/E186","v":5985.68},-2011.19,-3979.28]
[null,null,"Всего, руб. с НДС",null,null,null,{"$f":"SUM(G13:G186)","v":3603546.74},null,{"$f":"SUM(I13:I186)","v":1697215.99},{"$f":"SUM(J13:J186)","v":5300762.7300000004}]
[null,null,"Всего, руб. без НДС",null,null,null,{"$f":"G187/1.2","v":3002955.62},null,{"$f":"I187/1.2","v":1414346.66},{"$f":"J187/1.2","v":4417302.28}]